BEGIN:VCALENDAR
VERSION:2.0
PRODID:-// - ECPv6.15.20//NONSGML v1.0//EN
CALSCALE:GREGORIAN
METHOD:PUBLISH
X-ORIGINAL-URL:https://glenwoodlibrary.com
X-WR-CALDESC:Events for 
REFRESH-INTERVAL;VALUE=DURATION:PT1H
X-Robots-Tag:noindex
X-PUBLISHED-TTL:PT1H
BEGIN:VTIMEZONE
TZID:America/Denver
BEGIN:DAYLIGHT
TZOFFSETFROM:-0700
TZOFFSETTO:-0600
TZNAME:MDT
DTSTART:20250309T090000
END:DAYLIGHT
BEGIN:STANDARD
TZOFFSETFROM:-0600
TZOFFSETTO:-0700
TZNAME:MST
DTSTART:20251102T080000
END:STANDARD
BEGIN:DAYLIGHT
TZOFFSETFROM:-0700
TZOFFSETTO:-0600
TZNAME:MDT
DTSTART:20260308T090000
END:DAYLIGHT
BEGIN:STANDARD
TZOFFSETFROM:-0600
TZOFFSETTO:-0700
TZNAME:MST
DTSTART:20261101T080000
END:STANDARD
BEGIN:DAYLIGHT
TZOFFSETFROM:-0700
TZOFFSETTO:-0600
TZNAME:MDT
DTSTART:20270314T090000
END:DAYLIGHT
BEGIN:STANDARD
TZOFFSETFROM:-0600
TZOFFSETTO:-0700
TZNAME:MST
DTSTART:20271107T080000
END:STANDARD
END:VTIMEZONE
BEGIN:VEVENT
DTSTART;TZID=America/Denver:20260418T110000
DTEND;TZID=America/Denver:20260418T130000
DTSTAMP:20260422T061713
CREATED:20260403T221144Z
LAST-MODIFIED:20260403T221144Z
UID:10007799-1776510000-1776517200@glenwoodlibrary.com
SUMMARY:Valley Pet Food Pantry
DESCRIPTION:See full schedule here
URL:https://glenwoodlibrary.com/event/valley-pet-food-pantry/2026-04-18/
LOCATION:Valley Pet Food Pantry\, 19 Racetrack Road\, Arenas Valley\, NM\, 88061\, United States
CATEGORIES:Animals,Club / Organization,Health / Wellbeing
ATTACH;FMTTYPE=image/jpeg:https://glenwoodlibrary.com/wp-content/uploads/2026/04/valley-pet-food-pantry.jpg
END:VEVENT
BEGIN:VEVENT
DTSTART;TZID=America/Denver:20260418T133000
DTEND;TZID=America/Denver:20260418T170000
DTSTAMP:20260422T061713
CREATED:20260401T165626Z
LAST-MODIFIED:20260401T165626Z
UID:10006038-1776519000-1776531600@glenwoodlibrary.com
SUMMARY:San Francisco Valley 4H Shot Clinic
DESCRIPTION:Alma 1:30-3:30\nGlenwood 3:30-5:00 \nSee flyer for costs.
URL:https://glenwoodlibrary.com/event/san-francisco-valley-4h-shot-clinic/
LOCATION:Glenwood Senior Center\, 5108 Hwy 180 W\, Glenwood\, NM\, 88039
CATEGORIES:Animals,Community Service,Youth
ATTACH;FMTTYPE=image/png:https://glenwoodlibrary.com/wp-content/uploads/2026/04/shot-clinic-apr2026.png
END:VEVENT
END:VCALENDAR