BEGIN:VCALENDAR
VERSION:2.0
PRODID:-// - ECPv6.15.20//NONSGML v1.0//EN
CALSCALE:GREGORIAN
METHOD:PUBLISH
X-ORIGINAL-URL:https://glenwoodlibrary.com
X-WR-CALDESC:Events for 
REFRESH-INTERVAL;VALUE=DURATION:PT1H
X-Robots-Tag:noindex
X-PUBLISHED-TTL:PT1H
BEGIN:VTIMEZONE
TZID:America/Denver
BEGIN:DAYLIGHT
TZOFFSETFROM:-0700
TZOFFSETTO:-0600
TZNAME:MDT
DTSTART:20250309T090000
END:DAYLIGHT
BEGIN:STANDARD
TZOFFSETFROM:-0600
TZOFFSETTO:-0700
TZNAME:MST
DTSTART:20251102T080000
END:STANDARD
BEGIN:DAYLIGHT
TZOFFSETFROM:-0700
TZOFFSETTO:-0600
TZNAME:MDT
DTSTART:20260308T090000
END:DAYLIGHT
BEGIN:STANDARD
TZOFFSETFROM:-0600
TZOFFSETTO:-0700
TZNAME:MST
DTSTART:20261101T080000
END:STANDARD
BEGIN:DAYLIGHT
TZOFFSETFROM:-0700
TZOFFSETTO:-0600
TZNAME:MDT
DTSTART:20270314T090000
END:DAYLIGHT
BEGIN:STANDARD
TZOFFSETFROM:-0600
TZOFFSETTO:-0700
TZNAME:MST
DTSTART:20271107T080000
END:STANDARD
END:VTIMEZONE
BEGIN:VEVENT
DTSTART;TZID=America/Denver:20260304T103000
DTEND;TZID=America/Denver:20260304T120000
DTSTAMP:20260422T143332
CREATED:20251103T151348Z
LAST-MODIFIED:20251103T151348Z
UID:10005506-1772620200-1772625600@glenwoodlibrary.com
SUMMARY:GCL Book Club
DESCRIPTION:
URL:https://glenwoodlibrary.com/event/gcl-book-club/2026-03-04/
LOCATION:Glenwood Community Library\, 14 Menges Lane\, Glenwood\, NM\, 88039\, United States
CATEGORIES:Art / Literature,Education,Meeting
ATTACH;FMTTYPE=image/jpeg:https://glenwoodlibrary.com/wp-content/uploads/2025/11/gcl-book-club.jpg
END:VEVENT
BEGIN:VEVENT
DTSTART;TZID=America/Denver:20260306T170000
DTEND;TZID=America/Denver:20260306T190000
DTSTAMP:20260422T143332
CREATED:20240618T004127Z
LAST-MODIFIED:20240618T004127Z
UID:10002267-1772816400-1772823600@glenwoodlibrary.com
SUMMARY:Silver City First Fridays
DESCRIPTION:
URL:https://glenwoodlibrary.com/event/silver-city-first-fridays/2026-03-06/
LOCATION:Silver City\, Silver City\, NM\, 88061
CATEGORIES:Art / Literature
ATTACH;FMTTYPE=image/jpeg:https://glenwoodlibrary.com/wp-content/uploads/2024/06/sc-first-fridays-2024.jpeg
END:VEVENT
BEGIN:VEVENT
DTSTART;TZID=America/Denver:20260312T120000
DTEND;TZID=America/Denver:20260312T150000
DTSTAMP:20260422T143332
CREATED:20240205T224311Z
LAST-MODIFIED:20240205T224953Z
UID:10001456-1773316800-1773327600@glenwoodlibrary.com
SUMMARY:Open Studio GCAG
DESCRIPTION:Grant County Art Guild\n200 West Market Street\nSilver City  NM  88061 \nGCAG Gallery\n316 N Bullard Street\nSilver City  NM  88061
URL:https://glenwoodlibrary.com/event/open-studio/2026-03-12/
LOCATION:Silver City\, Silver City\, NM\, 88061
CATEGORIES:Art / Literature
ATTACH;FMTTYPE=image/jpeg:https://glenwoodlibrary.com/wp-content/uploads/2024/02/gcag-gallery.jpg
ORGANIZER;CN="Grant County Art Guild":MAILTO:studio@gcag.org
END:VEVENT
BEGIN:VEVENT
DTSTART;TZID=America/Denver:20260321T130000
DTEND;TZID=America/Denver:20260321T160000
DTSTAMP:20260422T143332
CREATED:20260101T173915Z
LAST-MODIFIED:20260101T173915Z
UID:10005703-1774098000-1774108800@glenwoodlibrary.com
SUMMARY:Felting Workshop - First Class
DESCRIPTION:
URL:https://glenwoodlibrary.com/event/felting-workshop-first-class/
LOCATION:Glenwood Community Center\, 21 Menges Lane\, Glenwood\, NM\, 88039\, United States
CATEGORIES:Art / Literature,Class / Instruction
ATTACH;FMTTYPE=image/jpeg:https://glenwoodlibrary.com/wp-content/uploads/2026/01/felting-workshop-poster-mar2026.jpg
ORGANIZER;CN="Glenwood Community Library":MAILTO:glenwoodlibrarynm@gmail.com
END:VEVENT
BEGIN:VEVENT
DTSTART;TZID=America/Denver:20260326T120000
DTEND;TZID=America/Denver:20260326T150000
DTSTAMP:20260422T143332
CREATED:20240205T224754Z
LAST-MODIFIED:20240205T224855Z
UID:10001559-1774526400-1774537200@glenwoodlibrary.com
SUMMARY:GCAG Open Studio
DESCRIPTION:Grant County Art Guild\n200 West Market Street\nSilver City  NM  88061 \nGCAG Gallery\n316 N Bullard Street\nSilver City  NM  88061
URL:https://glenwoodlibrary.com/event/open-studio-2/2026-03-26/
LOCATION:Silver City\, Silver City\, NM\, 88061
CATEGORIES:Art / Literature
ATTACH;FMTTYPE=image/jpeg:https://glenwoodlibrary.com/wp-content/uploads/2024/02/gcag-gallery.jpg
ORGANIZER;CN="Grant County Art Guild":MAILTO:studio@gcag.org
END:VEVENT
BEGIN:VEVENT
DTSTART;TZID=America/Denver:20260328T130000
DTEND;TZID=America/Denver:20260328T160000
DTSTAMP:20260422T143332
CREATED:20260101T174017Z
LAST-MODIFIED:20260101T174017Z
UID:10005704-1774702800-1774713600@glenwoodlibrary.com
SUMMARY:Felting Workshop - Second Class
DESCRIPTION:
URL:https://glenwoodlibrary.com/event/felting-workshop-second-class/
LOCATION:Glenwood Community Center\, 21 Menges Lane\, Glenwood\, NM\, 88039\, United States
CATEGORIES:Art / Literature,Class / Instruction
ATTACH;FMTTYPE=image/jpeg:https://glenwoodlibrary.com/wp-content/uploads/2026/01/felting-workshop-poster-mar2026.jpg
ORGANIZER;CN="Glenwood Community Library":MAILTO:glenwoodlibrarynm@gmail.com
END:VEVENT
BEGIN:VEVENT
DTSTART;TZID=America/Denver:20260328T140000
DTEND;TZID=America/Denver:20260328T160000
DTSTAMP:20260422T143332
CREATED:20260403T212259Z
LAST-MODIFIED:20260403T212259Z
UID:10007788-1774706400-1774713600@glenwoodlibrary.com
SUMMARY:Making Yucca Cordage
DESCRIPTION:
URL:https://glenwoodlibrary.com/event/making-yucca-cordage/
LOCATION:Gila Valley Library\, 411 Highway 211\, Gila\, NM\, 88038
CATEGORIES:Art / Literature,Class / Instruction
ATTACH;FMTTYPE=image/jpeg:https://glenwoodlibrary.com/wp-content/uploads/2026/04/yucca-weaving-mar2026.jpg
END:VEVENT
BEGIN:VEVENT
DTSTART;TZID=America/Denver:20260329T140000
DTEND;TZID=America/Denver:20260329T160000
DTSTAMP:20260422T143332
CREATED:20260403T212355Z
LAST-MODIFIED:20260403T212355Z
UID:10007789-1774792800-1774800000@glenwoodlibrary.com
SUMMARY:Weaving Yucca Netted Bag
DESCRIPTION:
URL:https://glenwoodlibrary.com/event/weaving-yucca-netted-bag/
LOCATION:Gila Valley Library\, 411 Highway 211\, Gila\, NM\, 88038
CATEGORIES:Art / Literature,Class / Instruction
ATTACH;FMTTYPE=image/jpeg:https://glenwoodlibrary.com/wp-content/uploads/2026/04/yucca-weaving-mar2026.jpg
END:VEVENT
END:VCALENDAR