BEGIN:VCALENDAR
VERSION:2.0
PRODID:-// - ECPv6.15.20//NONSGML v1.0//EN
CALSCALE:GREGORIAN
METHOD:PUBLISH
X-ORIGINAL-URL:https://glenwoodlibrary.com
X-WR-CALDESC:Events for 
REFRESH-INTERVAL;VALUE=DURATION:PT1H
X-Robots-Tag:noindex
X-PUBLISHED-TTL:PT1H
BEGIN:VTIMEZONE
TZID:America/Denver
BEGIN:DAYLIGHT
TZOFFSETFROM:-0700
TZOFFSETTO:-0600
TZNAME:MDT
DTSTART:20250309T090000
END:DAYLIGHT
BEGIN:STANDARD
TZOFFSETFROM:-0600
TZOFFSETTO:-0700
TZNAME:MST
DTSTART:20251102T080000
END:STANDARD
BEGIN:DAYLIGHT
TZOFFSETFROM:-0700
TZOFFSETTO:-0600
TZNAME:MDT
DTSTART:20260308T090000
END:DAYLIGHT
BEGIN:STANDARD
TZOFFSETFROM:-0600
TZOFFSETTO:-0700
TZNAME:MST
DTSTART:20261101T080000
END:STANDARD
BEGIN:DAYLIGHT
TZOFFSETFROM:-0700
TZOFFSETTO:-0600
TZNAME:MDT
DTSTART:20270314T090000
END:DAYLIGHT
BEGIN:STANDARD
TZOFFSETFROM:-0600
TZOFFSETTO:-0700
TZNAME:MST
DTSTART:20271107T080000
END:STANDARD
END:VTIMEZONE
BEGIN:VEVENT
DTSTART;TZID=America/Denver:20260702T170000
DTEND;TZID=America/Denver:20260702T183000
DTSTAMP:20260422T135058
CREATED:20260403T202834Z
LAST-MODIFIED:20260403T203410Z
UID:10007492-1783011600-1783017000@glenwoodlibrary.com
SUMMARY:Kids for Christ
DESCRIPTION:
URL:https://glenwoodlibrary.com/event/kids-for-christ/2026-07-02/
LOCATION:Glenwood Community Church\, 5106 US-180\, Glenwood\, New Mexico\, 88039
CATEGORIES:Class / Instruction,Club / Organization,Community Service,Kids,Youth
ATTACH;FMTTYPE=image/jpeg:https://glenwoodlibrary.com/wp-content/uploads/2026/04/kids-for-christ.jpg
END:VEVENT
BEGIN:VEVENT
DTSTART;TZID=America/Denver:20260706T130000
DTEND;TZID=America/Denver:20260706T140000
DTSTAMP:20260422T135058
CREATED:20260205T234731Z
LAST-MODIFIED:20260205T234731Z
UID:10005754-1783342800-1783346400@glenwoodlibrary.com
SUMMARY:Zero Resistance Exercise Class
DESCRIPTION:
URL:https://glenwoodlibrary.com/event/zero-resistance-exercise-class/2026-07-06/
LOCATION:Glenwood Community Center\, 21 Menges Lane\, Glenwood\, NM\, 88039\, United States
CATEGORIES:Class / Instruction,Health / Wellbeing
ATTACH;FMTTYPE=image/png:https://glenwoodlibrary.com/wp-content/uploads/2026/02/zero-resistance.png
ORGANIZER;CN="Glenwood Community Library":MAILTO:glenwoodlibrarynm@gmail.com
END:VEVENT
BEGIN:VEVENT
DTSTART;TZID=America/Denver:20260706T150000
DTEND;TZID=America/Denver:20260706T163000
DTSTAMP:20260422T135058
CREATED:20260403T194651Z
LAST-MODIFIED:20260403T194651Z
UID:10006969-1783350000-1783355400@glenwoodlibrary.com
SUMMARY:Glenwood Yoga
DESCRIPTION:
URL:https://glenwoodlibrary.com/event/glenwood-yoga/2026-07-06/
LOCATION:Glenwood Community Center\, 21 Menges Lane\, Glenwood\, NM\, 88039\, United States
CATEGORIES:Class / Instruction,Health / Wellbeing
ATTACH;FMTTYPE=image/jpeg:https://glenwoodlibrary.com/wp-content/uploads/2026/04/glenwood-yoga.jpg
END:VEVENT
BEGIN:VEVENT
DTSTART;TZID=America/Denver:20260709T170000
DTEND;TZID=America/Denver:20260709T183000
DTSTAMP:20260422T135058
CREATED:20260403T194907Z
LAST-MODIFIED:20260403T194907Z
UID:10007231-1783616400-1783621800@glenwoodlibrary.com
SUMMARY:Glenwood Yoga
DESCRIPTION:
URL:https://glenwoodlibrary.com/event/glenwood-yoga-2/2026-07-09/
LOCATION:Glenwood Community Center\, 21 Menges Lane\, Glenwood\, NM\, 88039\, United States
CATEGORIES:Class / Instruction,Health / Wellbeing
ATTACH;FMTTYPE=image/jpeg:https://glenwoodlibrary.com/wp-content/uploads/2026/04/glenwood-yoga.jpg
END:VEVENT
BEGIN:VEVENT
DTSTART;TZID=America/Denver:20260709T170000
DTEND;TZID=America/Denver:20260709T183000
DTSTAMP:20260422T135058
CREATED:20260403T202834Z
LAST-MODIFIED:20260403T203410Z
UID:10007493-1783616400-1783621800@glenwoodlibrary.com
SUMMARY:Kids for Christ
DESCRIPTION:
URL:https://glenwoodlibrary.com/event/kids-for-christ/2026-07-09/
LOCATION:Glenwood Community Church\, 5106 US-180\, Glenwood\, New Mexico\, 88039
CATEGORIES:Class / Instruction,Club / Organization,Community Service,Kids,Youth
ATTACH;FMTTYPE=image/jpeg:https://glenwoodlibrary.com/wp-content/uploads/2026/04/kids-for-christ.jpg
END:VEVENT
BEGIN:VEVENT
DTSTART;TZID=America/Denver:20260713T130000
DTEND;TZID=America/Denver:20260713T140000
DTSTAMP:20260422T135058
CREATED:20260205T234731Z
LAST-MODIFIED:20260205T234731Z
UID:10005755-1783947600-1783951200@glenwoodlibrary.com
SUMMARY:Zero Resistance Exercise Class
DESCRIPTION:
URL:https://glenwoodlibrary.com/event/zero-resistance-exercise-class/2026-07-13/
LOCATION:Glenwood Community Center\, 21 Menges Lane\, Glenwood\, NM\, 88039\, United States
CATEGORIES:Class / Instruction,Health / Wellbeing
ATTACH;FMTTYPE=image/png:https://glenwoodlibrary.com/wp-content/uploads/2026/02/zero-resistance.png
ORGANIZER;CN="Glenwood Community Library":MAILTO:glenwoodlibrarynm@gmail.com
END:VEVENT
BEGIN:VEVENT
DTSTART;TZID=America/Denver:20260713T150000
DTEND;TZID=America/Denver:20260713T163000
DTSTAMP:20260422T135058
CREATED:20260403T194651Z
LAST-MODIFIED:20260403T194651Z
UID:10006970-1783954800-1783960200@glenwoodlibrary.com
SUMMARY:Glenwood Yoga
DESCRIPTION:
URL:https://glenwoodlibrary.com/event/glenwood-yoga/2026-07-13/
LOCATION:Glenwood Community Center\, 21 Menges Lane\, Glenwood\, NM\, 88039\, United States
CATEGORIES:Class / Instruction,Health / Wellbeing
ATTACH;FMTTYPE=image/jpeg:https://glenwoodlibrary.com/wp-content/uploads/2026/04/glenwood-yoga.jpg
END:VEVENT
BEGIN:VEVENT
DTSTART;TZID=America/Denver:20260716T170000
DTEND;TZID=America/Denver:20260716T183000
DTSTAMP:20260422T135058
CREATED:20260403T194907Z
LAST-MODIFIED:20260403T194907Z
UID:10007232-1784221200-1784226600@glenwoodlibrary.com
SUMMARY:Glenwood Yoga
DESCRIPTION:
URL:https://glenwoodlibrary.com/event/glenwood-yoga-2/2026-07-16/
LOCATION:Glenwood Community Center\, 21 Menges Lane\, Glenwood\, NM\, 88039\, United States
CATEGORIES:Class / Instruction,Health / Wellbeing
ATTACH;FMTTYPE=image/jpeg:https://glenwoodlibrary.com/wp-content/uploads/2026/04/glenwood-yoga.jpg
END:VEVENT
BEGIN:VEVENT
DTSTART;TZID=America/Denver:20260716T170000
DTEND;TZID=America/Denver:20260716T183000
DTSTAMP:20260422T135058
CREATED:20260403T202834Z
LAST-MODIFIED:20260403T203410Z
UID:10007494-1784221200-1784226600@glenwoodlibrary.com
SUMMARY:Kids for Christ
DESCRIPTION:
URL:https://glenwoodlibrary.com/event/kids-for-christ/2026-07-16/
LOCATION:Glenwood Community Church\, 5106 US-180\, Glenwood\, New Mexico\, 88039
CATEGORIES:Class / Instruction,Club / Organization,Community Service,Kids,Youth
ATTACH;FMTTYPE=image/jpeg:https://glenwoodlibrary.com/wp-content/uploads/2026/04/kids-for-christ.jpg
END:VEVENT
BEGIN:VEVENT
DTSTART;TZID=America/Denver:20260720T130000
DTEND;TZID=America/Denver:20260720T140000
DTSTAMP:20260422T135058
CREATED:20260205T234731Z
LAST-MODIFIED:20260205T234731Z
UID:10005756-1784552400-1784556000@glenwoodlibrary.com
SUMMARY:Zero Resistance Exercise Class
DESCRIPTION:
URL:https://glenwoodlibrary.com/event/zero-resistance-exercise-class/2026-07-20/
LOCATION:Glenwood Community Center\, 21 Menges Lane\, Glenwood\, NM\, 88039\, United States
CATEGORIES:Class / Instruction,Health / Wellbeing
ATTACH;FMTTYPE=image/png:https://glenwoodlibrary.com/wp-content/uploads/2026/02/zero-resistance.png
ORGANIZER;CN="Glenwood Community Library":MAILTO:glenwoodlibrarynm@gmail.com
END:VEVENT
BEGIN:VEVENT
DTSTART;TZID=America/Denver:20260720T150000
DTEND;TZID=America/Denver:20260720T163000
DTSTAMP:20260422T135058
CREATED:20260403T194651Z
LAST-MODIFIED:20260403T194651Z
UID:10006971-1784559600-1784565000@glenwoodlibrary.com
SUMMARY:Glenwood Yoga
DESCRIPTION:
URL:https://glenwoodlibrary.com/event/glenwood-yoga/2026-07-20/
LOCATION:Glenwood Community Center\, 21 Menges Lane\, Glenwood\, NM\, 88039\, United States
CATEGORIES:Class / Instruction,Health / Wellbeing
ATTACH;FMTTYPE=image/jpeg:https://glenwoodlibrary.com/wp-content/uploads/2026/04/glenwood-yoga.jpg
END:VEVENT
BEGIN:VEVENT
DTSTART;TZID=America/Denver:20260723T170000
DTEND;TZID=America/Denver:20260723T183000
DTSTAMP:20260422T135058
CREATED:20260403T194907Z
LAST-MODIFIED:20260403T194907Z
UID:10007233-1784826000-1784831400@glenwoodlibrary.com
SUMMARY:Glenwood Yoga
DESCRIPTION:
URL:https://glenwoodlibrary.com/event/glenwood-yoga-2/2026-07-23/
LOCATION:Glenwood Community Center\, 21 Menges Lane\, Glenwood\, NM\, 88039\, United States
CATEGORIES:Class / Instruction,Health / Wellbeing
ATTACH;FMTTYPE=image/jpeg:https://glenwoodlibrary.com/wp-content/uploads/2026/04/glenwood-yoga.jpg
END:VEVENT
BEGIN:VEVENT
DTSTART;TZID=America/Denver:20260723T170000
DTEND;TZID=America/Denver:20260723T183000
DTSTAMP:20260422T135058
CREATED:20260403T202834Z
LAST-MODIFIED:20260403T203410Z
UID:10007495-1784826000-1784831400@glenwoodlibrary.com
SUMMARY:Kids for Christ
DESCRIPTION:
URL:https://glenwoodlibrary.com/event/kids-for-christ/2026-07-23/
LOCATION:Glenwood Community Church\, 5106 US-180\, Glenwood\, New Mexico\, 88039
CATEGORIES:Class / Instruction,Club / Organization,Community Service,Kids,Youth
ATTACH;FMTTYPE=image/jpeg:https://glenwoodlibrary.com/wp-content/uploads/2026/04/kids-for-christ.jpg
END:VEVENT
BEGIN:VEVENT
DTSTART;TZID=America/Denver:20260727T130000
DTEND;TZID=America/Denver:20260727T140000
DTSTAMP:20260422T135058
CREATED:20260205T234731Z
LAST-MODIFIED:20260205T234731Z
UID:10005757-1785157200-1785160800@glenwoodlibrary.com
SUMMARY:Zero Resistance Exercise Class
DESCRIPTION:
URL:https://glenwoodlibrary.com/event/zero-resistance-exercise-class/2026-07-27/
LOCATION:Glenwood Community Center\, 21 Menges Lane\, Glenwood\, NM\, 88039\, United States
CATEGORIES:Class / Instruction,Health / Wellbeing
ATTACH;FMTTYPE=image/png:https://glenwoodlibrary.com/wp-content/uploads/2026/02/zero-resistance.png
ORGANIZER;CN="Glenwood Community Library":MAILTO:glenwoodlibrarynm@gmail.com
END:VEVENT
BEGIN:VEVENT
DTSTART;TZID=America/Denver:20260727T150000
DTEND;TZID=America/Denver:20260727T163000
DTSTAMP:20260422T135058
CREATED:20260403T194651Z
LAST-MODIFIED:20260403T194651Z
UID:10006972-1785164400-1785169800@glenwoodlibrary.com
SUMMARY:Glenwood Yoga
DESCRIPTION:
URL:https://glenwoodlibrary.com/event/glenwood-yoga/2026-07-27/
LOCATION:Glenwood Community Center\, 21 Menges Lane\, Glenwood\, NM\, 88039\, United States
CATEGORIES:Class / Instruction,Health / Wellbeing
ATTACH;FMTTYPE=image/jpeg:https://glenwoodlibrary.com/wp-content/uploads/2026/04/glenwood-yoga.jpg
END:VEVENT
BEGIN:VEVENT
DTSTART;TZID=America/Denver:20260730T170000
DTEND;TZID=America/Denver:20260730T183000
DTSTAMP:20260422T135058
CREATED:20260403T194907Z
LAST-MODIFIED:20260403T194907Z
UID:10007234-1785430800-1785436200@glenwoodlibrary.com
SUMMARY:Glenwood Yoga
DESCRIPTION:
URL:https://glenwoodlibrary.com/event/glenwood-yoga-2/2026-07-30/
LOCATION:Glenwood Community Center\, 21 Menges Lane\, Glenwood\, NM\, 88039\, United States
CATEGORIES:Class / Instruction,Health / Wellbeing
ATTACH;FMTTYPE=image/jpeg:https://glenwoodlibrary.com/wp-content/uploads/2026/04/glenwood-yoga.jpg
END:VEVENT
BEGIN:VEVENT
DTSTART;TZID=America/Denver:20260730T170000
DTEND;TZID=America/Denver:20260730T183000
DTSTAMP:20260422T135058
CREATED:20260403T202834Z
LAST-MODIFIED:20260403T203410Z
UID:10007496-1785430800-1785436200@glenwoodlibrary.com
SUMMARY:Kids for Christ
DESCRIPTION:
URL:https://glenwoodlibrary.com/event/kids-for-christ/2026-07-30/
LOCATION:Glenwood Community Church\, 5106 US-180\, Glenwood\, New Mexico\, 88039
CATEGORIES:Class / Instruction,Club / Organization,Community Service,Kids,Youth
ATTACH;FMTTYPE=image/jpeg:https://glenwoodlibrary.com/wp-content/uploads/2026/04/kids-for-christ.jpg
END:VEVENT
BEGIN:VEVENT
DTSTART;TZID=America/Denver:20260803T130000
DTEND;TZID=America/Denver:20260803T140000
DTSTAMP:20260422T135058
CREATED:20260205T234731Z
LAST-MODIFIED:20260205T234731Z
UID:10005758-1785762000-1785765600@glenwoodlibrary.com
SUMMARY:Zero Resistance Exercise Class
DESCRIPTION:
URL:https://glenwoodlibrary.com/event/zero-resistance-exercise-class/2026-08-03/
LOCATION:Glenwood Community Center\, 21 Menges Lane\, Glenwood\, NM\, 88039\, United States
CATEGORIES:Class / Instruction,Health / Wellbeing
ATTACH;FMTTYPE=image/png:https://glenwoodlibrary.com/wp-content/uploads/2026/02/zero-resistance.png
ORGANIZER;CN="Glenwood Community Library":MAILTO:glenwoodlibrarynm@gmail.com
END:VEVENT
BEGIN:VEVENT
DTSTART;TZID=America/Denver:20260803T150000
DTEND;TZID=America/Denver:20260803T163000
DTSTAMP:20260422T135058
CREATED:20260403T194651Z
LAST-MODIFIED:20260403T194651Z
UID:10006973-1785769200-1785774600@glenwoodlibrary.com
SUMMARY:Glenwood Yoga
DESCRIPTION:
URL:https://glenwoodlibrary.com/event/glenwood-yoga/2026-08-03/
LOCATION:Glenwood Community Center\, 21 Menges Lane\, Glenwood\, NM\, 88039\, United States
CATEGORIES:Class / Instruction,Health / Wellbeing
ATTACH;FMTTYPE=image/jpeg:https://glenwoodlibrary.com/wp-content/uploads/2026/04/glenwood-yoga.jpg
END:VEVENT
BEGIN:VEVENT
DTSTART;TZID=America/Denver:20260806T170000
DTEND;TZID=America/Denver:20260806T183000
DTSTAMP:20260422T135058
CREATED:20260403T194907Z
LAST-MODIFIED:20260403T194907Z
UID:10007235-1786035600-1786041000@glenwoodlibrary.com
SUMMARY:Glenwood Yoga
DESCRIPTION:
URL:https://glenwoodlibrary.com/event/glenwood-yoga-2/2026-08-06/
LOCATION:Glenwood Community Center\, 21 Menges Lane\, Glenwood\, NM\, 88039\, United States
CATEGORIES:Class / Instruction,Health / Wellbeing
ATTACH;FMTTYPE=image/jpeg:https://glenwoodlibrary.com/wp-content/uploads/2026/04/glenwood-yoga.jpg
END:VEVENT
BEGIN:VEVENT
DTSTART;TZID=America/Denver:20260806T170000
DTEND;TZID=America/Denver:20260806T183000
DTSTAMP:20260422T135058
CREATED:20260403T202834Z
LAST-MODIFIED:20260403T203410Z
UID:10007497-1786035600-1786041000@glenwoodlibrary.com
SUMMARY:Kids for Christ
DESCRIPTION:
URL:https://glenwoodlibrary.com/event/kids-for-christ/2026-08-06/
LOCATION:Glenwood Community Church\, 5106 US-180\, Glenwood\, New Mexico\, 88039
CATEGORIES:Class / Instruction,Club / Organization,Community Service,Kids,Youth
ATTACH;FMTTYPE=image/jpeg:https://glenwoodlibrary.com/wp-content/uploads/2026/04/kids-for-christ.jpg
END:VEVENT
BEGIN:VEVENT
DTSTART;TZID=America/Denver:20260810T130000
DTEND;TZID=America/Denver:20260810T140000
DTSTAMP:20260422T135058
CREATED:20260205T234731Z
LAST-MODIFIED:20260205T234731Z
UID:10005759-1786366800-1786370400@glenwoodlibrary.com
SUMMARY:Zero Resistance Exercise Class
DESCRIPTION:
URL:https://glenwoodlibrary.com/event/zero-resistance-exercise-class/2026-08-10/
LOCATION:Glenwood Community Center\, 21 Menges Lane\, Glenwood\, NM\, 88039\, United States
CATEGORIES:Class / Instruction,Health / Wellbeing
ATTACH;FMTTYPE=image/png:https://glenwoodlibrary.com/wp-content/uploads/2026/02/zero-resistance.png
ORGANIZER;CN="Glenwood Community Library":MAILTO:glenwoodlibrarynm@gmail.com
END:VEVENT
BEGIN:VEVENT
DTSTART;TZID=America/Denver:20260810T150000
DTEND;TZID=America/Denver:20260810T163000
DTSTAMP:20260422T135058
CREATED:20260403T194651Z
LAST-MODIFIED:20260403T194651Z
UID:10006974-1786374000-1786379400@glenwoodlibrary.com
SUMMARY:Glenwood Yoga
DESCRIPTION:
URL:https://glenwoodlibrary.com/event/glenwood-yoga/2026-08-10/
LOCATION:Glenwood Community Center\, 21 Menges Lane\, Glenwood\, NM\, 88039\, United States
CATEGORIES:Class / Instruction,Health / Wellbeing
ATTACH;FMTTYPE=image/jpeg:https://glenwoodlibrary.com/wp-content/uploads/2026/04/glenwood-yoga.jpg
END:VEVENT
BEGIN:VEVENT
DTSTART;TZID=America/Denver:20260813T170000
DTEND;TZID=America/Denver:20260813T183000
DTSTAMP:20260422T135058
CREATED:20260403T194907Z
LAST-MODIFIED:20260403T194907Z
UID:10007236-1786640400-1786645800@glenwoodlibrary.com
SUMMARY:Glenwood Yoga
DESCRIPTION:
URL:https://glenwoodlibrary.com/event/glenwood-yoga-2/2026-08-13/
LOCATION:Glenwood Community Center\, 21 Menges Lane\, Glenwood\, NM\, 88039\, United States
CATEGORIES:Class / Instruction,Health / Wellbeing
ATTACH;FMTTYPE=image/jpeg:https://glenwoodlibrary.com/wp-content/uploads/2026/04/glenwood-yoga.jpg
END:VEVENT
BEGIN:VEVENT
DTSTART;TZID=America/Denver:20260813T170000
DTEND;TZID=America/Denver:20260813T183000
DTSTAMP:20260422T135058
CREATED:20260403T202834Z
LAST-MODIFIED:20260403T203410Z
UID:10007498-1786640400-1786645800@glenwoodlibrary.com
SUMMARY:Kids for Christ
DESCRIPTION:
URL:https://glenwoodlibrary.com/event/kids-for-christ/2026-08-13/
LOCATION:Glenwood Community Church\, 5106 US-180\, Glenwood\, New Mexico\, 88039
CATEGORIES:Class / Instruction,Club / Organization,Community Service,Kids,Youth
ATTACH;FMTTYPE=image/jpeg:https://glenwoodlibrary.com/wp-content/uploads/2026/04/kids-for-christ.jpg
END:VEVENT
BEGIN:VEVENT
DTSTART;TZID=America/Denver:20260817T130000
DTEND;TZID=America/Denver:20260817T140000
DTSTAMP:20260422T135058
CREATED:20260205T234731Z
LAST-MODIFIED:20260205T234731Z
UID:10005760-1786971600-1786975200@glenwoodlibrary.com
SUMMARY:Zero Resistance Exercise Class
DESCRIPTION:
URL:https://glenwoodlibrary.com/event/zero-resistance-exercise-class/2026-08-17/
LOCATION:Glenwood Community Center\, 21 Menges Lane\, Glenwood\, NM\, 88039\, United States
CATEGORIES:Class / Instruction,Health / Wellbeing
ATTACH;FMTTYPE=image/png:https://glenwoodlibrary.com/wp-content/uploads/2026/02/zero-resistance.png
ORGANIZER;CN="Glenwood Community Library":MAILTO:glenwoodlibrarynm@gmail.com
END:VEVENT
BEGIN:VEVENT
DTSTART;TZID=America/Denver:20260817T150000
DTEND;TZID=America/Denver:20260817T163000
DTSTAMP:20260422T135058
CREATED:20260403T194651Z
LAST-MODIFIED:20260403T194651Z
UID:10006975-1786978800-1786984200@glenwoodlibrary.com
SUMMARY:Glenwood Yoga
DESCRIPTION:
URL:https://glenwoodlibrary.com/event/glenwood-yoga/2026-08-17/
LOCATION:Glenwood Community Center\, 21 Menges Lane\, Glenwood\, NM\, 88039\, United States
CATEGORIES:Class / Instruction,Health / Wellbeing
ATTACH;FMTTYPE=image/jpeg:https://glenwoodlibrary.com/wp-content/uploads/2026/04/glenwood-yoga.jpg
END:VEVENT
BEGIN:VEVENT
DTSTART;TZID=America/Denver:20260820T170000
DTEND;TZID=America/Denver:20260820T183000
DTSTAMP:20260422T135058
CREATED:20260403T194907Z
LAST-MODIFIED:20260403T194907Z
UID:10007237-1787245200-1787250600@glenwoodlibrary.com
SUMMARY:Glenwood Yoga
DESCRIPTION:
URL:https://glenwoodlibrary.com/event/glenwood-yoga-2/2026-08-20/
LOCATION:Glenwood Community Center\, 21 Menges Lane\, Glenwood\, NM\, 88039\, United States
CATEGORIES:Class / Instruction,Health / Wellbeing
ATTACH;FMTTYPE=image/jpeg:https://glenwoodlibrary.com/wp-content/uploads/2026/04/glenwood-yoga.jpg
END:VEVENT
BEGIN:VEVENT
DTSTART;TZID=America/Denver:20260820T170000
DTEND;TZID=America/Denver:20260820T183000
DTSTAMP:20260422T135058
CREATED:20260403T202834Z
LAST-MODIFIED:20260403T203410Z
UID:10007499-1787245200-1787250600@glenwoodlibrary.com
SUMMARY:Kids for Christ
DESCRIPTION:
URL:https://glenwoodlibrary.com/event/kids-for-christ/2026-08-20/
LOCATION:Glenwood Community Church\, 5106 US-180\, Glenwood\, New Mexico\, 88039
CATEGORIES:Class / Instruction,Club / Organization,Community Service,Kids,Youth
ATTACH;FMTTYPE=image/jpeg:https://glenwoodlibrary.com/wp-content/uploads/2026/04/kids-for-christ.jpg
END:VEVENT
BEGIN:VEVENT
DTSTART;TZID=America/Denver:20260824T130000
DTEND;TZID=America/Denver:20260824T140000
DTSTAMP:20260422T135058
CREATED:20260205T234731Z
LAST-MODIFIED:20260205T234731Z
UID:10005761-1787576400-1787580000@glenwoodlibrary.com
SUMMARY:Zero Resistance Exercise Class
DESCRIPTION:
URL:https://glenwoodlibrary.com/event/zero-resistance-exercise-class/2026-08-24/
LOCATION:Glenwood Community Center\, 21 Menges Lane\, Glenwood\, NM\, 88039\, United States
CATEGORIES:Class / Instruction,Health / Wellbeing
ATTACH;FMTTYPE=image/png:https://glenwoodlibrary.com/wp-content/uploads/2026/02/zero-resistance.png
ORGANIZER;CN="Glenwood Community Library":MAILTO:glenwoodlibrarynm@gmail.com
END:VEVENT
END:VCALENDAR