BEGIN:VCALENDAR
VERSION:2.0
PRODID:-// - ECPv6.15.20//NONSGML v1.0//EN
CALSCALE:GREGORIAN
METHOD:PUBLISH
X-ORIGINAL-URL:https://glenwoodlibrary.com
X-WR-CALDESC:Events for 
REFRESH-INTERVAL;VALUE=DURATION:PT1H
X-Robots-Tag:noindex
X-PUBLISHED-TTL:PT1H
BEGIN:VTIMEZONE
TZID:America/Denver
BEGIN:DAYLIGHT
TZOFFSETFROM:-0700
TZOFFSETTO:-0600
TZNAME:MDT
DTSTART:20240310T090000
END:DAYLIGHT
BEGIN:STANDARD
TZOFFSETFROM:-0600
TZOFFSETTO:-0700
TZNAME:MST
DTSTART:20241103T080000
END:STANDARD
BEGIN:DAYLIGHT
TZOFFSETFROM:-0700
TZOFFSETTO:-0600
TZNAME:MDT
DTSTART:20250309T090000
END:DAYLIGHT
BEGIN:STANDARD
TZOFFSETFROM:-0600
TZOFFSETTO:-0700
TZNAME:MST
DTSTART:20251102T080000
END:STANDARD
BEGIN:DAYLIGHT
TZOFFSETFROM:-0700
TZOFFSETTO:-0600
TZNAME:MDT
DTSTART:20260308T090000
END:DAYLIGHT
BEGIN:STANDARD
TZOFFSETFROM:-0600
TZOFFSETTO:-0700
TZNAME:MST
DTSTART:20261101T080000
END:STANDARD
END:VTIMEZONE
BEGIN:VEVENT
DTSTART;TZID=America/Denver:20251202T100000
DTEND;TZID=America/Denver:20251202T140000
DTSTAMP:20260421T073558
CREATED:20241006T051244Z
LAST-MODIFIED:20241006T051244Z
UID:10002747-1764669600-1764684000@glenwoodlibrary.com
SUMMARY:Choose Your Own Pantry
DESCRIPTION:
URL:https://glenwoodlibrary.com/event/choose-your-own-pantry/2025-12-02/
LOCATION:Silver City\, Silver City\, NM\, 88061
CATEGORIES:Community Service
ATTACH;FMTTYPE=image/jpeg:https://glenwoodlibrary.com/wp-content/uploads/2024/10/cyo-way-to-go.jpeg
ORGANIZER;CN="The Commons":MAILTO:info@thecommonsgrantcounty.org
END:VEVENT
BEGIN:VEVENT
DTSTART;TZID=America/Denver:20251203T140000
DTEND;TZID=America/Denver:20251203T180000
DTSTAMP:20260421T073558
CREATED:20241006T051503Z
LAST-MODIFIED:20241006T051503Z
UID:10003269-1764770400-1764784800@glenwoodlibrary.com
SUMMARY:Choose Your Own Pantry
DESCRIPTION:
URL:https://glenwoodlibrary.com/event/choose-your-own-pantry-2/2025-12-03/
LOCATION:Silver City\, Silver City\, NM\, 88061
CATEGORIES:Community Service
ATTACH;FMTTYPE=image/jpeg:https://glenwoodlibrary.com/wp-content/uploads/2024/10/cyo-way-to-go.jpeg
ORGANIZER;CN="The Commons":MAILTO:info@thecommonsgrantcounty.org
END:VEVENT
BEGIN:VEVENT
DTSTART;TZID=America/Denver:20251204T120000
DTEND;TZID=America/Denver:20251204T160000
DTSTAMP:20260421T073558
CREATED:20241006T051654Z
LAST-MODIFIED:20241006T051654Z
UID:10003791-1764849600-1764864000@glenwoodlibrary.com
SUMMARY:Choose Your Own Pantry
DESCRIPTION:
URL:https://glenwoodlibrary.com/event/choose-your-own-pantry-3/2025-12-04/
LOCATION:Silver City\, Silver City\, NM\, 88061
CATEGORIES:Community Service
ATTACH;FMTTYPE=image/jpeg:https://glenwoodlibrary.com/wp-content/uploads/2024/10/cyo-way-to-go.jpeg
ORGANIZER;CN="The Commons":MAILTO:info@thecommonsgrantcounty.org
END:VEVENT
BEGIN:VEVENT
DTSTART;TZID=America/Denver:20251205T080000
DTEND;TZID=America/Denver:20251205T170000
DTSTAMP:20260421T073558
CREATED:20240206T063337Z
LAST-MODIFIED:20240206T063337Z
UID:10001752-1764921600-1764954000@glenwoodlibrary.com
SUMMARY:Reserve Senior Food Bank
DESCRIPTION:Fairground Building
URL:https://glenwoodlibrary.com/event/reserve-senior-food-bank/2025-12-05/
LOCATION:Reserve\, Reserve\, NM\, 87830
CATEGORIES:Community Service
ATTACH;FMTTYPE=image/jpeg:https://glenwoodlibrary.com/wp-content/uploads/2024/01/food-program.jpg
END:VEVENT
BEGIN:VEVENT
DTSTART;TZID=America/Denver:20251209T100000
DTEND;TZID=America/Denver:20251209T140000
DTSTAMP:20260421T073558
CREATED:20241006T051244Z
LAST-MODIFIED:20241006T051244Z
UID:10002748-1765274400-1765288800@glenwoodlibrary.com
SUMMARY:Choose Your Own Pantry
DESCRIPTION:
URL:https://glenwoodlibrary.com/event/choose-your-own-pantry/2025-12-09/
LOCATION:Silver City\, Silver City\, NM\, 88061
CATEGORIES:Community Service
ATTACH;FMTTYPE=image/jpeg:https://glenwoodlibrary.com/wp-content/uploads/2024/10/cyo-way-to-go.jpeg
ORGANIZER;CN="The Commons":MAILTO:info@thecommonsgrantcounty.org
END:VEVENT
BEGIN:VEVENT
DTSTART;TZID=America/Denver:20251209T130000
DTEND;TZID=America/Denver:20251209T140000
DTSTAMP:20260421T073558
CREATED:20250214T080537Z
LAST-MODIFIED:20250214T080537Z
UID:10004488-1765285200-1765288800@glenwoodlibrary.com
SUMMARY:Glenwood Presbyterian Food Program
DESCRIPTION:
URL:https://glenwoodlibrary.com/event/glenwood-presbyterian-food-program-4/2025-12-09/
LOCATION:Glenwood Community Center\, 21 Menges Lane\, Glenwood\, NM\, 88039\, United States
CATEGORIES:Community Service
ATTACH;FMTTYPE=image/jpeg:https://glenwoodlibrary.com/wp-content/uploads/2024/01/food-program.jpg
END:VEVENT
BEGIN:VEVENT
DTSTART;TZID=America/Denver:20251210T140000
DTEND;TZID=America/Denver:20251210T180000
DTSTAMP:20260421T073558
CREATED:20241006T051503Z
LAST-MODIFIED:20241006T051503Z
UID:10003270-1765375200-1765389600@glenwoodlibrary.com
SUMMARY:Choose Your Own Pantry
DESCRIPTION:
URL:https://glenwoodlibrary.com/event/choose-your-own-pantry-2/2025-12-10/
LOCATION:Silver City\, Silver City\, NM\, 88061
CATEGORIES:Community Service
ATTACH;FMTTYPE=image/jpeg:https://glenwoodlibrary.com/wp-content/uploads/2024/10/cyo-way-to-go.jpeg
ORGANIZER;CN="The Commons":MAILTO:info@thecommonsgrantcounty.org
END:VEVENT
BEGIN:VEVENT
DTSTART;TZID=America/Denver:20251211T120000
DTEND;TZID=America/Denver:20251211T160000
DTSTAMP:20260421T073558
CREATED:20241006T051654Z
LAST-MODIFIED:20241006T051654Z
UID:10003792-1765454400-1765468800@glenwoodlibrary.com
SUMMARY:Choose Your Own Pantry
DESCRIPTION:
URL:https://glenwoodlibrary.com/event/choose-your-own-pantry-3/2025-12-11/
LOCATION:Silver City\, Silver City\, NM\, 88061
CATEGORIES:Community Service
ATTACH;FMTTYPE=image/jpeg:https://glenwoodlibrary.com/wp-content/uploads/2024/10/cyo-way-to-go.jpeg
ORGANIZER;CN="The Commons":MAILTO:info@thecommonsgrantcounty.org
END:VEVENT
BEGIN:VEVENT
DTSTART;TZID=America/Denver:20251213T090000
DTEND;TZID=America/Denver:20251213T140000
DTSTAMP:20260421T073558
CREATED:20241006T052201Z
LAST-MODIFIED:20241006T052356Z
UID:10004006-1765616400-1765634400@glenwoodlibrary.com
SUMMARY:Mobile Farmers Market
DESCRIPTION:
URL:https://glenwoodlibrary.com/event/mobile-farmers-market/2025-12-13/
LOCATION:Reserve\, Reserve\, NM\, 87830
CATEGORIES:Community Service
ATTACH;FMTTYPE=image/jpeg:https://glenwoodlibrary.com/wp-content/uploads/2024/10/mobile-farmers-market.jpeg
ORGANIZER;CN="Frontier Food Hub":MAILTO:foodhub@frontierus.org
END:VEVENT
BEGIN:VEVENT
DTSTART;TZID=America/Denver:20251216T100000
DTEND;TZID=America/Denver:20251216T140000
DTSTAMP:20260421T073558
CREATED:20241006T051244Z
LAST-MODIFIED:20241006T051244Z
UID:10002749-1765879200-1765893600@glenwoodlibrary.com
SUMMARY:Choose Your Own Pantry
DESCRIPTION:
URL:https://glenwoodlibrary.com/event/choose-your-own-pantry/2025-12-16/
LOCATION:Silver City\, Silver City\, NM\, 88061
CATEGORIES:Community Service
ATTACH;FMTTYPE=image/jpeg:https://glenwoodlibrary.com/wp-content/uploads/2024/10/cyo-way-to-go.jpeg
ORGANIZER;CN="The Commons":MAILTO:info@thecommonsgrantcounty.org
END:VEVENT
BEGIN:VEVENT
DTSTART;TZID=America/Denver:20251216T120000
DTEND;TZID=America/Denver:20251216T140000
DTSTAMP:20260421T073558
CREATED:20240207T071800Z
LAST-MODIFIED:20240207T071800Z
UID:10001789-1765886400-1765893600@glenwoodlibrary.com
SUMMARY:Cliff/Gila Food Pantry
DESCRIPTION:Location\nCliff Fairground Building \nAvailable for residents in these areas\n88028\, 88038\, 88051\, 88055 \nFood distribution is a drive-thru.  Please bring your pantry ID card or bring a picture ID and a separate proof of physical address.
URL:https://glenwoodlibrary.com/event/cliff-gila-food-pantry/2025-12-16/
LOCATION:Grant County Fairgrounds\, 16 Arena Road\, Cliff\, New Mexico\, 88038
CATEGORIES:Community Service
ATTACH;FMTTYPE=image/jpeg:https://glenwoodlibrary.com/wp-content/uploads/2024/01/food-program.jpg
END:VEVENT
BEGIN:VEVENT
DTSTART;TZID=America/Denver:20251217T140000
DTEND;TZID=America/Denver:20251217T180000
DTSTAMP:20260421T073558
CREATED:20241006T051503Z
LAST-MODIFIED:20241006T051503Z
UID:10003271-1765980000-1765994400@glenwoodlibrary.com
SUMMARY:Choose Your Own Pantry
DESCRIPTION:
URL:https://glenwoodlibrary.com/event/choose-your-own-pantry-2/2025-12-17/
LOCATION:Silver City\, Silver City\, NM\, 88061
CATEGORIES:Community Service
ATTACH;FMTTYPE=image/jpeg:https://glenwoodlibrary.com/wp-content/uploads/2024/10/cyo-way-to-go.jpeg
ORGANIZER;CN="The Commons":MAILTO:info@thecommonsgrantcounty.org
END:VEVENT
BEGIN:VEVENT
DTSTART;TZID=America/Denver:20251218T120000
DTEND;TZID=America/Denver:20251218T160000
DTSTAMP:20260421T073558
CREATED:20241006T051654Z
LAST-MODIFIED:20241006T051654Z
UID:10003793-1766059200-1766073600@glenwoodlibrary.com
SUMMARY:Choose Your Own Pantry
DESCRIPTION:
URL:https://glenwoodlibrary.com/event/choose-your-own-pantry-3/2025-12-18/
LOCATION:Silver City\, Silver City\, NM\, 88061
CATEGORIES:Community Service
ATTACH;FMTTYPE=image/jpeg:https://glenwoodlibrary.com/wp-content/uploads/2024/10/cyo-way-to-go.jpeg
ORGANIZER;CN="The Commons":MAILTO:info@thecommonsgrantcounty.org
END:VEVENT
BEGIN:VEVENT
DTSTART;TZID=America/Denver:20251223T100000
DTEND;TZID=America/Denver:20251223T140000
DTSTAMP:20260421T073558
CREATED:20241006T051244Z
LAST-MODIFIED:20241006T051244Z
UID:10002750-1766484000-1766498400@glenwoodlibrary.com
SUMMARY:Choose Your Own Pantry
DESCRIPTION:
URL:https://glenwoodlibrary.com/event/choose-your-own-pantry/2025-12-23/
LOCATION:Silver City\, Silver City\, NM\, 88061
CATEGORIES:Community Service
ATTACH;FMTTYPE=image/jpeg:https://glenwoodlibrary.com/wp-content/uploads/2024/10/cyo-way-to-go.jpeg
ORGANIZER;CN="The Commons":MAILTO:info@thecommonsgrantcounty.org
END:VEVENT
BEGIN:VEVENT
DTSTART;TZID=America/Denver:20251224T140000
DTEND;TZID=America/Denver:20251224T180000
DTSTAMP:20260421T073558
CREATED:20241006T051503Z
LAST-MODIFIED:20241006T051503Z
UID:10003272-1766584800-1766599200@glenwoodlibrary.com
SUMMARY:Choose Your Own Pantry
DESCRIPTION:
URL:https://glenwoodlibrary.com/event/choose-your-own-pantry-2/2025-12-24/
LOCATION:Silver City\, Silver City\, NM\, 88061
CATEGORIES:Community Service
ATTACH;FMTTYPE=image/jpeg:https://glenwoodlibrary.com/wp-content/uploads/2024/10/cyo-way-to-go.jpeg
ORGANIZER;CN="The Commons":MAILTO:info@thecommonsgrantcounty.org
END:VEVENT
BEGIN:VEVENT
DTSTART;TZID=America/Denver:20251230T100000
DTEND;TZID=America/Denver:20251230T140000
DTSTAMP:20260421T073558
CREATED:20241006T051244Z
LAST-MODIFIED:20241006T051244Z
UID:10002751-1767088800-1767103200@glenwoodlibrary.com
SUMMARY:Choose Your Own Pantry
DESCRIPTION:
URL:https://glenwoodlibrary.com/event/choose-your-own-pantry/2025-12-30/
LOCATION:Silver City\, Silver City\, NM\, 88061
CATEGORIES:Community Service
ATTACH;FMTTYPE=image/jpeg:https://glenwoodlibrary.com/wp-content/uploads/2024/10/cyo-way-to-go.jpeg
ORGANIZER;CN="The Commons":MAILTO:info@thecommonsgrantcounty.org
END:VEVENT
BEGIN:VEVENT
DTSTART;TZID=America/Denver:20251231T140000
DTEND;TZID=America/Denver:20251231T180000
DTSTAMP:20260421T073558
CREATED:20241006T051503Z
LAST-MODIFIED:20241006T051503Z
UID:10003273-1767189600-1767204000@glenwoodlibrary.com
SUMMARY:Choose Your Own Pantry
DESCRIPTION:
URL:https://glenwoodlibrary.com/event/choose-your-own-pantry-2/2025-12-31/
LOCATION:Silver City\, Silver City\, NM\, 88061
CATEGORIES:Community Service
ATTACH;FMTTYPE=image/jpeg:https://glenwoodlibrary.com/wp-content/uploads/2024/10/cyo-way-to-go.jpeg
ORGANIZER;CN="The Commons":MAILTO:info@thecommonsgrantcounty.org
END:VEVENT
END:VCALENDAR