BEGIN:VCALENDAR
VERSION:2.0
PRODID:-// - ECPv6.15.20//NONSGML v1.0//EN
CALSCALE:GREGORIAN
METHOD:PUBLISH
X-ORIGINAL-URL:https://glenwoodlibrary.com
X-WR-CALDESC:Events for 
REFRESH-INTERVAL;VALUE=DURATION:PT1H
X-Robots-Tag:noindex
X-PUBLISHED-TTL:PT1H
BEGIN:VTIMEZONE
TZID:America/Denver
BEGIN:DAYLIGHT
TZOFFSETFROM:-0700
TZOFFSETTO:-0600
TZNAME:MDT
DTSTART:20250309T090000
END:DAYLIGHT
BEGIN:STANDARD
TZOFFSETFROM:-0600
TZOFFSETTO:-0700
TZNAME:MST
DTSTART:20251102T080000
END:STANDARD
BEGIN:DAYLIGHT
TZOFFSETFROM:-0700
TZOFFSETTO:-0600
TZNAME:MDT
DTSTART:20260308T090000
END:DAYLIGHT
BEGIN:STANDARD
TZOFFSETFROM:-0600
TZOFFSETTO:-0700
TZNAME:MST
DTSTART:20261101T080000
END:STANDARD
BEGIN:DAYLIGHT
TZOFFSETFROM:-0700
TZOFFSETTO:-0600
TZNAME:MDT
DTSTART:20270314T090000
END:DAYLIGHT
BEGIN:STANDARD
TZOFFSETFROM:-0600
TZOFFSETTO:-0700
TZNAME:MST
DTSTART:20271107T080000
END:STANDARD
END:VTIMEZONE
BEGIN:VEVENT
DTSTART;TZID=America/Denver:20260424T123000
DTEND;TZID=America/Denver:20260424T133000
DTSTAMP:20260421T215538
CREATED:20260205T213757Z
LAST-MODIFIED:20260205T214010Z
UID:10005723-1777033800-1777037400@glenwoodlibrary.com
SUMMARY:Conversational Spanish
DESCRIPTION:Our Spanish instructor\, Hazel Gilley\, is also offering Conversational Spanish for anyone with a working knowledge of Spanish (meaning you have taken a Spanish class(es) to learn Spanish or have had exposure in other ways that required the use of Spanish to communicate. The majority of the class will be in Spanish. This is not an introductory course.  Sign up at the library or call 575-539-2277 during library hours.  Class details are below. \nInstructor:  Hazel Gilley \nDates: Every Friday\nMarch 20th\nMarch 27th\nApril 3rd\nApril 10th \nInstructor break:  April 17th – no class \nApril 24th\nMay 1st\nMay 7th\nMay 15th \nTime:  12:30pm to 1:30pm \nClass limit: 10\n 
URL:https://glenwoodlibrary.com/event/conversational-spanish/2026-04-24/
LOCATION:Glenwood Community Library\, 14 Menges Lane\, Glenwood\, NM\, 88039\, United States
CATEGORIES:Education
ATTACH;FMTTYPE=image/jpeg:https://glenwoodlibrary.com/wp-content/uploads/2026/02/hola-spanish-class.jpg
END:VEVENT
BEGIN:VEVENT
DTSTART;TZID=America/Denver:20260427T180000
DTEND;TZID=America/Denver:20260427T200000
DTSTAMP:20260421T215538
CREATED:20260403T215805Z
LAST-MODIFIED:20260403T215805Z
UID:10007795-1777312800-1777320000@glenwoodlibrary.com
SUMMARY:Weed Management Program
DESCRIPTION:
URL:https://glenwoodlibrary.com/event/weed-management-program/
LOCATION:Grant County CES\, 2610 North Silver Street\, Silver City\, NM\, 88061\, United States
CATEGORIES:Class / Instruction,Club / Organization,Education
ATTACH;FMTTYPE=image/jpeg:https://glenwoodlibrary.com/wp-content/uploads/2026/04/ces-weed-mgmt-042726.jpg
END:VEVENT
BEGIN:VEVENT
DTSTART;TZID=America/Denver:20260501T103000
DTEND;TZID=America/Denver:20260501T120000
DTSTAMP:20260421T215538
CREATED:20260205T211224Z
LAST-MODIFIED:20260205T224833Z
UID:10005715-1777631400-1777636800@glenwoodlibrary.com
SUMMARY:Introduction to Spanish
DESCRIPTION:This free\, 8-week introduction class is for those with no knowledge\, or very little knowledge\, of speaking Spanish. Our first class was so popular\, we are offering a second one.  Sign up at the library or call 575-539-2277 during library hours.  Class details are below. \nInstructor:  Hazel Gilley \nDates: Every Friday\nMarch 20th\nMarch 27th\nApril 3rd\nApril 10th \nInstructor break:  April 17th – no class \nApril 24th\nMay 1st\nMay 7th\nMay 15th \nTime:  10:30am to 12:00pm \nClass limit: 10\n 
URL:https://glenwoodlibrary.com/event/introduction-to-spanish/2026-05-01/
LOCATION:Glenwood Community Library\, 14 Menges Lane\, Glenwood\, NM\, 88039\, United States
CATEGORIES:Education
ATTACH;FMTTYPE=image/jpeg:https://glenwoodlibrary.com/wp-content/uploads/2026/02/hola-spanish-class.jpg
END:VEVENT
BEGIN:VEVENT
DTSTART;TZID=America/Denver:20260501T123000
DTEND;TZID=America/Denver:20260501T133000
DTSTAMP:20260421T215538
CREATED:20260205T213757Z
LAST-MODIFIED:20260205T214010Z
UID:10005724-1777638600-1777642200@glenwoodlibrary.com
SUMMARY:Conversational Spanish
DESCRIPTION:Our Spanish instructor\, Hazel Gilley\, is also offering Conversational Spanish for anyone with a working knowledge of Spanish (meaning you have taken a Spanish class(es) to learn Spanish or have had exposure in other ways that required the use of Spanish to communicate. The majority of the class will be in Spanish. This is not an introductory course.  Sign up at the library or call 575-539-2277 during library hours.  Class details are below. \nInstructor:  Hazel Gilley \nDates: Every Friday\nMarch 20th\nMarch 27th\nApril 3rd\nApril 10th \nInstructor break:  April 17th – no class \nApril 24th\nMay 1st\nMay 7th\nMay 15th \nTime:  12:30pm to 1:30pm \nClass limit: 10\n 
URL:https://glenwoodlibrary.com/event/conversational-spanish/2026-05-01/
LOCATION:Glenwood Community Library\, 14 Menges Lane\, Glenwood\, NM\, 88039\, United States
CATEGORIES:Education
ATTACH;FMTTYPE=image/jpeg:https://glenwoodlibrary.com/wp-content/uploads/2026/02/hola-spanish-class.jpg
END:VEVENT
BEGIN:VEVENT
DTSTART;TZID=America/Denver:20260506T103000
DTEND;TZID=America/Denver:20260506T120000
DTSTAMP:20260421T215538
CREATED:20251103T151348Z
LAST-MODIFIED:20251103T151348Z
UID:10005508-1778063400-1778068800@glenwoodlibrary.com
SUMMARY:GCL Book Club
DESCRIPTION:
URL:https://glenwoodlibrary.com/event/gcl-book-club/2026-05-06/
LOCATION:Glenwood Community Library\, 14 Menges Lane\, Glenwood\, NM\, 88039\, United States
CATEGORIES:Art / Literature,Education,Meeting
ATTACH;FMTTYPE=image/jpeg:https://glenwoodlibrary.com/wp-content/uploads/2025/11/gcl-book-club.jpg
END:VEVENT
BEGIN:VEVENT
DTSTART;TZID=America/Denver:20260508T103000
DTEND;TZID=America/Denver:20260508T120000
DTSTAMP:20260421T215538
CREATED:20260205T211224Z
LAST-MODIFIED:20260205T224833Z
UID:10005716-1778236200-1778241600@glenwoodlibrary.com
SUMMARY:Introduction to Spanish
DESCRIPTION:This free\, 8-week introduction class is for those with no knowledge\, or very little knowledge\, of speaking Spanish. Our first class was so popular\, we are offering a second one.  Sign up at the library or call 575-539-2277 during library hours.  Class details are below. \nInstructor:  Hazel Gilley \nDates: Every Friday\nMarch 20th\nMarch 27th\nApril 3rd\nApril 10th \nInstructor break:  April 17th – no class \nApril 24th\nMay 1st\nMay 7th\nMay 15th \nTime:  10:30am to 12:00pm \nClass limit: 10\n 
URL:https://glenwoodlibrary.com/event/introduction-to-spanish/2026-05-08/
LOCATION:Glenwood Community Library\, 14 Menges Lane\, Glenwood\, NM\, 88039\, United States
CATEGORIES:Education
ATTACH;FMTTYPE=image/jpeg:https://glenwoodlibrary.com/wp-content/uploads/2026/02/hola-spanish-class.jpg
END:VEVENT
BEGIN:VEVENT
DTSTART;TZID=America/Denver:20260508T123000
DTEND;TZID=America/Denver:20260508T133000
DTSTAMP:20260421T215538
CREATED:20260205T213757Z
LAST-MODIFIED:20260205T214010Z
UID:10005725-1778243400-1778247000@glenwoodlibrary.com
SUMMARY:Conversational Spanish
DESCRIPTION:Our Spanish instructor\, Hazel Gilley\, is also offering Conversational Spanish for anyone with a working knowledge of Spanish (meaning you have taken a Spanish class(es) to learn Spanish or have had exposure in other ways that required the use of Spanish to communicate. The majority of the class will be in Spanish. This is not an introductory course.  Sign up at the library or call 575-539-2277 during library hours.  Class details are below. \nInstructor:  Hazel Gilley \nDates: Every Friday\nMarch 20th\nMarch 27th\nApril 3rd\nApril 10th \nInstructor break:  April 17th – no class \nApril 24th\nMay 1st\nMay 7th\nMay 15th \nTime:  12:30pm to 1:30pm \nClass limit: 10\n 
URL:https://glenwoodlibrary.com/event/conversational-spanish/2026-05-08/
LOCATION:Glenwood Community Library\, 14 Menges Lane\, Glenwood\, NM\, 88039\, United States
CATEGORIES:Education
ATTACH;FMTTYPE=image/jpeg:https://glenwoodlibrary.com/wp-content/uploads/2026/02/hola-spanish-class.jpg
END:VEVENT
BEGIN:VEVENT
DTSTART;TZID=America/Denver:20260509T080000
DTEND;TZID=America/Denver:20260509T170000
DTSTAMP:20260421T215538
CREATED:20260401T175748Z
LAST-MODIFIED:20260401T175748Z
UID:10006271-1778313600-1778346000@glenwoodlibrary.com
SUMMARY:GilaFest!
DESCRIPTION:
URL:https://glenwoodlibrary.com/event/gilafest/
LOCATION:Game & Fish – Hatchery\, 9 White Water Rd\, Glenwood\, NM\, 88039\, United States
CATEGORIES:Animals,Celebration,Community Service,Education,Outdoor
ATTACH;FMTTYPE=image/jpeg:https://glenwoodlibrary.com/wp-content/uploads/2026/04/gilafest-050926.jpeg
ORGANIZER;CN="NM Dept of Game & Fish":MAILTO:DGF-GlenwoodHatchery@state.nm.us
END:VEVENT
BEGIN:VEVENT
DTSTART;TZID=America/Denver:20260515T103000
DTEND;TZID=America/Denver:20260515T120000
DTSTAMP:20260421T215538
CREATED:20260205T211224Z
LAST-MODIFIED:20260205T224833Z
UID:10005717-1778841000-1778846400@glenwoodlibrary.com
SUMMARY:Introduction to Spanish
DESCRIPTION:This free\, 8-week introduction class is for those with no knowledge\, or very little knowledge\, of speaking Spanish. Our first class was so popular\, we are offering a second one.  Sign up at the library or call 575-539-2277 during library hours.  Class details are below. \nInstructor:  Hazel Gilley \nDates: Every Friday\nMarch 20th\nMarch 27th\nApril 3rd\nApril 10th \nInstructor break:  April 17th – no class \nApril 24th\nMay 1st\nMay 7th\nMay 15th \nTime:  10:30am to 12:00pm \nClass limit: 10\n 
URL:https://glenwoodlibrary.com/event/introduction-to-spanish/2026-05-15/
LOCATION:Glenwood Community Library\, 14 Menges Lane\, Glenwood\, NM\, 88039\, United States
CATEGORIES:Education
ATTACH;FMTTYPE=image/jpeg:https://glenwoodlibrary.com/wp-content/uploads/2026/02/hola-spanish-class.jpg
END:VEVENT
BEGIN:VEVENT
DTSTART;TZID=America/Denver:20260515T123000
DTEND;TZID=America/Denver:20260515T133000
DTSTAMP:20260421T215538
CREATED:20260205T213757Z
LAST-MODIFIED:20260205T214010Z
UID:10005726-1778848200-1778851800@glenwoodlibrary.com
SUMMARY:Conversational Spanish
DESCRIPTION:Our Spanish instructor\, Hazel Gilley\, is also offering Conversational Spanish for anyone with a working knowledge of Spanish (meaning you have taken a Spanish class(es) to learn Spanish or have had exposure in other ways that required the use of Spanish to communicate. The majority of the class will be in Spanish. This is not an introductory course.  Sign up at the library or call 575-539-2277 during library hours.  Class details are below. \nInstructor:  Hazel Gilley \nDates: Every Friday\nMarch 20th\nMarch 27th\nApril 3rd\nApril 10th \nInstructor break:  April 17th – no class \nApril 24th\nMay 1st\nMay 7th\nMay 15th \nTime:  12:30pm to 1:30pm \nClass limit: 10\n 
URL:https://glenwoodlibrary.com/event/conversational-spanish/2026-05-15/
LOCATION:Glenwood Community Library\, 14 Menges Lane\, Glenwood\, NM\, 88039\, United States
CATEGORIES:Education
ATTACH;FMTTYPE=image/jpeg:https://glenwoodlibrary.com/wp-content/uploads/2026/02/hola-spanish-class.jpg
END:VEVENT
BEGIN:VEVENT
DTSTART;TZID=America/Denver:20260603T103000
DTEND;TZID=America/Denver:20260603T120000
DTSTAMP:20260421T215538
CREATED:20251103T151348Z
LAST-MODIFIED:20251103T151348Z
UID:10005509-1780482600-1780488000@glenwoodlibrary.com
SUMMARY:GCL Book Club
DESCRIPTION:
URL:https://glenwoodlibrary.com/event/gcl-book-club/2026-06-03/
LOCATION:Glenwood Community Library\, 14 Menges Lane\, Glenwood\, NM\, 88039\, United States
CATEGORIES:Art / Literature,Education,Meeting
ATTACH;FMTTYPE=image/jpeg:https://glenwoodlibrary.com/wp-content/uploads/2025/11/gcl-book-club.jpg
END:VEVENT
BEGIN:VEVENT
DTSTART;VALUE=DATE:20260621
DTEND;VALUE=DATE:20260627
DTSTAMP:20260421T215538
CREATED:20260403T210229Z
LAST-MODIFIED:20260403T210229Z
UID:10007783-1782000000-1782518399@glenwoodlibrary.com
SUMMARY:4H Ranch Msanagement Camp
DESCRIPTION:
URL:https://glenwoodlibrary.com/event/4h-ranch-msanagement-camp/
LOCATION:Cimarron\, Cimarron\, NM\, 87714\, United States
CATEGORIES:Animals,Class / Instruction,Club / Organization,Education,Youth
ATTACH;FMTTYPE=image/jpeg:https://glenwoodlibrary.com/wp-content/uploads/2026/04/4h-ranch-mgmt-camp-jun2026.jpg
END:VEVENT
BEGIN:VEVENT
DTSTART;TZID=America/Denver:20260622T123000
DTEND;TZID=America/Denver:20260622T163000
DTSTAMP:20260421T215538
CREATED:20260401T171101Z
LAST-MODIFIED:20260401T171101Z
UID:10006040-1782131400-1782145800@glenwoodlibrary.com
SUMMARY:Summer Literacy Program
DESCRIPTION:
URL:https://glenwoodlibrary.com/event/summer-literacy-program/2026-06-22/
LOCATION:Gila Valley Library\, 411 Highway 211\, Gila\, NM\, 88038
CATEGORIES:Community Service,Education,Kids,Youth
ATTACH;FMTTYPE=image/jpeg:https://glenwoodlibrary.com/wp-content/uploads/2026/03/gvl-srp-summer2026.jpg
END:VEVENT
BEGIN:VEVENT
DTSTART;TZID=America/Denver:20260623T123000
DTEND;TZID=America/Denver:20260623T163000
DTSTAMP:20260421T215538
CREATED:20260401T171101Z
LAST-MODIFIED:20260401T171101Z
UID:10006041-1782217800-1782232200@glenwoodlibrary.com
SUMMARY:Summer Literacy Program
DESCRIPTION:
URL:https://glenwoodlibrary.com/event/summer-literacy-program/2026-06-23/
LOCATION:Gila Valley Library\, 411 Highway 211\, Gila\, NM\, 88038
CATEGORIES:Community Service,Education,Kids,Youth
ATTACH;FMTTYPE=image/jpeg:https://glenwoodlibrary.com/wp-content/uploads/2026/03/gvl-srp-summer2026.jpg
END:VEVENT
BEGIN:VEVENT
DTSTART;TZID=America/Denver:20260624T123000
DTEND;TZID=America/Denver:20260624T163000
DTSTAMP:20260421T215538
CREATED:20260401T171101Z
LAST-MODIFIED:20260401T171101Z
UID:10006042-1782304200-1782318600@glenwoodlibrary.com
SUMMARY:Summer Literacy Program
DESCRIPTION:
URL:https://glenwoodlibrary.com/event/summer-literacy-program/2026-06-24/
LOCATION:Gila Valley Library\, 411 Highway 211\, Gila\, NM\, 88038
CATEGORIES:Community Service,Education,Kids,Youth
ATTACH;FMTTYPE=image/jpeg:https://glenwoodlibrary.com/wp-content/uploads/2026/03/gvl-srp-summer2026.jpg
END:VEVENT
BEGIN:VEVENT
DTSTART;TZID=America/Denver:20260625T123000
DTEND;TZID=America/Denver:20260625T163000
DTSTAMP:20260421T215538
CREATED:20260401T171101Z
LAST-MODIFIED:20260401T171101Z
UID:10006043-1782390600-1782405000@glenwoodlibrary.com
SUMMARY:Summer Literacy Program
DESCRIPTION:
URL:https://glenwoodlibrary.com/event/summer-literacy-program/2026-06-25/
LOCATION:Gila Valley Library\, 411 Highway 211\, Gila\, NM\, 88038
CATEGORIES:Community Service,Education,Kids,Youth
ATTACH;FMTTYPE=image/jpeg:https://glenwoodlibrary.com/wp-content/uploads/2026/03/gvl-srp-summer2026.jpg
END:VEVENT
BEGIN:VEVENT
DTSTART;TZID=America/Denver:20260629T123000
DTEND;TZID=America/Denver:20260629T163000
DTSTAMP:20260421T215538
CREATED:20260401T171101Z
LAST-MODIFIED:20260401T171101Z
UID:10006044-1782736200-1782750600@glenwoodlibrary.com
SUMMARY:Summer Literacy Program
DESCRIPTION:
URL:https://glenwoodlibrary.com/event/summer-literacy-program/2026-06-29/
LOCATION:Gila Valley Library\, 411 Highway 211\, Gila\, NM\, 88038
CATEGORIES:Community Service,Education,Kids,Youth
ATTACH;FMTTYPE=image/jpeg:https://glenwoodlibrary.com/wp-content/uploads/2026/03/gvl-srp-summer2026.jpg
END:VEVENT
BEGIN:VEVENT
DTSTART;TZID=America/Denver:20260630T123000
DTEND;TZID=America/Denver:20260630T163000
DTSTAMP:20260421T215538
CREATED:20260401T171101Z
LAST-MODIFIED:20260401T171101Z
UID:10006045-1782822600-1782837000@glenwoodlibrary.com
SUMMARY:Summer Literacy Program
DESCRIPTION:
URL:https://glenwoodlibrary.com/event/summer-literacy-program/2026-06-30/
LOCATION:Gila Valley Library\, 411 Highway 211\, Gila\, NM\, 88038
CATEGORIES:Community Service,Education,Kids,Youth
ATTACH;FMTTYPE=image/jpeg:https://glenwoodlibrary.com/wp-content/uploads/2026/03/gvl-srp-summer2026.jpg
END:VEVENT
BEGIN:VEVENT
DTSTART;TZID=America/Denver:20260701T103000
DTEND;TZID=America/Denver:20260701T120000
DTSTAMP:20260421T215538
CREATED:20251103T151348Z
LAST-MODIFIED:20251103T151348Z
UID:10005510-1782901800-1782907200@glenwoodlibrary.com
SUMMARY:GCL Book Club
DESCRIPTION:
URL:https://glenwoodlibrary.com/event/gcl-book-club/2026-07-01/
LOCATION:Glenwood Community Library\, 14 Menges Lane\, Glenwood\, NM\, 88039\, United States
CATEGORIES:Art / Literature,Education,Meeting
ATTACH;FMTTYPE=image/jpeg:https://glenwoodlibrary.com/wp-content/uploads/2025/11/gcl-book-club.jpg
END:VEVENT
BEGIN:VEVENT
DTSTART;TZID=America/Denver:20260701T123000
DTEND;TZID=America/Denver:20260701T163000
DTSTAMP:20260421T215538
CREATED:20260401T171101Z
LAST-MODIFIED:20260401T171101Z
UID:10006046-1782909000-1782923400@glenwoodlibrary.com
SUMMARY:Summer Literacy Program
DESCRIPTION:
URL:https://glenwoodlibrary.com/event/summer-literacy-program/2026-07-01/
LOCATION:Gila Valley Library\, 411 Highway 211\, Gila\, NM\, 88038
CATEGORIES:Community Service,Education,Kids,Youth
ATTACH;FMTTYPE=image/jpeg:https://glenwoodlibrary.com/wp-content/uploads/2026/03/gvl-srp-summer2026.jpg
END:VEVENT
BEGIN:VEVENT
DTSTART;TZID=America/Denver:20260702T123000
DTEND;TZID=America/Denver:20260702T163000
DTSTAMP:20260421T215538
CREATED:20260401T171101Z
LAST-MODIFIED:20260401T171101Z
UID:10006047-1782995400-1783009800@glenwoodlibrary.com
SUMMARY:Summer Literacy Program
DESCRIPTION:
URL:https://glenwoodlibrary.com/event/summer-literacy-program/2026-07-02/
LOCATION:Gila Valley Library\, 411 Highway 211\, Gila\, NM\, 88038
CATEGORIES:Community Service,Education,Kids,Youth
ATTACH;FMTTYPE=image/jpeg:https://glenwoodlibrary.com/wp-content/uploads/2026/03/gvl-srp-summer2026.jpg
END:VEVENT
BEGIN:VEVENT
DTSTART;TZID=America/Denver:20260706T123000
DTEND;TZID=America/Denver:20260706T163000
DTSTAMP:20260421T215538
CREATED:20260401T171101Z
LAST-MODIFIED:20260401T171101Z
UID:10006048-1783341000-1783355400@glenwoodlibrary.com
SUMMARY:Summer Literacy Program
DESCRIPTION:
URL:https://glenwoodlibrary.com/event/summer-literacy-program/2026-07-06/
LOCATION:Gila Valley Library\, 411 Highway 211\, Gila\, NM\, 88038
CATEGORIES:Community Service,Education,Kids,Youth
ATTACH;FMTTYPE=image/jpeg:https://glenwoodlibrary.com/wp-content/uploads/2026/03/gvl-srp-summer2026.jpg
END:VEVENT
BEGIN:VEVENT
DTSTART;TZID=America/Denver:20260707T123000
DTEND;TZID=America/Denver:20260707T163000
DTSTAMP:20260421T215538
CREATED:20260401T171101Z
LAST-MODIFIED:20260401T171101Z
UID:10006049-1783427400-1783441800@glenwoodlibrary.com
SUMMARY:Summer Literacy Program
DESCRIPTION:
URL:https://glenwoodlibrary.com/event/summer-literacy-program/2026-07-07/
LOCATION:Gila Valley Library\, 411 Highway 211\, Gila\, NM\, 88038
CATEGORIES:Community Service,Education,Kids,Youth
ATTACH;FMTTYPE=image/jpeg:https://glenwoodlibrary.com/wp-content/uploads/2026/03/gvl-srp-summer2026.jpg
END:VEVENT
BEGIN:VEVENT
DTSTART;TZID=America/Denver:20260708T123000
DTEND;TZID=America/Denver:20260708T163000
DTSTAMP:20260421T215538
CREATED:20260401T171101Z
LAST-MODIFIED:20260401T171101Z
UID:10006050-1783513800-1783528200@glenwoodlibrary.com
SUMMARY:Summer Literacy Program
DESCRIPTION:
URL:https://glenwoodlibrary.com/event/summer-literacy-program/2026-07-08/
LOCATION:Gila Valley Library\, 411 Highway 211\, Gila\, NM\, 88038
CATEGORIES:Community Service,Education,Kids,Youth
ATTACH;FMTTYPE=image/jpeg:https://glenwoodlibrary.com/wp-content/uploads/2026/03/gvl-srp-summer2026.jpg
END:VEVENT
BEGIN:VEVENT
DTSTART;TZID=America/Denver:20260709T123000
DTEND;TZID=America/Denver:20260709T163000
DTSTAMP:20260421T215538
CREATED:20260401T171101Z
LAST-MODIFIED:20260401T171101Z
UID:10006051-1783600200-1783614600@glenwoodlibrary.com
SUMMARY:Summer Literacy Program
DESCRIPTION:
URL:https://glenwoodlibrary.com/event/summer-literacy-program/2026-07-09/
LOCATION:Gila Valley Library\, 411 Highway 211\, Gila\, NM\, 88038
CATEGORIES:Community Service,Education,Kids,Youth
ATTACH;FMTTYPE=image/jpeg:https://glenwoodlibrary.com/wp-content/uploads/2026/03/gvl-srp-summer2026.jpg
END:VEVENT
BEGIN:VEVENT
DTSTART;TZID=America/Denver:20260713T123000
DTEND;TZID=America/Denver:20260713T163000
DTSTAMP:20260421T215538
CREATED:20260401T171101Z
LAST-MODIFIED:20260401T171101Z
UID:10006052-1783945800-1783960200@glenwoodlibrary.com
SUMMARY:Summer Literacy Program
DESCRIPTION:
URL:https://glenwoodlibrary.com/event/summer-literacy-program/2026-07-13/
LOCATION:Gila Valley Library\, 411 Highway 211\, Gila\, NM\, 88038
CATEGORIES:Community Service,Education,Kids,Youth
ATTACH;FMTTYPE=image/jpeg:https://glenwoodlibrary.com/wp-content/uploads/2026/03/gvl-srp-summer2026.jpg
END:VEVENT
BEGIN:VEVENT
DTSTART;TZID=America/Denver:20260714T123000
DTEND;TZID=America/Denver:20260714T163000
DTSTAMP:20260421T215538
CREATED:20260401T171101Z
LAST-MODIFIED:20260401T171101Z
UID:10006053-1784032200-1784046600@glenwoodlibrary.com
SUMMARY:Summer Literacy Program
DESCRIPTION:
URL:https://glenwoodlibrary.com/event/summer-literacy-program/2026-07-14/
LOCATION:Gila Valley Library\, 411 Highway 211\, Gila\, NM\, 88038
CATEGORIES:Community Service,Education,Kids,Youth
ATTACH;FMTTYPE=image/jpeg:https://glenwoodlibrary.com/wp-content/uploads/2026/03/gvl-srp-summer2026.jpg
END:VEVENT
BEGIN:VEVENT
DTSTART;TZID=America/Denver:20260715T123000
DTEND;TZID=America/Denver:20260715T163000
DTSTAMP:20260421T215538
CREATED:20260401T171101Z
LAST-MODIFIED:20260401T171101Z
UID:10006054-1784118600-1784133000@glenwoodlibrary.com
SUMMARY:Summer Literacy Program
DESCRIPTION:
URL:https://glenwoodlibrary.com/event/summer-literacy-program/2026-07-15/
LOCATION:Gila Valley Library\, 411 Highway 211\, Gila\, NM\, 88038
CATEGORIES:Community Service,Education,Kids,Youth
ATTACH;FMTTYPE=image/jpeg:https://glenwoodlibrary.com/wp-content/uploads/2026/03/gvl-srp-summer2026.jpg
END:VEVENT
BEGIN:VEVENT
DTSTART;TZID=America/Denver:20260716T123000
DTEND;TZID=America/Denver:20260716T163000
DTSTAMP:20260421T215538
CREATED:20260401T171101Z
LAST-MODIFIED:20260401T171101Z
UID:10006055-1784205000-1784219400@glenwoodlibrary.com
SUMMARY:Summer Literacy Program
DESCRIPTION:
URL:https://glenwoodlibrary.com/event/summer-literacy-program/2026-07-16/
LOCATION:Gila Valley Library\, 411 Highway 211\, Gila\, NM\, 88038
CATEGORIES:Community Service,Education,Kids,Youth
ATTACH;FMTTYPE=image/jpeg:https://glenwoodlibrary.com/wp-content/uploads/2026/03/gvl-srp-summer2026.jpg
END:VEVENT
BEGIN:VEVENT
DTSTART;TZID=America/Denver:20260720T123000
DTEND;TZID=America/Denver:20260720T163000
DTSTAMP:20260421T215538
CREATED:20260401T171101Z
LAST-MODIFIED:20260401T171101Z
UID:10006056-1784550600-1784565000@glenwoodlibrary.com
SUMMARY:Summer Literacy Program
DESCRIPTION:
URL:https://glenwoodlibrary.com/event/summer-literacy-program/2026-07-20/
LOCATION:Gila Valley Library\, 411 Highway 211\, Gila\, NM\, 88038
CATEGORIES:Community Service,Education,Kids,Youth
ATTACH;FMTTYPE=image/jpeg:https://glenwoodlibrary.com/wp-content/uploads/2026/03/gvl-srp-summer2026.jpg
END:VEVENT
END:VCALENDAR