BEGIN:VCALENDAR
VERSION:2.0
PRODID:-// - ECPv6.15.20//NONSGML v1.0//EN
CALSCALE:GREGORIAN
METHOD:PUBLISH
X-ORIGINAL-URL:https://glenwoodlibrary.com
X-WR-CALDESC:Events for 
REFRESH-INTERVAL;VALUE=DURATION:PT1H
X-Robots-Tag:noindex
X-PUBLISHED-TTL:PT1H
BEGIN:VTIMEZONE
TZID:America/Denver
BEGIN:DAYLIGHT
TZOFFSETFROM:-0700
TZOFFSETTO:-0600
TZNAME:MDT
DTSTART:20230312T090000
END:DAYLIGHT
BEGIN:STANDARD
TZOFFSETFROM:-0600
TZOFFSETTO:-0700
TZNAME:MST
DTSTART:20231105T080000
END:STANDARD
BEGIN:DAYLIGHT
TZOFFSETFROM:-0700
TZOFFSETTO:-0600
TZNAME:MDT
DTSTART:20240310T090000
END:DAYLIGHT
BEGIN:STANDARD
TZOFFSETFROM:-0600
TZOFFSETTO:-0700
TZNAME:MST
DTSTART:20241103T080000
END:STANDARD
BEGIN:DAYLIGHT
TZOFFSETFROM:-0700
TZOFFSETTO:-0600
TZNAME:MDT
DTSTART:20250309T090000
END:DAYLIGHT
BEGIN:STANDARD
TZOFFSETFROM:-0600
TZOFFSETTO:-0700
TZNAME:MST
DTSTART:20251102T080000
END:STANDARD
BEGIN:DAYLIGHT
TZOFFSETFROM:-0700
TZOFFSETTO:-0600
TZNAME:MDT
DTSTART:20260308T090000
END:DAYLIGHT
BEGIN:STANDARD
TZOFFSETFROM:-0600
TZOFFSETTO:-0700
TZNAME:MST
DTSTART:20261101T080000
END:STANDARD
BEGIN:DAYLIGHT
TZOFFSETFROM:-0700
TZOFFSETTO:-0600
TZNAME:MDT
DTSTART:20270314T090000
END:DAYLIGHT
BEGIN:STANDARD
TZOFFSETFROM:-0600
TZOFFSETTO:-0700
TZNAME:MST
DTSTART:20271107T080000
END:STANDARD
END:VTIMEZONE
BEGIN:VEVENT
DTSTART;TZID=America/Denver:20260327T100000
DTEND;TZID=America/Denver:20260327T120000
DTSTAMP:20260425T101947
CREATED:20260306T055450Z
LAST-MODIFIED:20260306T055450Z
UID:10006034-1774605600-1774612800@glenwoodlibrary.com
SUMMARY:Let the Wind Blow - Children's Program
DESCRIPTION:
URL:https://glenwoodlibrary.com/event/let-the-wind-blow-childrens-program/
LOCATION:Glenwood Community Library\, 14 Menges Lane\, Glenwood\, NM\, 88039\, United States
CATEGORIES:Education,Entertainment,Kids
ATTACH;FMTTYPE=image/jpeg:https://glenwoodlibrary.com/wp-content/uploads/2026/03/gcl-cp-mar2026.jpg
END:VEVENT
BEGIN:VEVENT
DTSTART;TZID=America/Denver:20260316T173000
DTEND;TZID=America/Denver:20260316T183000
DTSTAMP:20260425T101947
CREATED:20260401T185958Z
LAST-MODIFIED:20260401T190050Z
UID:10006288-1773682200-1773685800@glenwoodlibrary.com
SUMMARY:Little Wigglers
DESCRIPTION:
URL:https://glenwoodlibrary.com/event/little-wigglers/2026-03-16/
LOCATION:Gila Valley Library\, 411 Highway 211\, Gila\, NM\, 88038
CATEGORIES:Entertainment,Kids
ATTACH;FMTTYPE=image/jpeg:https://glenwoodlibrary.com/wp-content/uploads/2026/04/gvl-little-wigglers-feb2026.jpg
END:VEVENT
BEGIN:VEVENT
DTSTART;TZID=America/Denver:20260302T173000
DTEND;TZID=America/Denver:20260302T183000
DTSTAMP:20260425T101947
CREATED:20260403T204644Z
LAST-MODIFIED:20260403T204731Z
UID:10007779-1772472600-1772476200@glenwoodlibrary.com
SUMMARY:Little Wigglers
DESCRIPTION:
URL:https://glenwoodlibrary.com/event/little-wigglers-2/2026-03-02/
LOCATION:Gila Valley Library\, 411 Highway 211\, Gila\, NM\, 88038
CATEGORIES:Club / Organization,Kids
ATTACH;FMTTYPE=image/jpeg:https://glenwoodlibrary.com/wp-content/uploads/2026/04/gvl-little-wigglers-mar2026.jpg
END:VEVENT
BEGIN:VEVENT
DTSTART;TZID=America/Denver:20260223T173000
DTEND;TZID=America/Denver:20260223T183000
DTSTAMP:20260425T101947
CREATED:20260401T185958Z
LAST-MODIFIED:20260401T190050Z
UID:10006313-1771867800-1771871400@glenwoodlibrary.com
SUMMARY:Little Wigglers
DESCRIPTION:
URL:https://glenwoodlibrary.com/event/little-wigglers/2026-02-23/
LOCATION:Gila Valley Library\, 411 Highway 211\, Gila\, NM\, 88038
CATEGORIES:Entertainment,Kids
ATTACH;FMTTYPE=image/jpeg:https://glenwoodlibrary.com/wp-content/uploads/2026/04/gvl-little-wigglers-feb2026.jpg
END:VEVENT
BEGIN:VEVENT
DTSTART;TZID=America/Denver:20260220T130000
DTEND;TZID=America/Denver:20260220T150000
DTSTAMP:20260425T101947
CREATED:20260403T212021Z
LAST-MODIFIED:20260403T212021Z
UID:10007787-1771592400-1771599600@glenwoodlibrary.com
SUMMARY:Legos & Art Friday
DESCRIPTION:
URL:https://glenwoodlibrary.com/event/legos-art-friday/
LOCATION:Gila Valley Library\, 411 Highway 211\, Gila\, NM\, 88038
CATEGORIES:Art / Literature,Class / Instruction,Kids,Youth
ATTACH;FMTTYPE=image/jpeg:https://glenwoodlibrary.com/wp-content/uploads/2026/04/gvl-legos-art-feb2026.jpg
END:VEVENT
BEGIN:VEVENT
DTSTART;TZID=America/Denver:20260213T100000
DTEND;TZID=America/Denver:20260213T120000
DTSTAMP:20260425T101947
CREATED:20260205T231814Z
LAST-MODIFIED:20260205T231814Z
UID:10005727-1770976800-1770984000@glenwoodlibrary.com
SUMMARY:Be Our Valentine Children's Program
DESCRIPTION:
URL:https://glenwoodlibrary.com/event/be-our-valentine-childrens-program/
LOCATION:Glenwood Community Library\, 14 Menges Lane\, Glenwood\, NM\, 88039\, United States
CATEGORIES:Holiday Event,Kids
ATTACH;FMTTYPE=image/jpeg:https://glenwoodlibrary.com/wp-content/uploads/2026/02/gcl-cp-feb2026.jpg
END:VEVENT
BEGIN:VEVENT
DTSTART;TZID=America/Denver:20260202T173000
DTEND;TZID=America/Denver:20260202T183000
DTSTAMP:20260425T101947
CREATED:20260401T185958Z
LAST-MODIFIED:20260401T190050Z
UID:10006285-1770053400-1770057000@glenwoodlibrary.com
SUMMARY:Little Wigglers
DESCRIPTION:
URL:https://glenwoodlibrary.com/event/little-wigglers/2026-02-02/
LOCATION:Gila Valley Library\, 411 Highway 211\, Gila\, NM\, 88038
CATEGORIES:Entertainment,Kids
ATTACH;FMTTYPE=image/jpeg:https://glenwoodlibrary.com/wp-content/uploads/2026/04/gvl-little-wigglers-feb2026.jpg
END:VEVENT
BEGIN:VEVENT
DTSTART;TZID=America/Denver:20260123T100000
DTEND;TZID=America/Denver:20260123T120000
DTSTAMP:20260425T101947
CREATED:20251231T175335Z
LAST-MODIFIED:20251231T175335Z
UID:10005701-1769162400-1769169600@glenwoodlibrary.com
SUMMARY:Sensational Seeds
DESCRIPTION:
URL:https://glenwoodlibrary.com/event/sensational-seeds/
LOCATION:Glenwood Community Library\, 14 Menges Lane\, Glenwood\, NM\, 88039\, United States
CATEGORIES:Education,Kids
ATTACH;FMTTYPE=image/jpeg:https://glenwoodlibrary.com/wp-content/uploads/2025/12/gcl-cp-jan2026.jpg
END:VEVENT
BEGIN:VEVENT
DTSTART;TZID=America/Denver:20251224T160000
DTEND;TZID=America/Denver:20251224T180000
DTSTAMP:20260425T101947
CREATED:20260403T232600Z
LAST-MODIFIED:20260403T232600Z
UID:10007846-1766592000-1766599200@glenwoodlibrary.com
SUMMARY:Glenwood Live Nativity
DESCRIPTION:Soup and bread start at 4pm\nNativity play starts around 5pm
URL:https://glenwoodlibrary.com/event/glenwood-live-nativity/
LOCATION:Glenwood Community Church\, 5106 US-180\, Glenwood\, New Mexico\, 88039
CATEGORIES:Celebration,Holiday Event,Kids,Outdoor
ATTACH;FMTTYPE=image/jpeg:https://glenwoodlibrary.com/wp-content/uploads/2026/04/live-nativity-dec2024.jpg
END:VEVENT
BEGIN:VEVENT
DTSTART;TZID=America/Denver:20251219T180000
DTEND;TZID=America/Denver:20251219T200000
DTSTAMP:20260425T101947
CREATED:20260403T231845Z
LAST-MODIFIED:20260403T231845Z
UID:10007845-1766167200-1766174400@glenwoodlibrary.com
SUMMARY:Toys for Tots Grinch & Santa Party
DESCRIPTION:
URL:https://glenwoodlibrary.com/event/toys-for-tots-grinch-santa-party/
LOCATION:Glenwood Community Center\, 21 Menges Lane\, Glenwood\, NM\, 88039\, United States
CATEGORIES:Celebration,Holiday Event,Kids,Youth
ATTACH;FMTTYPE=image/jpeg:https://glenwoodlibrary.com/wp-content/uploads/2026/04/toysfortots-party-121925.jpg
ORGANIZER;CN="Toys for Tots - Catron County":MAILTO:reserve.nm@toysfortots.org
END:VEVENT
BEGIN:VEVENT
DTSTART;TZID=America/Denver:20251031T163000
DTEND;TZID=America/Denver:20251031T220000
DTSTAMP:20260425T101947
CREATED:20260403T224535Z
LAST-MODIFIED:20260403T224535Z
UID:10007839-1761928200-1761948000@glenwoodlibrary.com
SUMMARY:Community Trunk or Treat
DESCRIPTION:
URL:https://glenwoodlibrary.com/event/community-trunk-or-treat-2/
LOCATION:Grant County Fairgrounds\, 16 Arena Road\, Cliff\, New Mexico\, 88038
CATEGORIES:Celebration,Holiday Event,Kids,Youth
ATTACH;FMTTYPE=image/jpeg:https://glenwoodlibrary.com/wp-content/uploads/2026/04/gila-trunk-103125.jpeg
END:VEVENT
BEGIN:VEVENT
DTSTART;TZID=America/Denver:20251031T140000
DTEND;TZID=America/Denver:20251031T203000
DTSTAMP:20260425T101947
CREATED:20260403T230021Z
LAST-MODIFIED:20260403T230021Z
UID:10007842-1761919200-1761942600@glenwoodlibrary.com
SUMMARY:Glenwood Trunk or Treat
DESCRIPTION:See schedule of events
URL:https://glenwoodlibrary.com/event/glenwood-trunk-or-treat-2/
LOCATION:Los Olmos Lodge\, US 180 & Catwalk Rd\, Glenwood\, NM\, 88039\, United States
CATEGORIES:Celebration,Fundraiser,Holiday Event,Kids,Youth
ATTACH;FMTTYPE=image/jpeg:https://glenwoodlibrary.com/wp-content/uploads/2026/04/glenwood-halloween1-103125.jpg
END:VEVENT
BEGIN:VEVENT
DTSTART;TZID=America/Denver:20251031T100000
DTEND;TZID=America/Denver:20251031T120000
DTSTAMP:20260425T101947
CREATED:20251011T064538Z
LAST-MODIFIED:20251011T064538Z
UID:10005493-1761904800-1761912000@glenwoodlibrary.com
SUMMARY:All About Bats Children's Program
DESCRIPTION:
URL:https://glenwoodlibrary.com/event/all-about-bats-childrens-program/
LOCATION:Glenwood Community Library\, 14 Menges Lane\, Glenwood\, NM\, 88039\, United States
CATEGORIES:Education,Holiday Event,Kids
ATTACH;FMTTYPE=image/jpeg:https://glenwoodlibrary.com/wp-content/uploads/2025/10/gcl-halloween-cp-2025-scaled.jpg
END:VEVENT
BEGIN:VEVENT
DTSTART;VALUE=DATE:20251031
DTEND;VALUE=DATE:20251101
DTSTAMP:20260425T101947
CREATED:20251020T222535Z
LAST-MODIFIED:20251020T222708Z
UID:10005494-1761868800-1761955199@glenwoodlibrary.com
SUMMARY:Glenwood Halloween
DESCRIPTION:Scarecrow Contest\nAll About Bats Children’s Program\nSpaghetti Dinner Fundraiser\nTrunk-or-Treat\nCostume Contest\nHay Rides
URL:https://glenwoodlibrary.com/event/glenwood-halloween/
LOCATION:Los Olmos Lodge\, US 180 & Catwalk Rd\, Glenwood\, NM\, 88039\, United States
CATEGORIES:Celebration,Fundraiser,Holiday Event,Kids
ATTACH;FMTTYPE=image/jpeg:https://glenwoodlibrary.com/wp-content/uploads/2025/10/trunk-or-treat1-2025.jpg
END:VEVENT
BEGIN:VEVENT
DTSTART;TZID=America/Denver:20250723T100000
DTEND;TZID=America/Denver:20250723T120000
DTSTAMP:20260425T101947
CREATED:20250609T232542Z
LAST-MODIFIED:20250609T232542Z
UID:10005209-1753264800-1753272000@glenwoodlibrary.com
SUMMARY:GCL Summer Reading Program
DESCRIPTION:
URL:https://glenwoodlibrary.com/event/gcl-summer-reading-program/2025-07-23/
LOCATION:Glenwood Community Library\, 14 Menges Lane\, Glenwood\, NM\, 88039\, United States
CATEGORIES:Art / Literature,Education,Entertainment,Kids,Youth
ATTACH;FMTTYPE=image/jpeg:https://glenwoodlibrary.com/wp-content/uploads/2025/06/srp2025-poster.jpg
END:VEVENT
BEGIN:VEVENT
DTSTART;TZID=America/Denver:20250716T100000
DTEND;TZID=America/Denver:20250716T120000
DTSTAMP:20260425T101947
CREATED:20250609T232542Z
LAST-MODIFIED:20250609T232542Z
UID:10005208-1752660000-1752667200@glenwoodlibrary.com
SUMMARY:GCL Summer Reading Program
DESCRIPTION:
URL:https://glenwoodlibrary.com/event/gcl-summer-reading-program/2025-07-16/
LOCATION:Glenwood Community Library\, 14 Menges Lane\, Glenwood\, NM\, 88039\, United States
CATEGORIES:Art / Literature,Education,Entertainment,Kids,Youth
ATTACH;FMTTYPE=image/jpeg:https://glenwoodlibrary.com/wp-content/uploads/2025/06/srp2025-poster.jpg
END:VEVENT
BEGIN:VEVENT
DTSTART;TZID=America/Denver:20250709T100000
DTEND;TZID=America/Denver:20250709T120000
DTSTAMP:20260425T101947
CREATED:20250609T232542Z
LAST-MODIFIED:20250609T232542Z
UID:10005207-1752055200-1752062400@glenwoodlibrary.com
SUMMARY:GCL Summer Reading Program
DESCRIPTION:
URL:https://glenwoodlibrary.com/event/gcl-summer-reading-program/2025-07-09/
LOCATION:Glenwood Community Library\, 14 Menges Lane\, Glenwood\, NM\, 88039\, United States
CATEGORIES:Art / Literature,Education,Entertainment,Kids,Youth
ATTACH;FMTTYPE=image/jpeg:https://glenwoodlibrary.com/wp-content/uploads/2025/06/srp2025-poster.jpg
END:VEVENT
BEGIN:VEVENT
DTSTART;TZID=America/Denver:20250702T100000
DTEND;TZID=America/Denver:20250702T120000
DTSTAMP:20260425T101947
CREATED:20250609T232542Z
LAST-MODIFIED:20250609T232542Z
UID:10005206-1751450400-1751457600@glenwoodlibrary.com
SUMMARY:GCL Summer Reading Program
DESCRIPTION:
URL:https://glenwoodlibrary.com/event/gcl-summer-reading-program/2025-07-02/
LOCATION:Glenwood Community Library\, 14 Menges Lane\, Glenwood\, NM\, 88039\, United States
CATEGORIES:Art / Literature,Education,Entertainment,Kids,Youth
ATTACH;FMTTYPE=image/jpeg:https://glenwoodlibrary.com/wp-content/uploads/2025/06/srp2025-poster.jpg
END:VEVENT
BEGIN:VEVENT
DTSTART;TZID=America/Denver:20250620T100000
DTEND;TZID=America/Denver:20250620T113000
DTSTAMP:20260425T101947
CREATED:20250606T150249Z
LAST-MODIFIED:20250606T150249Z
UID:10005205-1750413600-1750419000@glenwoodlibrary.com
SUMMARY:TnT Children's Program
DESCRIPTION:
URL:https://glenwoodlibrary.com/event/tnt-childrens-program/
LOCATION:Glenwood Community Library\, 14 Menges Lane\, Glenwood\, NM\, 88039\, United States
CATEGORIES:Animals,Education,Kids
ATTACH;FMTTYPE=image/jpeg:https://glenwoodlibrary.com/wp-content/uploads/2025/06/gcl-cp-jun2025-poster.jpg
END:VEVENT
BEGIN:VEVENT
DTSTART;TZID=America/Denver:20250606T100000
DTEND;TZID=America/Denver:20250606T120000
DTSTAMP:20260425T101947
CREATED:20250610T152331Z
LAST-MODIFIED:20250610T152331Z
UID:10005480-1749204000-1749211200@glenwoodlibrary.com
SUMMARY:Rock Painting at RPL
DESCRIPTION:Hope to see you all there! Bring your friends and family and let’s make some colorful memories together. \n🍪 Snacks generously provided by Amplified Therapy\n🎉 A great way to connect with your community.\n📚 Enjoy the cozy library atmosphere while creating something special
URL:https://glenwoodlibrary.com/event/rock-painting-at-rpl/
LOCATION:Reserve Public Library\, 15 Jake Scott Street\, Reserve\, NM\, 87830
CATEGORIES:Art / Literature,Community Service,Kids,Youth
ATTACH;FMTTYPE=image/jpeg:https://glenwoodlibrary.com/wp-content/uploads/2025/06/rpl-060625.jpg
END:VEVENT
BEGIN:VEVENT
DTSTART;TZID=America/Denver:20250523T110000
DTEND;TZID=America/Denver:20250523T130000
DTSTAMP:20260425T101947
CREATED:20250504T065352Z
LAST-MODIFIED:20250504T065352Z
UID:10004661-1747998000-1748005200@glenwoodlibrary.com
SUMMARY:Creature Features Children's Program
DESCRIPTION:
URL:https://glenwoodlibrary.com/event/creature-features-childrens-program/
LOCATION:Glenwood Community Library\, 14 Menges Lane\, Glenwood\, NM\, 88039\, United States
CATEGORIES:Animals,Education,Kids
ATTACH;FMTTYPE=image/jpeg:https://glenwoodlibrary.com/wp-content/uploads/2025/05/gcl-cp-may2025-poster.jpg
END:VEVENT
BEGIN:VEVENT
DTSTART;VALUE=DATE:20250422
DTEND;VALUE=DATE:20250424
DTSTAMP:20260425T101947
CREATED:20250330T013511Z
LAST-MODIFIED:20250330T013511Z
UID:10004656-1745280000-1745452799@glenwoodlibrary.com
SUMMARY:Ranch Days
DESCRIPTION:The McKeen Ranch Days are here again. Two AGmazing days for school age kids to learn about farming and ranching. Students will get to see a live branding\, eat Dutch oven chow\, and see a cannulated cow … and lots more to see\, learn\, and do! \nThank you to the McKeens who have been doing this for 25+ years and to so many great volunteers and organizations that help make it possible.
URL:https://glenwoodlibrary.com/event/ranch-days-2/
LOCATION:Hugh B. McKeen Ranch\, Alma\, NM\, 88039
CATEGORIES:Education,Fair / Festival,Kids,Outdoor
ATTACH;FMTTYPE=image/jpeg:https://glenwoodlibrary.com/wp-content/uploads/2024/04/ranch-days-sign-2024.jpg
END:VEVENT
BEGIN:VEVENT
DTSTART;TZID=America/Denver:20250419T110000
DTEND;TZID=America/Denver:20250419T130000
DTSTAMP:20260425T101947
CREATED:20250207T192539Z
LAST-MODIFIED:20250207T192539Z
UID:10004400-1745060400-1745067600@glenwoodlibrary.com
SUMMARY:Easter Egg Hunt
DESCRIPTION:
URL:https://glenwoodlibrary.com/event/easter-egg-hunt/
LOCATION:Glenwood Community Park\, Catwalk Road\, Glenwood\, NM\, 88039\, United States
CATEGORIES:Holiday Event,Kids
ATTACH;FMTTYPE=image/jpeg:https://glenwoodlibrary.com/wp-content/uploads/2025/02/egg-hunt-041925.jpeg
END:VEVENT
BEGIN:VEVENT
DTSTART;TZID=America/Denver:20250418T110000
DTEND;TZID=America/Denver:20250418T123000
DTSTAMP:20260425T101947
CREATED:20250330T005841Z
LAST-MODIFIED:20250330T005841Z
UID:10004650-1744974000-1744979400@glenwoodlibrary.com
SUMMARY:Eggstravaganza Children's Program
DESCRIPTION:
URL:https://glenwoodlibrary.com/event/eggstravaganza-childrens-program/
LOCATION:Glenwood Community Library\, 14 Menges Lane\, Glenwood\, NM\, 88039\, United States
CATEGORIES:Education,Holiday Event,Kids
ATTACH;FMTTYPE=image/jpeg:https://glenwoodlibrary.com/wp-content/uploads/2025/03/gcl-eggstravaganza-041825.jpg
END:VEVENT
BEGIN:VEVENT
DTSTART;TZID=America/Denver:20250321T110000
DTEND;TZID=America/Denver:20250321T123000
DTSTAMP:20260425T101947
CREATED:20250304T024129Z
LAST-MODIFIED:20250304T024129Z
UID:10004580-1742554800-1742560200@glenwoodlibrary.com
SUMMARY:Spring Into Spring Children's Program
DESCRIPTION:
URL:https://glenwoodlibrary.com/event/spring-into-spring-childrens-program/
LOCATION:Glenwood Community Library\, 14 Menges Lane\, Glenwood\, NM\, 88039\, United States
CATEGORIES:Education,Entertainment,Kids
ATTACH;FMTTYPE=image/jpeg:https://glenwoodlibrary.com/wp-content/uploads/2025/03/gcl-spring-into-spring-poster-032125.jpg
END:VEVENT
BEGIN:VEVENT
DTSTART;TZID=America/Denver:20250215T000000
DTEND;TZID=America/Denver:20250215T000000
DTSTAMP:20260425T101947
CREATED:20250215T195334Z
LAST-MODIFIED:20250215T195404Z
UID:10004493-1739577600-1739577600@glenwoodlibrary.com
SUMMARY:Spring Picture Day
DESCRIPTION:
URL:https://glenwoodlibrary.com/event/spring-picture-day/
LOCATION:New Mexico
CATEGORIES:Community Service,Education,Kids
ATTACH;FMTTYPE=image/jpeg:https://glenwoodlibrary.com/wp-content/uploads/2025/02/reserve-picture-day-2025.jpeg
END:VEVENT
BEGIN:VEVENT
DTSTART;TZID=America/Denver:20250214T130000
DTEND;TZID=America/Denver:20250214T150000
DTSTAMP:20260425T101947
CREATED:20250207T190903Z
LAST-MODIFIED:20250207T190903Z
UID:10004397-1739538000-1739545200@glenwoodlibrary.com
SUMMARY:Valentine's Day STEAM
DESCRIPTION:
URL:https://glenwoodlibrary.com/event/valentines-day-steam/
LOCATION:Gila Valley Library\, 411 Highway 211\, Gila\, NM\, 88038
CATEGORIES:Education,Holiday Event,Kids
ATTACH;FMTTYPE=image/jpeg:https://glenwoodlibrary.com/wp-content/uploads/2025/02/gvl-valentines-021425.jpg
END:VEVENT
BEGIN:VEVENT
DTSTART;TZID=America/Denver:20250207T110000
DTEND;TZID=America/Denver:20250207T123000
DTSTAMP:20260425T101947
CREATED:20250205T001758Z
LAST-MODIFIED:20250205T001758Z
UID:10004380-1738926000-1738931400@glenwoodlibrary.com
SUMMARY:Children's Storytime at the GCL
DESCRIPTION:
URL:https://glenwoodlibrary.com/event/childrens-storytime-at-the-gcl/
LOCATION:Glenwood Community Library\, 14 Menges Lane\, Glenwood\, NM\, 88039\, United States
CATEGORIES:Kids
ATTACH;FMTTYPE=image/jpeg:https://glenwoodlibrary.com/wp-content/uploads/2025/02/storytime-feb2025.jpeg
END:VEVENT
BEGIN:VEVENT
DTSTART;TZID=America/Denver:20241219T170000
DTEND;TZID=America/Denver:20241219T190000
DTSTAMP:20260425T101947
CREATED:20250207T205146Z
LAST-MODIFIED:20250207T205146Z
UID:10004421-1734627600-1734634800@glenwoodlibrary.com
SUMMARY:Christmas Celebration
DESCRIPTION:
URL:https://glenwoodlibrary.com/event/christmas-celebration/
LOCATION:Quemado\, Quemado\, NM\, 87829
CATEGORIES:Holiday Event,Kids
ATTACH;FMTTYPE=image/jpeg:https://glenwoodlibrary.com/wp-content/uploads/2025/02/wrs-holiday-121924.jpg
ORGANIZER;CN="Williams Ranch Supply":MAILTO:wrsqmanager@gmail.com
END:VEVENT
BEGIN:VEVENT
DTSTART;TZID=America/Denver:20241215T150000
DTEND;TZID=America/Denver:20241215T170000
DTSTAMP:20260425T101947
CREATED:20250207T212113Z
LAST-MODIFIED:20250207T212113Z
UID:10004426-1734274800-1734282000@glenwoodlibrary.com
SUMMARY:Children's Christmas Program
DESCRIPTION:
URL:https://glenwoodlibrary.com/event/childrens-christmas-program/
LOCATION:Quemado\, Quemado\, NM\, 87829
CATEGORIES:Holiday Event,Kids
ATTACH;FMTTYPE=image/jpeg:https://glenwoodlibrary.com/wp-content/uploads/2025/02/qcc-christmas-program-121524.jpg
ORGANIZER;CN="Quemado Cowboy Church":MAILTO:pastor@quemadocowboychurch.com
END:VEVENT
END:VCALENDAR