BEGIN:VCALENDAR
VERSION:2.0
PRODID:-// - ECPv6.15.20//NONSGML v1.0//EN
CALSCALE:GREGORIAN
METHOD:PUBLISH
X-ORIGINAL-URL:https://glenwoodlibrary.com
X-WR-CALDESC:Events for 
REFRESH-INTERVAL;VALUE=DURATION:PT1H
X-Robots-Tag:noindex
X-PUBLISHED-TTL:PT1H
BEGIN:VTIMEZONE
TZID:America/Denver
BEGIN:DAYLIGHT
TZOFFSETFROM:-0700
TZOFFSETTO:-0600
TZNAME:MDT
DTSTART:20250309T090000
END:DAYLIGHT
BEGIN:STANDARD
TZOFFSETFROM:-0600
TZOFFSETTO:-0700
TZNAME:MST
DTSTART:20251102T080000
END:STANDARD
BEGIN:DAYLIGHT
TZOFFSETFROM:-0700
TZOFFSETTO:-0600
TZNAME:MDT
DTSTART:20260308T090000
END:DAYLIGHT
BEGIN:STANDARD
TZOFFSETFROM:-0600
TZOFFSETTO:-0700
TZNAME:MST
DTSTART:20261101T080000
END:STANDARD
BEGIN:DAYLIGHT
TZOFFSETFROM:-0700
TZOFFSETTO:-0600
TZNAME:MDT
DTSTART:20270314T090000
END:DAYLIGHT
BEGIN:STANDARD
TZOFFSETFROM:-0600
TZOFFSETTO:-0700
TZNAME:MST
DTSTART:20271107T080000
END:STANDARD
END:VTIMEZONE
BEGIN:VEVENT
DTSTART;TZID=America/Denver:20260831T123000
DTEND;TZID=America/Denver:20260831T163000
DTSTAMP:20260422T054414
CREATED:20260401T171101Z
LAST-MODIFIED:20260401T171101Z
UID:10006080-1788179400-1788193800@glenwoodlibrary.com
SUMMARY:Summer Literacy Program
DESCRIPTION:
URL:https://glenwoodlibrary.com/event/summer-literacy-program/2026-08-31/
LOCATION:Gila Valley Library\, 411 Highway 211\, Gila\, NM\, 88038
CATEGORIES:Community Service,Education,Kids,Youth
ATTACH;FMTTYPE=image/jpeg:https://glenwoodlibrary.com/wp-content/uploads/2026/03/gvl-srp-summer2026.jpg
END:VEVENT
BEGIN:VEVENT
DTSTART;TZID=America/Denver:20260831T173000
DTEND;TZID=America/Denver:20260831T183000
DTSTAMP:20260422T054414
CREATED:20260401T185958Z
LAST-MODIFIED:20260401T190050Z
UID:10006300-1788197400-1788201000@glenwoodlibrary.com
SUMMARY:Little Wigglers
DESCRIPTION:
URL:https://glenwoodlibrary.com/event/little-wigglers/2026-08-31/
LOCATION:Gila Valley Library\, 411 Highway 211\, Gila\, NM\, 88038
CATEGORIES:Entertainment,Kids
ATTACH;FMTTYPE=image/jpeg:https://glenwoodlibrary.com/wp-content/uploads/2026/04/gvl-little-wigglers-feb2026.jpg
END:VEVENT
BEGIN:VEVENT
DTSTART;TZID=America/Denver:20260901T123000
DTEND;TZID=America/Denver:20260901T163000
DTSTAMP:20260422T054414
CREATED:20260401T171101Z
LAST-MODIFIED:20260401T171101Z
UID:10006081-1788265800-1788280200@glenwoodlibrary.com
SUMMARY:Summer Literacy Program
DESCRIPTION:
URL:https://glenwoodlibrary.com/event/summer-literacy-program/2026-09-01/
LOCATION:Gila Valley Library\, 411 Highway 211\, Gila\, NM\, 88038
CATEGORIES:Community Service,Education,Kids,Youth
ATTACH;FMTTYPE=image/jpeg:https://glenwoodlibrary.com/wp-content/uploads/2026/03/gvl-srp-summer2026.jpg
END:VEVENT
BEGIN:VEVENT
DTSTART;TZID=America/Denver:20260902T123000
DTEND;TZID=America/Denver:20260902T163000
DTSTAMP:20260422T054414
CREATED:20260401T171101Z
LAST-MODIFIED:20260401T171101Z
UID:10006082-1788352200-1788366600@glenwoodlibrary.com
SUMMARY:Summer Literacy Program
DESCRIPTION:
URL:https://glenwoodlibrary.com/event/summer-literacy-program/2026-09-02/
LOCATION:Gila Valley Library\, 411 Highway 211\, Gila\, NM\, 88038
CATEGORIES:Community Service,Education,Kids,Youth
ATTACH;FMTTYPE=image/jpeg:https://glenwoodlibrary.com/wp-content/uploads/2026/03/gvl-srp-summer2026.jpg
END:VEVENT
BEGIN:VEVENT
DTSTART;TZID=America/Denver:20260903T123000
DTEND;TZID=America/Denver:20260903T163000
DTSTAMP:20260422T054414
CREATED:20260401T171101Z
LAST-MODIFIED:20260401T171101Z
UID:10006083-1788438600-1788453000@glenwoodlibrary.com
SUMMARY:Summer Literacy Program
DESCRIPTION:
URL:https://glenwoodlibrary.com/event/summer-literacy-program/2026-09-03/
LOCATION:Gila Valley Library\, 411 Highway 211\, Gila\, NM\, 88038
CATEGORIES:Community Service,Education,Kids,Youth
ATTACH;FMTTYPE=image/jpeg:https://glenwoodlibrary.com/wp-content/uploads/2026/03/gvl-srp-summer2026.jpg
END:VEVENT
BEGIN:VEVENT
DTSTART;TZID=America/Denver:20260903T170000
DTEND;TZID=America/Denver:20260903T183000
DTSTAMP:20260422T054414
CREATED:20260403T202834Z
LAST-MODIFIED:20260403T203410Z
UID:10007501-1788454800-1788460200@glenwoodlibrary.com
SUMMARY:Kids for Christ
DESCRIPTION:
URL:https://glenwoodlibrary.com/event/kids-for-christ/2026-09-03/
LOCATION:Glenwood Community Church\, 5106 US-180\, Glenwood\, New Mexico\, 88039
CATEGORIES:Class / Instruction,Club / Organization,Community Service,Kids,Youth
ATTACH;FMTTYPE=image/jpeg:https://glenwoodlibrary.com/wp-content/uploads/2026/04/kids-for-christ.jpg
END:VEVENT
BEGIN:VEVENT
DTSTART;TZID=America/Denver:20260907T123000
DTEND;TZID=America/Denver:20260907T163000
DTSTAMP:20260422T054414
CREATED:20260401T171101Z
LAST-MODIFIED:20260401T171101Z
UID:10006084-1788784200-1788798600@glenwoodlibrary.com
SUMMARY:Summer Literacy Program
DESCRIPTION:
URL:https://glenwoodlibrary.com/event/summer-literacy-program/2026-09-07/
LOCATION:Gila Valley Library\, 411 Highway 211\, Gila\, NM\, 88038
CATEGORIES:Community Service,Education,Kids,Youth
ATTACH;FMTTYPE=image/jpeg:https://glenwoodlibrary.com/wp-content/uploads/2026/03/gvl-srp-summer2026.jpg
END:VEVENT
BEGIN:VEVENT
DTSTART;TZID=America/Denver:20260908T123000
DTEND;TZID=America/Denver:20260908T163000
DTSTAMP:20260422T054414
CREATED:20260401T171101Z
LAST-MODIFIED:20260401T171101Z
UID:10006085-1788870600-1788885000@glenwoodlibrary.com
SUMMARY:Summer Literacy Program
DESCRIPTION:
URL:https://glenwoodlibrary.com/event/summer-literacy-program/2026-09-08/
LOCATION:Gila Valley Library\, 411 Highway 211\, Gila\, NM\, 88038
CATEGORIES:Community Service,Education,Kids,Youth
ATTACH;FMTTYPE=image/jpeg:https://glenwoodlibrary.com/wp-content/uploads/2026/03/gvl-srp-summer2026.jpg
END:VEVENT
BEGIN:VEVENT
DTSTART;TZID=America/Denver:20260908T180000
DTEND;TZID=America/Denver:20260908T190000
DTSTAMP:20260422T054414
CREATED:20260403T082056Z
LAST-MODIFIED:20260403T082056Z
UID:10006691-1788890400-1788894000@glenwoodlibrary.com
SUMMARY:San Francisco Valley 4H Meeting
DESCRIPTION:
URL:https://glenwoodlibrary.com/event/san-francisco-valley-4h-meeting/2026-09-08/
LOCATION:Glenwood Community Center\, 21 Menges Lane\, Glenwood\, NM\, 88039\, United States
CATEGORIES:Club / Organization,Kids,Meeting,Youth
ATTACH;FMTTYPE=image/jpeg:https://glenwoodlibrary.com/wp-content/uploads/2025/07/4H-logo.jpg
END:VEVENT
BEGIN:VEVENT
DTSTART;TZID=America/Denver:20260909T123000
DTEND;TZID=America/Denver:20260909T163000
DTSTAMP:20260422T054414
CREATED:20260401T171101Z
LAST-MODIFIED:20260401T171101Z
UID:10006086-1788957000-1788971400@glenwoodlibrary.com
SUMMARY:Summer Literacy Program
DESCRIPTION:
URL:https://glenwoodlibrary.com/event/summer-literacy-program/2026-09-09/
LOCATION:Gila Valley Library\, 411 Highway 211\, Gila\, NM\, 88038
CATEGORIES:Community Service,Education,Kids,Youth
ATTACH;FMTTYPE=image/jpeg:https://glenwoodlibrary.com/wp-content/uploads/2026/03/gvl-srp-summer2026.jpg
END:VEVENT
BEGIN:VEVENT
DTSTART;TZID=America/Denver:20260910T123000
DTEND;TZID=America/Denver:20260910T163000
DTSTAMP:20260422T054414
CREATED:20260401T171101Z
LAST-MODIFIED:20260401T171101Z
UID:10006087-1789043400-1789057800@glenwoodlibrary.com
SUMMARY:Summer Literacy Program
DESCRIPTION:
URL:https://glenwoodlibrary.com/event/summer-literacy-program/2026-09-10/
LOCATION:Gila Valley Library\, 411 Highway 211\, Gila\, NM\, 88038
CATEGORIES:Community Service,Education,Kids,Youth
ATTACH;FMTTYPE=image/jpeg:https://glenwoodlibrary.com/wp-content/uploads/2026/03/gvl-srp-summer2026.jpg
END:VEVENT
BEGIN:VEVENT
DTSTART;TZID=America/Denver:20260910T170000
DTEND;TZID=America/Denver:20260910T183000
DTSTAMP:20260422T054414
CREATED:20260403T202834Z
LAST-MODIFIED:20260403T203410Z
UID:10007502-1789059600-1789065000@glenwoodlibrary.com
SUMMARY:Kids for Christ
DESCRIPTION:
URL:https://glenwoodlibrary.com/event/kids-for-christ/2026-09-10/
LOCATION:Glenwood Community Church\, 5106 US-180\, Glenwood\, New Mexico\, 88039
CATEGORIES:Class / Instruction,Club / Organization,Community Service,Kids,Youth
ATTACH;FMTTYPE=image/jpeg:https://glenwoodlibrary.com/wp-content/uploads/2026/04/kids-for-christ.jpg
END:VEVENT
BEGIN:VEVENT
DTSTART;TZID=America/Denver:20260914T123000
DTEND;TZID=America/Denver:20260914T163000
DTSTAMP:20260422T054414
CREATED:20260401T171101Z
LAST-MODIFIED:20260401T171101Z
UID:10006088-1789389000-1789403400@glenwoodlibrary.com
SUMMARY:Summer Literacy Program
DESCRIPTION:
URL:https://glenwoodlibrary.com/event/summer-literacy-program/2026-09-14/
LOCATION:Gila Valley Library\, 411 Highway 211\, Gila\, NM\, 88038
CATEGORIES:Community Service,Education,Kids,Youth
ATTACH;FMTTYPE=image/jpeg:https://glenwoodlibrary.com/wp-content/uploads/2026/03/gvl-srp-summer2026.jpg
END:VEVENT
BEGIN:VEVENT
DTSTART;TZID=America/Denver:20260915T123000
DTEND;TZID=America/Denver:20260915T163000
DTSTAMP:20260422T054414
CREATED:20260401T171101Z
LAST-MODIFIED:20260401T171101Z
UID:10006089-1789475400-1789489800@glenwoodlibrary.com
SUMMARY:Summer Literacy Program
DESCRIPTION:
URL:https://glenwoodlibrary.com/event/summer-literacy-program/2026-09-15/
LOCATION:Gila Valley Library\, 411 Highway 211\, Gila\, NM\, 88038
CATEGORIES:Community Service,Education,Kids,Youth
ATTACH;FMTTYPE=image/jpeg:https://glenwoodlibrary.com/wp-content/uploads/2026/03/gvl-srp-summer2026.jpg
END:VEVENT
BEGIN:VEVENT
DTSTART;TZID=America/Denver:20260916T123000
DTEND;TZID=America/Denver:20260916T163000
DTSTAMP:20260422T054414
CREATED:20260401T171101Z
LAST-MODIFIED:20260401T171101Z
UID:10006090-1789561800-1789576200@glenwoodlibrary.com
SUMMARY:Summer Literacy Program
DESCRIPTION:
URL:https://glenwoodlibrary.com/event/summer-literacy-program/2026-09-16/
LOCATION:Gila Valley Library\, 411 Highway 211\, Gila\, NM\, 88038
CATEGORIES:Community Service,Education,Kids,Youth
ATTACH;FMTTYPE=image/jpeg:https://glenwoodlibrary.com/wp-content/uploads/2026/03/gvl-srp-summer2026.jpg
END:VEVENT
BEGIN:VEVENT
DTSTART;TZID=America/Denver:20260917T123000
DTEND;TZID=America/Denver:20260917T163000
DTSTAMP:20260422T054414
CREATED:20260401T171101Z
LAST-MODIFIED:20260401T171101Z
UID:10006091-1789648200-1789662600@glenwoodlibrary.com
SUMMARY:Summer Literacy Program
DESCRIPTION:
URL:https://glenwoodlibrary.com/event/summer-literacy-program/2026-09-17/
LOCATION:Gila Valley Library\, 411 Highway 211\, Gila\, NM\, 88038
CATEGORIES:Community Service,Education,Kids,Youth
ATTACH;FMTTYPE=image/jpeg:https://glenwoodlibrary.com/wp-content/uploads/2026/03/gvl-srp-summer2026.jpg
END:VEVENT
BEGIN:VEVENT
DTSTART;TZID=America/Denver:20260917T170000
DTEND;TZID=America/Denver:20260917T183000
DTSTAMP:20260422T054414
CREATED:20260403T202834Z
LAST-MODIFIED:20260403T203410Z
UID:10007503-1789664400-1789669800@glenwoodlibrary.com
SUMMARY:Kids for Christ
DESCRIPTION:
URL:https://glenwoodlibrary.com/event/kids-for-christ/2026-09-17/
LOCATION:Glenwood Community Church\, 5106 US-180\, Glenwood\, New Mexico\, 88039
CATEGORIES:Class / Instruction,Club / Organization,Community Service,Kids,Youth
ATTACH;FMTTYPE=image/jpeg:https://glenwoodlibrary.com/wp-content/uploads/2026/04/kids-for-christ.jpg
END:VEVENT
BEGIN:VEVENT
DTSTART;TZID=America/Denver:20260921T123000
DTEND;TZID=America/Denver:20260921T163000
DTSTAMP:20260422T054414
CREATED:20260401T171101Z
LAST-MODIFIED:20260401T171101Z
UID:10006092-1789993800-1790008200@glenwoodlibrary.com
SUMMARY:Summer Literacy Program
DESCRIPTION:
URL:https://glenwoodlibrary.com/event/summer-literacy-program/2026-09-21/
LOCATION:Gila Valley Library\, 411 Highway 211\, Gila\, NM\, 88038
CATEGORIES:Community Service,Education,Kids,Youth
ATTACH;FMTTYPE=image/jpeg:https://glenwoodlibrary.com/wp-content/uploads/2026/03/gvl-srp-summer2026.jpg
END:VEVENT
BEGIN:VEVENT
DTSTART;TZID=America/Denver:20260921T173000
DTEND;TZID=America/Denver:20260921T183000
DTSTAMP:20260422T054414
CREATED:20260401T185958Z
LAST-MODIFIED:20260401T190050Z
UID:10006318-1790011800-1790015400@glenwoodlibrary.com
SUMMARY:Little Wigglers
DESCRIPTION:
URL:https://glenwoodlibrary.com/event/little-wigglers/2026-09-21/
LOCATION:Gila Valley Library\, 411 Highway 211\, Gila\, NM\, 88038
CATEGORIES:Entertainment,Kids
ATTACH;FMTTYPE=image/jpeg:https://glenwoodlibrary.com/wp-content/uploads/2026/04/gvl-little-wigglers-feb2026.jpg
END:VEVENT
BEGIN:VEVENT
DTSTART;TZID=America/Denver:20260922T123000
DTEND;TZID=America/Denver:20260922T163000
DTSTAMP:20260422T054414
CREATED:20260401T171101Z
LAST-MODIFIED:20260401T171101Z
UID:10006093-1790080200-1790094600@glenwoodlibrary.com
SUMMARY:Summer Literacy Program
DESCRIPTION:
URL:https://glenwoodlibrary.com/event/summer-literacy-program/2026-09-22/
LOCATION:Gila Valley Library\, 411 Highway 211\, Gila\, NM\, 88038
CATEGORIES:Community Service,Education,Kids,Youth
ATTACH;FMTTYPE=image/jpeg:https://glenwoodlibrary.com/wp-content/uploads/2026/03/gvl-srp-summer2026.jpg
END:VEVENT
BEGIN:VEVENT
DTSTART;TZID=America/Denver:20260923T123000
DTEND;TZID=America/Denver:20260923T163000
DTSTAMP:20260422T054414
CREATED:20260401T171101Z
LAST-MODIFIED:20260401T171101Z
UID:10006094-1790166600-1790181000@glenwoodlibrary.com
SUMMARY:Summer Literacy Program
DESCRIPTION:
URL:https://glenwoodlibrary.com/event/summer-literacy-program/2026-09-23/
LOCATION:Gila Valley Library\, 411 Highway 211\, Gila\, NM\, 88038
CATEGORIES:Community Service,Education,Kids,Youth
ATTACH;FMTTYPE=image/jpeg:https://glenwoodlibrary.com/wp-content/uploads/2026/03/gvl-srp-summer2026.jpg
END:VEVENT
BEGIN:VEVENT
DTSTART;TZID=America/Denver:20260924T123000
DTEND;TZID=America/Denver:20260924T163000
DTSTAMP:20260422T054414
CREATED:20260401T171101Z
LAST-MODIFIED:20260401T171101Z
UID:10006095-1790253000-1790267400@glenwoodlibrary.com
SUMMARY:Summer Literacy Program
DESCRIPTION:
URL:https://glenwoodlibrary.com/event/summer-literacy-program/2026-09-24/
LOCATION:Gila Valley Library\, 411 Highway 211\, Gila\, NM\, 88038
CATEGORIES:Community Service,Education,Kids,Youth
ATTACH;FMTTYPE=image/jpeg:https://glenwoodlibrary.com/wp-content/uploads/2026/03/gvl-srp-summer2026.jpg
END:VEVENT
BEGIN:VEVENT
DTSTART;TZID=America/Denver:20260924T170000
DTEND;TZID=America/Denver:20260924T183000
DTSTAMP:20260422T054414
CREATED:20260403T202834Z
LAST-MODIFIED:20260403T203410Z
UID:10007504-1790269200-1790274600@glenwoodlibrary.com
SUMMARY:Kids for Christ
DESCRIPTION:
URL:https://glenwoodlibrary.com/event/kids-for-christ/2026-09-24/
LOCATION:Glenwood Community Church\, 5106 US-180\, Glenwood\, New Mexico\, 88039
CATEGORIES:Class / Instruction,Club / Organization,Community Service,Kids,Youth
ATTACH;FMTTYPE=image/jpeg:https://glenwoodlibrary.com/wp-content/uploads/2026/04/kids-for-christ.jpg
END:VEVENT
BEGIN:VEVENT
DTSTART;TZID=America/Denver:20260928T123000
DTEND;TZID=America/Denver:20260928T163000
DTSTAMP:20260422T054414
CREATED:20260401T171101Z
LAST-MODIFIED:20260401T171101Z
UID:10006096-1790598600-1790613000@glenwoodlibrary.com
SUMMARY:Summer Literacy Program
DESCRIPTION:
URL:https://glenwoodlibrary.com/event/summer-literacy-program/2026-09-28/
LOCATION:Gila Valley Library\, 411 Highway 211\, Gila\, NM\, 88038
CATEGORIES:Community Service,Education,Kids,Youth
ATTACH;FMTTYPE=image/jpeg:https://glenwoodlibrary.com/wp-content/uploads/2026/03/gvl-srp-summer2026.jpg
END:VEVENT
BEGIN:VEVENT
DTSTART;TZID=America/Denver:20260929T123000
DTEND;TZID=America/Denver:20260929T163000
DTSTAMP:20260422T054414
CREATED:20260401T171101Z
LAST-MODIFIED:20260401T171101Z
UID:10006097-1790685000-1790699400@glenwoodlibrary.com
SUMMARY:Summer Literacy Program
DESCRIPTION:
URL:https://glenwoodlibrary.com/event/summer-literacy-program/2026-09-29/
LOCATION:Gila Valley Library\, 411 Highway 211\, Gila\, NM\, 88038
CATEGORIES:Community Service,Education,Kids,Youth
ATTACH;FMTTYPE=image/jpeg:https://glenwoodlibrary.com/wp-content/uploads/2026/03/gvl-srp-summer2026.jpg
END:VEVENT
BEGIN:VEVENT
DTSTART;TZID=America/Denver:20260930T123000
DTEND;TZID=America/Denver:20260930T163000
DTSTAMP:20260422T054414
CREATED:20260401T171101Z
LAST-MODIFIED:20260401T171101Z
UID:10006098-1790771400-1790785800@glenwoodlibrary.com
SUMMARY:Summer Literacy Program
DESCRIPTION:
URL:https://glenwoodlibrary.com/event/summer-literacy-program/2026-09-30/
LOCATION:Gila Valley Library\, 411 Highway 211\, Gila\, NM\, 88038
CATEGORIES:Community Service,Education,Kids,Youth
ATTACH;FMTTYPE=image/jpeg:https://glenwoodlibrary.com/wp-content/uploads/2026/03/gvl-srp-summer2026.jpg
END:VEVENT
BEGIN:VEVENT
DTSTART;TZID=America/Denver:20261001T123000
DTEND;TZID=America/Denver:20261001T163000
DTSTAMP:20260422T054414
CREATED:20260401T171101Z
LAST-MODIFIED:20260401T171101Z
UID:10006099-1790857800-1790872200@glenwoodlibrary.com
SUMMARY:Summer Literacy Program
DESCRIPTION:
URL:https://glenwoodlibrary.com/event/summer-literacy-program/2026-10-01/
LOCATION:Gila Valley Library\, 411 Highway 211\, Gila\, NM\, 88038
CATEGORIES:Community Service,Education,Kids,Youth
ATTACH;FMTTYPE=image/jpeg:https://glenwoodlibrary.com/wp-content/uploads/2026/03/gvl-srp-summer2026.jpg
END:VEVENT
BEGIN:VEVENT
DTSTART;TZID=America/Denver:20261001T170000
DTEND;TZID=America/Denver:20261001T183000
DTSTAMP:20260422T054414
CREATED:20260403T202834Z
LAST-MODIFIED:20260403T203410Z
UID:10007505-1790874000-1790879400@glenwoodlibrary.com
SUMMARY:Kids for Christ
DESCRIPTION:
URL:https://glenwoodlibrary.com/event/kids-for-christ/2026-10-01/
LOCATION:Glenwood Community Church\, 5106 US-180\, Glenwood\, New Mexico\, 88039
CATEGORIES:Class / Instruction,Club / Organization,Community Service,Kids,Youth
ATTACH;FMTTYPE=image/jpeg:https://glenwoodlibrary.com/wp-content/uploads/2026/04/kids-for-christ.jpg
END:VEVENT
BEGIN:VEVENT
DTSTART;TZID=America/Denver:20261005T123000
DTEND;TZID=America/Denver:20261005T163000
DTSTAMP:20260422T054414
CREATED:20260401T171101Z
LAST-MODIFIED:20260401T171101Z
UID:10006100-1791203400-1791217800@glenwoodlibrary.com
SUMMARY:Summer Literacy Program
DESCRIPTION:
URL:https://glenwoodlibrary.com/event/summer-literacy-program/2026-10-05/
LOCATION:Gila Valley Library\, 411 Highway 211\, Gila\, NM\, 88038
CATEGORIES:Community Service,Education,Kids,Youth
ATTACH;FMTTYPE=image/jpeg:https://glenwoodlibrary.com/wp-content/uploads/2026/03/gvl-srp-summer2026.jpg
END:VEVENT
BEGIN:VEVENT
DTSTART;TZID=America/Denver:20261006T123000
DTEND;TZID=America/Denver:20261006T163000
DTSTAMP:20260422T054414
CREATED:20260401T171101Z
LAST-MODIFIED:20260401T171101Z
UID:10006101-1791289800-1791304200@glenwoodlibrary.com
SUMMARY:Summer Literacy Program
DESCRIPTION:
URL:https://glenwoodlibrary.com/event/summer-literacy-program/2026-10-06/
LOCATION:Gila Valley Library\, 411 Highway 211\, Gila\, NM\, 88038
CATEGORIES:Community Service,Education,Kids,Youth
ATTACH;FMTTYPE=image/jpeg:https://glenwoodlibrary.com/wp-content/uploads/2026/03/gvl-srp-summer2026.jpg
END:VEVENT
END:VCALENDAR