BEGIN:VCALENDAR
VERSION:2.0
PRODID:-// - ECPv6.15.20//NONSGML v1.0//EN
CALSCALE:GREGORIAN
METHOD:PUBLISH
X-ORIGINAL-URL:https://glenwoodlibrary.com
X-WR-CALDESC:Events for 
REFRESH-INTERVAL;VALUE=DURATION:PT1H
X-Robots-Tag:noindex
X-PUBLISHED-TTL:PT1H
BEGIN:VTIMEZONE
TZID:America/Denver
BEGIN:DAYLIGHT
TZOFFSETFROM:-0700
TZOFFSETTO:-0600
TZNAME:MDT
DTSTART:20250309T090000
END:DAYLIGHT
BEGIN:STANDARD
TZOFFSETFROM:-0600
TZOFFSETTO:-0700
TZNAME:MST
DTSTART:20251102T080000
END:STANDARD
BEGIN:DAYLIGHT
TZOFFSETFROM:-0700
TZOFFSETTO:-0600
TZNAME:MDT
DTSTART:20260308T090000
END:DAYLIGHT
BEGIN:STANDARD
TZOFFSETFROM:-0600
TZOFFSETTO:-0700
TZNAME:MST
DTSTART:20261101T080000
END:STANDARD
BEGIN:DAYLIGHT
TZOFFSETFROM:-0700
TZOFFSETTO:-0600
TZNAME:MDT
DTSTART:20270314T090000
END:DAYLIGHT
BEGIN:STANDARD
TZOFFSETFROM:-0600
TZOFFSETTO:-0700
TZNAME:MST
DTSTART:20271107T080000
END:STANDARD
END:VTIMEZONE
BEGIN:VEVENT
DTSTART;TZID=America/Denver:20260505T130000
DTEND;TZID=America/Denver:20260505T140000
DTSTAMP:20260422T170652
CREATED:20260403T073727Z
LAST-MODIFIED:20260403T073727Z
UID:10006446-1777986000-1777989600@glenwoodlibrary.com
SUMMARY:GCC Board Meeting
DESCRIPTION:
URL:https://glenwoodlibrary.com/event/gcc-board-meeting/2026-05-05/
LOCATION:Glenwood Community Center\, 21 Menges Lane\, Glenwood\, NM\, 88039\, United States
CATEGORIES:Club / Organization,Meeting
ATTACH;FMTTYPE=image/jpeg:https://glenwoodlibrary.com/wp-content/uploads/2025/07/gcc.jpg
ORGANIZER;CN="Cathy Murphy":MAILTO:dadandc@icloud.com
END:VEVENT
BEGIN:VEVENT
DTSTART;TZID=America/Denver:20260506T103000
DTEND;TZID=America/Denver:20260506T120000
DTSTAMP:20260422T170652
CREATED:20251103T151348Z
LAST-MODIFIED:20251103T151348Z
UID:10005508-1778063400-1778068800@glenwoodlibrary.com
SUMMARY:GCL Book Club
DESCRIPTION:
URL:https://glenwoodlibrary.com/event/gcl-book-club/2026-05-06/
LOCATION:Glenwood Community Library\, 14 Menges Lane\, Glenwood\, NM\, 88039\, United States
CATEGORIES:Art / Literature,Education,Meeting
ATTACH;FMTTYPE=image/jpeg:https://glenwoodlibrary.com/wp-content/uploads/2025/11/gcl-book-club.jpg
END:VEVENT
BEGIN:VEVENT
DTSTART;TZID=America/Denver:20260506T180000
DTEND;TZID=America/Denver:20260506T193000
DTSTAMP:20260422T170652
CREATED:20260403T072749Z
LAST-MODIFIED:20260403T072749Z
UID:10006325-1778090400-1778095800@glenwoodlibrary.com
SUMMARY:Mogollon Mountain Gun Club
DESCRIPTION:
URL:https://glenwoodlibrary.com/event/mogollon-mountain-gun-club/2026-05-06/
LOCATION:Glenwood Community Center\, 21 Menges Lane\, Glenwood\, NM\, 88039\, United States
CATEGORIES:Club / Organization,Meeting
ATTACH;FMTTYPE=image/jpeg:https://glenwoodlibrary.com/wp-content/uploads/2026/04/sponsors-gun-club.jpg
ORGANIZER;CN="Mogollon Mountain Gun Club":MAILTO:dadandc@icloud.com
END:VEVENT
BEGIN:VEVENT
DTSTART;TZID=America/Denver:20260512T180000
DTEND;TZID=America/Denver:20260512T190000
DTSTAMP:20260422T170652
CREATED:20260403T082056Z
LAST-MODIFIED:20260403T082056Z
UID:10006687-1778608800-1778612400@glenwoodlibrary.com
SUMMARY:San Francisco Valley 4H Meeting
DESCRIPTION:
URL:https://glenwoodlibrary.com/event/san-francisco-valley-4h-meeting/2026-05-12/
LOCATION:Glenwood Community Center\, 21 Menges Lane\, Glenwood\, NM\, 88039\, United States
CATEGORIES:Club / Organization,Kids,Meeting,Youth
ATTACH;FMTTYPE=image/jpeg:https://glenwoodlibrary.com/wp-content/uploads/2025/07/4H-logo.jpg
END:VEVENT
BEGIN:VEVENT
DTSTART;TZID=America/Denver:20260513T090000
DTEND;TZID=America/Denver:20260513T160000
DTSTAMP:20260422T170652
CREATED:20240820T022622Z
LAST-MODIFIED:20240820T022622Z
UID:10002431-1778662800-1778688000@glenwoodlibrary.com
SUMMARY:Catron County Commission Meeting
DESCRIPTION:Where:\nFire Administration Building\n3 Mountaineer Road\nReserve  NM  87830 \nContact Name:\nKelly Schilleman \nContact Phone:\n575-533-6423
URL:https://glenwoodlibrary.com/event/catron-county-commission-meeting-2/2026-05-13/
LOCATION:Reserve\, Reserve\, NM\, 87830
CATEGORIES:Meeting
ATTACH;FMTTYPE=image/png:https://glenwoodlibrary.com/wp-content/uploads/2024/08/catron-county-logo.png
ORGANIZER;CN="Catron County":MAILTO:dusty.choate@catroncountynm.gov
END:VEVENT
BEGIN:VEVENT
DTSTART;TZID=America/Denver:20260513T180000
DTEND;TZID=America/Denver:20260513T190000
DTSTAMP:20260422T170652
CREATED:20260403T073441Z
LAST-MODIFIED:20260403T073441Z
UID:10006386-1778695200-1778698800@glenwoodlibrary.com
SUMMARY:Glenwood Woman's Club
DESCRIPTION:
URL:https://glenwoodlibrary.com/event/glenwood-womans-club/2026-05-13/
LOCATION:Glenwood Community Center\, 21 Menges Lane\, Glenwood\, NM\, 88039\, United States
CATEGORIES:Club / Organization,Meeting
ATTACH;FMTTYPE=image/jpeg:https://glenwoodlibrary.com/wp-content/uploads/2026/04/gwc-calendar.jpg
ORGANIZER;CN="Glenwood Woman's Club":MAILTO:glenwoodwomansclub@gmail.com
END:VEVENT
BEGIN:VEVENT
DTSTART;TZID=America/Denver:20260513T180000
DTEND;TZID=America/Denver:20260513T200000
DTSTAMP:20260422T170652
CREATED:20260403T080239Z
LAST-MODIFIED:20260403T080239Z
UID:10006567-1778695200-1778702400@glenwoodlibrary.com
SUMMARY:Glenwood Fire & Rescue Dept Meeting
DESCRIPTION:
URL:https://glenwoodlibrary.com/event/glenwood-fire-rescue-dept-meeting/2026-05-13/
LOCATION:Glenwood Fire Station\, 4 Danny George Lane\, Glenwood\, NM\, 88039\, United States
CATEGORIES:Club / Organization,Community Service,Meeting
ATTACH;FMTTYPE=image/jpeg:https://glenwoodlibrary.com/wp-content/uploads/2025/10/glenwood-fire-rescue-patch.jpg
END:VEVENT
BEGIN:VEVENT
DTSTART;TZID=America/Denver:20260518T180000
DTEND;TZID=America/Denver:20260518T190000
DTSTAMP:20260422T170652
CREATED:20260403T082859Z
LAST-MODIFIED:20260403T082859Z
UID:10006747-1779127200-1779130800@glenwoodlibrary.com
SUMMARY:Frisco Cowbelles Meeting
DESCRIPTION:
URL:https://glenwoodlibrary.com/event/frisco-cowbelles-meeting/2026-05-18/
LOCATION:Glenwood Community Center\, 21 Menges Lane\, Glenwood\, NM\, 88039\, United States
CATEGORIES:Club / Organization,Meeting
ATTACH;FMTTYPE=image/jpeg:https://glenwoodlibrary.com/wp-content/uploads/2025/07/cowbelles-logo.jpg
END:VEVENT
BEGIN:VEVENT
DTSTART;TZID=America/Denver:20260527T180000
DTEND;TZID=America/Denver:20260527T200000
DTSTAMP:20260422T170652
CREATED:20260403T080525Z
LAST-MODIFIED:20260403T080525Z
UID:10006627-1779904800-1779912000@glenwoodlibrary.com
SUMMARY:Glenwood Fire & Rescue EMS Meeting
DESCRIPTION:
URL:https://glenwoodlibrary.com/event/glenwood-fire-rescue-ems-meeting/2026-05-27/
LOCATION:Glenwood Fire Station\, 4 Danny George Lane\, Glenwood\, NM\, 88039\, United States
CATEGORIES:Club / Organization,Community Service,Meeting
ATTACH;FMTTYPE=image/jpeg:https://glenwoodlibrary.com/wp-content/uploads/2025/10/glenwood-fire-rescue-patch.jpg
END:VEVENT
END:VCALENDAR