BEGIN:VCALENDAR
VERSION:2.0
PRODID:-// - ECPv6.15.20//NONSGML v1.0//EN
CALSCALE:GREGORIAN
METHOD:PUBLISH
X-ORIGINAL-URL:https://glenwoodlibrary.com
X-WR-CALDESC:Events for 
REFRESH-INTERVAL;VALUE=DURATION:PT1H
X-Robots-Tag:noindex
X-PUBLISHED-TTL:PT1H
BEGIN:VTIMEZONE
TZID:America/Denver
BEGIN:DAYLIGHT
TZOFFSETFROM:-0700
TZOFFSETTO:-0600
TZNAME:MDT
DTSTART:20280312T090000
END:DAYLIGHT
BEGIN:STANDARD
TZOFFSETFROM:-0600
TZOFFSETTO:-0700
TZNAME:MST
DTSTART:20281105T080000
END:STANDARD
BEGIN:DAYLIGHT
TZOFFSETFROM:-0700
TZOFFSETTO:-0600
TZNAME:MDT
DTSTART:20290311T090000
END:DAYLIGHT
BEGIN:STANDARD
TZOFFSETFROM:-0600
TZOFFSETTO:-0700
TZNAME:MST
DTSTART:20291104T080000
END:STANDARD
BEGIN:DAYLIGHT
TZOFFSETFROM:-0700
TZOFFSETTO:-0600
TZNAME:MDT
DTSTART:20300310T090000
END:DAYLIGHT
BEGIN:STANDARD
TZOFFSETFROM:-0600
TZOFFSETTO:-0700
TZNAME:MST
DTSTART:20301103T080000
END:STANDARD
END:VTIMEZONE
BEGIN:VEVENT
DTSTART;TZID=America/Denver:20290531T183000
DTEND;TZID=America/Denver:20290531T213000
DTSTAMP:20260423T201723
CREATED:20240820T153925Z
LAST-MODIFIED:20240820T153925Z
UID:10002534-1874946600-1874957400@glenwoodlibrary.com
SUMMARY:Songwriter’s Showcase
DESCRIPTION:Sign up @ 6:00pm\, must sign up in person\nCome showcase songs you’ve been working on.  Each participating writer will get the chance to play three original songs.
URL:https://glenwoodlibrary.com/event/songwriters-showcase-3/2029-05-31/
LOCATION:Whiskey Creek Zocalo\, 11786 Hwy 180 East\, Silver City\, New Mexico\, 88061
CATEGORIES:Music / Dance
ATTACH;FMTTYPE=image/jpeg:https://glenwoodlibrary.com/wp-content/uploads/2024/08/wcz-logo.jpg
END:VEVENT
BEGIN:VEVENT
DTSTART;TZID=America/Denver:20290628T183000
DTEND;TZID=America/Denver:20290628T213000
DTSTAMP:20260423T201723
CREATED:20240820T153925Z
LAST-MODIFIED:20240820T153925Z
UID:10002535-1877365800-1877376600@glenwoodlibrary.com
SUMMARY:Songwriter’s Showcase
DESCRIPTION:Sign up @ 6:00pm\, must sign up in person\nCome showcase songs you’ve been working on.  Each participating writer will get the chance to play three original songs.
URL:https://glenwoodlibrary.com/event/songwriters-showcase-3/2029-06-28/
LOCATION:Whiskey Creek Zocalo\, 11786 Hwy 180 East\, Silver City\, New Mexico\, 88061
CATEGORIES:Music / Dance
ATTACH;FMTTYPE=image/jpeg:https://glenwoodlibrary.com/wp-content/uploads/2024/08/wcz-logo.jpg
END:VEVENT
BEGIN:VEVENT
DTSTART;TZID=America/Denver:20290726T183000
DTEND;TZID=America/Denver:20290726T213000
DTSTAMP:20260423T201723
CREATED:20240820T153925Z
LAST-MODIFIED:20240820T153925Z
UID:10002536-1879785000-1879795800@glenwoodlibrary.com
SUMMARY:Songwriter’s Showcase
DESCRIPTION:Sign up @ 6:00pm\, must sign up in person\nCome showcase songs you’ve been working on.  Each participating writer will get the chance to play three original songs.
URL:https://glenwoodlibrary.com/event/songwriters-showcase-3/2029-07-26/
LOCATION:Whiskey Creek Zocalo\, 11786 Hwy 180 East\, Silver City\, New Mexico\, 88061
CATEGORIES:Music / Dance
ATTACH;FMTTYPE=image/jpeg:https://glenwoodlibrary.com/wp-content/uploads/2024/08/wcz-logo.jpg
END:VEVENT
END:VCALENDAR