BEGIN:VCALENDAR
VERSION:2.0
PRODID:-// - ECPv6.15.20//NONSGML v1.0//EN
CALSCALE:GREGORIAN
METHOD:PUBLISH
X-ORIGINAL-URL:https://glenwoodlibrary.com
X-WR-CALDESC:Events for 
REFRESH-INTERVAL;VALUE=DURATION:PT1H
X-Robots-Tag:noindex
X-PUBLISHED-TTL:PT1H
BEGIN:VTIMEZONE
TZID:America/Denver
BEGIN:DAYLIGHT
TZOFFSETFROM:-0700
TZOFFSETTO:-0600
TZNAME:MDT
DTSTART:20250309T090000
END:DAYLIGHT
BEGIN:STANDARD
TZOFFSETFROM:-0600
TZOFFSETTO:-0700
TZNAME:MST
DTSTART:20251102T080000
END:STANDARD
BEGIN:DAYLIGHT
TZOFFSETFROM:-0700
TZOFFSETTO:-0600
TZNAME:MDT
DTSTART:20260308T090000
END:DAYLIGHT
BEGIN:STANDARD
TZOFFSETFROM:-0600
TZOFFSETTO:-0700
TZNAME:MST
DTSTART:20261101T080000
END:STANDARD
BEGIN:DAYLIGHT
TZOFFSETFROM:-0700
TZOFFSETTO:-0600
TZNAME:MDT
DTSTART:20270314T090000
END:DAYLIGHT
BEGIN:STANDARD
TZOFFSETFROM:-0600
TZOFFSETTO:-0700
TZNAME:MST
DTSTART:20271107T080000
END:STANDARD
BEGIN:DAYLIGHT
TZOFFSETFROM:-0700
TZOFFSETTO:-0600
TZNAME:MDT
DTSTART:20280312T090000
END:DAYLIGHT
BEGIN:STANDARD
TZOFFSETFROM:-0600
TZOFFSETTO:-0700
TZNAME:MST
DTSTART:20281105T080000
END:STANDARD
END:VTIMEZONE
BEGIN:VEVENT
DTSTART;TZID=America/Denver:20261223T160000
DTEND;TZID=America/Denver:20261223T180000
DTSTAMP:20260425T101957
CREATED:20250610T000935Z
LAST-MODIFIED:20250610T000935Z
UID:10005298-1798041600-1798048800@glenwoodlibrary.com
SUMMARY:Santa Clara Mercado
DESCRIPTION:
URL:https://glenwoodlibrary.com/event/santa-clara-mercado/2026-12-23/
LOCATION:Santa Clara\, Santa Clara\, NM\, 88026
CATEGORIES:Outdoor,Street / Farmer's Market
ATTACH;FMTTYPE=image/jpeg:https://glenwoodlibrary.com/wp-content/uploads/2025/06/sc-mercado-060425.jpg
ORGANIZER;CN="Santa Clara Mercado":MAILTO:SantaClaraMercadoNM@gmail.com
END:VEVENT
BEGIN:VEVENT
DTSTART;TZID=America/Denver:20261230T160000
DTEND;TZID=America/Denver:20261230T180000
DTSTAMP:20260425T101957
CREATED:20250610T000935Z
LAST-MODIFIED:20250610T000935Z
UID:10005299-1798646400-1798653600@glenwoodlibrary.com
SUMMARY:Santa Clara Mercado
DESCRIPTION:
URL:https://glenwoodlibrary.com/event/santa-clara-mercado/2026-12-30/
LOCATION:Santa Clara\, Santa Clara\, NM\, 88026
CATEGORIES:Outdoor,Street / Farmer's Market
ATTACH;FMTTYPE=image/jpeg:https://glenwoodlibrary.com/wp-content/uploads/2025/06/sc-mercado-060425.jpg
ORGANIZER;CN="Santa Clara Mercado":MAILTO:SantaClaraMercadoNM@gmail.com
END:VEVENT
BEGIN:VEVENT
DTSTART;TZID=America/Denver:20270106T160000
DTEND;TZID=America/Denver:20270106T180000
DTSTAMP:20260425T101957
CREATED:20250610T000935Z
LAST-MODIFIED:20250610T000935Z
UID:10005300-1799251200-1799258400@glenwoodlibrary.com
SUMMARY:Santa Clara Mercado
DESCRIPTION:
URL:https://glenwoodlibrary.com/event/santa-clara-mercado/2027-01-06/
LOCATION:Santa Clara\, Santa Clara\, NM\, 88026
CATEGORIES:Outdoor,Street / Farmer's Market
ATTACH;FMTTYPE=image/jpeg:https://glenwoodlibrary.com/wp-content/uploads/2025/06/sc-mercado-060425.jpg
ORGANIZER;CN="Santa Clara Mercado":MAILTO:SantaClaraMercadoNM@gmail.com
END:VEVENT
BEGIN:VEVENT
DTSTART;TZID=America/Denver:20270113T160000
DTEND;TZID=America/Denver:20270113T180000
DTSTAMP:20260425T101957
CREATED:20250610T000935Z
LAST-MODIFIED:20250610T000935Z
UID:10005301-1799856000-1799863200@glenwoodlibrary.com
SUMMARY:Santa Clara Mercado
DESCRIPTION:
URL:https://glenwoodlibrary.com/event/santa-clara-mercado/2027-01-13/
LOCATION:Santa Clara\, Santa Clara\, NM\, 88026
CATEGORIES:Outdoor,Street / Farmer's Market
ATTACH;FMTTYPE=image/jpeg:https://glenwoodlibrary.com/wp-content/uploads/2025/06/sc-mercado-060425.jpg
ORGANIZER;CN="Santa Clara Mercado":MAILTO:SantaClaraMercadoNM@gmail.com
END:VEVENT
BEGIN:VEVENT
DTSTART;TZID=America/Denver:20270120T160000
DTEND;TZID=America/Denver:20270120T180000
DTSTAMP:20260425T101957
CREATED:20250610T000935Z
LAST-MODIFIED:20250610T000935Z
UID:10005302-1800460800-1800468000@glenwoodlibrary.com
SUMMARY:Santa Clara Mercado
DESCRIPTION:
URL:https://glenwoodlibrary.com/event/santa-clara-mercado/2027-01-20/
LOCATION:Santa Clara\, Santa Clara\, NM\, 88026
CATEGORIES:Outdoor,Street / Farmer's Market
ATTACH;FMTTYPE=image/jpeg:https://glenwoodlibrary.com/wp-content/uploads/2025/06/sc-mercado-060425.jpg
ORGANIZER;CN="Santa Clara Mercado":MAILTO:SantaClaraMercadoNM@gmail.com
END:VEVENT
BEGIN:VEVENT
DTSTART;TZID=America/Denver:20270127T160000
DTEND;TZID=America/Denver:20270127T180000
DTSTAMP:20260425T101957
CREATED:20250610T000935Z
LAST-MODIFIED:20250610T000935Z
UID:10005303-1801065600-1801072800@glenwoodlibrary.com
SUMMARY:Santa Clara Mercado
DESCRIPTION:
URL:https://glenwoodlibrary.com/event/santa-clara-mercado/2027-01-27/
LOCATION:Santa Clara\, Santa Clara\, NM\, 88026
CATEGORIES:Outdoor,Street / Farmer's Market
ATTACH;FMTTYPE=image/jpeg:https://glenwoodlibrary.com/wp-content/uploads/2025/06/sc-mercado-060425.jpg
ORGANIZER;CN="Santa Clara Mercado":MAILTO:SantaClaraMercadoNM@gmail.com
END:VEVENT
BEGIN:VEVENT
DTSTART;TZID=America/Denver:20270203T160000
DTEND;TZID=America/Denver:20270203T180000
DTSTAMP:20260425T101957
CREATED:20250610T000935Z
LAST-MODIFIED:20250610T000935Z
UID:10005304-1801670400-1801677600@glenwoodlibrary.com
SUMMARY:Santa Clara Mercado
DESCRIPTION:
URL:https://glenwoodlibrary.com/event/santa-clara-mercado/2027-02-03/
LOCATION:Santa Clara\, Santa Clara\, NM\, 88026
CATEGORIES:Outdoor,Street / Farmer's Market
ATTACH;FMTTYPE=image/jpeg:https://glenwoodlibrary.com/wp-content/uploads/2025/06/sc-mercado-060425.jpg
ORGANIZER;CN="Santa Clara Mercado":MAILTO:SantaClaraMercadoNM@gmail.com
END:VEVENT
BEGIN:VEVENT
DTSTART;TZID=America/Denver:20270210T160000
DTEND;TZID=America/Denver:20270210T180000
DTSTAMP:20260425T101957
CREATED:20250610T000935Z
LAST-MODIFIED:20250610T000935Z
UID:10005305-1802275200-1802282400@glenwoodlibrary.com
SUMMARY:Santa Clara Mercado
DESCRIPTION:
URL:https://glenwoodlibrary.com/event/santa-clara-mercado/2027-02-10/
LOCATION:Santa Clara\, Santa Clara\, NM\, 88026
CATEGORIES:Outdoor,Street / Farmer's Market
ATTACH;FMTTYPE=image/jpeg:https://glenwoodlibrary.com/wp-content/uploads/2025/06/sc-mercado-060425.jpg
ORGANIZER;CN="Santa Clara Mercado":MAILTO:SantaClaraMercadoNM@gmail.com
END:VEVENT
BEGIN:VEVENT
DTSTART;TZID=America/Denver:20270217T160000
DTEND;TZID=America/Denver:20270217T180000
DTSTAMP:20260425T101957
CREATED:20250610T000935Z
LAST-MODIFIED:20250610T000935Z
UID:10005306-1802880000-1802887200@glenwoodlibrary.com
SUMMARY:Santa Clara Mercado
DESCRIPTION:
URL:https://glenwoodlibrary.com/event/santa-clara-mercado/2027-02-17/
LOCATION:Santa Clara\, Santa Clara\, NM\, 88026
CATEGORIES:Outdoor,Street / Farmer's Market
ATTACH;FMTTYPE=image/jpeg:https://glenwoodlibrary.com/wp-content/uploads/2025/06/sc-mercado-060425.jpg
ORGANIZER;CN="Santa Clara Mercado":MAILTO:SantaClaraMercadoNM@gmail.com
END:VEVENT
BEGIN:VEVENT
DTSTART;TZID=America/Denver:20270224T160000
DTEND;TZID=America/Denver:20270224T180000
DTSTAMP:20260425T101957
CREATED:20250610T000935Z
LAST-MODIFIED:20250610T000935Z
UID:10005307-1803484800-1803492000@glenwoodlibrary.com
SUMMARY:Santa Clara Mercado
DESCRIPTION:
URL:https://glenwoodlibrary.com/event/santa-clara-mercado/2027-02-24/
LOCATION:Santa Clara\, Santa Clara\, NM\, 88026
CATEGORIES:Outdoor,Street / Farmer's Market
ATTACH;FMTTYPE=image/jpeg:https://glenwoodlibrary.com/wp-content/uploads/2025/06/sc-mercado-060425.jpg
ORGANIZER;CN="Santa Clara Mercado":MAILTO:SantaClaraMercadoNM@gmail.com
END:VEVENT
BEGIN:VEVENT
DTSTART;TZID=America/Denver:20270303T160000
DTEND;TZID=America/Denver:20270303T180000
DTSTAMP:20260425T101957
CREATED:20250610T000935Z
LAST-MODIFIED:20250610T000935Z
UID:10005308-1804089600-1804096800@glenwoodlibrary.com
SUMMARY:Santa Clara Mercado
DESCRIPTION:
URL:https://glenwoodlibrary.com/event/santa-clara-mercado/2027-03-03/
LOCATION:Santa Clara\, Santa Clara\, NM\, 88026
CATEGORIES:Outdoor,Street / Farmer's Market
ATTACH;FMTTYPE=image/jpeg:https://glenwoodlibrary.com/wp-content/uploads/2025/06/sc-mercado-060425.jpg
ORGANIZER;CN="Santa Clara Mercado":MAILTO:SantaClaraMercadoNM@gmail.com
END:VEVENT
BEGIN:VEVENT
DTSTART;TZID=America/Denver:20270310T160000
DTEND;TZID=America/Denver:20270310T180000
DTSTAMP:20260425T101957
CREATED:20250610T000935Z
LAST-MODIFIED:20250610T000935Z
UID:10005309-1804694400-1804701600@glenwoodlibrary.com
SUMMARY:Santa Clara Mercado
DESCRIPTION:
URL:https://glenwoodlibrary.com/event/santa-clara-mercado/2027-03-10/
LOCATION:Santa Clara\, Santa Clara\, NM\, 88026
CATEGORIES:Outdoor,Street / Farmer's Market
ATTACH;FMTTYPE=image/jpeg:https://glenwoodlibrary.com/wp-content/uploads/2025/06/sc-mercado-060425.jpg
ORGANIZER;CN="Santa Clara Mercado":MAILTO:SantaClaraMercadoNM@gmail.com
END:VEVENT
BEGIN:VEVENT
DTSTART;TZID=America/Denver:20270317T160000
DTEND;TZID=America/Denver:20270317T180000
DTSTAMP:20260425T101957
CREATED:20250610T000935Z
LAST-MODIFIED:20250610T000935Z
UID:10005310-1805299200-1805306400@glenwoodlibrary.com
SUMMARY:Santa Clara Mercado
DESCRIPTION:
URL:https://glenwoodlibrary.com/event/santa-clara-mercado/2027-03-17/
LOCATION:Santa Clara\, Santa Clara\, NM\, 88026
CATEGORIES:Outdoor,Street / Farmer's Market
ATTACH;FMTTYPE=image/jpeg:https://glenwoodlibrary.com/wp-content/uploads/2025/06/sc-mercado-060425.jpg
ORGANIZER;CN="Santa Clara Mercado":MAILTO:SantaClaraMercadoNM@gmail.com
END:VEVENT
BEGIN:VEVENT
DTSTART;TZID=America/Denver:20270324T160000
DTEND;TZID=America/Denver:20270324T180000
DTSTAMP:20260425T101957
CREATED:20250610T000935Z
LAST-MODIFIED:20250610T000935Z
UID:10005311-1805904000-1805911200@glenwoodlibrary.com
SUMMARY:Santa Clara Mercado
DESCRIPTION:
URL:https://glenwoodlibrary.com/event/santa-clara-mercado/2027-03-24/
LOCATION:Santa Clara\, Santa Clara\, NM\, 88026
CATEGORIES:Outdoor,Street / Farmer's Market
ATTACH;FMTTYPE=image/jpeg:https://glenwoodlibrary.com/wp-content/uploads/2025/06/sc-mercado-060425.jpg
ORGANIZER;CN="Santa Clara Mercado":MAILTO:SantaClaraMercadoNM@gmail.com
END:VEVENT
BEGIN:VEVENT
DTSTART;TZID=America/Denver:20270331T160000
DTEND;TZID=America/Denver:20270331T180000
DTSTAMP:20260425T101957
CREATED:20250610T000935Z
LAST-MODIFIED:20250610T000935Z
UID:10005312-1806508800-1806516000@glenwoodlibrary.com
SUMMARY:Santa Clara Mercado
DESCRIPTION:
URL:https://glenwoodlibrary.com/event/santa-clara-mercado/2027-03-31/
LOCATION:Santa Clara\, Santa Clara\, NM\, 88026
CATEGORIES:Outdoor,Street / Farmer's Market
ATTACH;FMTTYPE=image/jpeg:https://glenwoodlibrary.com/wp-content/uploads/2025/06/sc-mercado-060425.jpg
ORGANIZER;CN="Santa Clara Mercado":MAILTO:SantaClaraMercadoNM@gmail.com
END:VEVENT
BEGIN:VEVENT
DTSTART;TZID=America/Denver:20270407T160000
DTEND;TZID=America/Denver:20270407T180000
DTSTAMP:20260425T101957
CREATED:20250610T000935Z
LAST-MODIFIED:20250610T000935Z
UID:10005313-1807113600-1807120800@glenwoodlibrary.com
SUMMARY:Santa Clara Mercado
DESCRIPTION:
URL:https://glenwoodlibrary.com/event/santa-clara-mercado/2027-04-07/
LOCATION:Santa Clara\, Santa Clara\, NM\, 88026
CATEGORIES:Outdoor,Street / Farmer's Market
ATTACH;FMTTYPE=image/jpeg:https://glenwoodlibrary.com/wp-content/uploads/2025/06/sc-mercado-060425.jpg
ORGANIZER;CN="Santa Clara Mercado":MAILTO:SantaClaraMercadoNM@gmail.com
END:VEVENT
BEGIN:VEVENT
DTSTART;TZID=America/Denver:20270414T160000
DTEND;TZID=America/Denver:20270414T180000
DTSTAMP:20260425T101957
CREATED:20250610T000935Z
LAST-MODIFIED:20250610T000935Z
UID:10005314-1807718400-1807725600@glenwoodlibrary.com
SUMMARY:Santa Clara Mercado
DESCRIPTION:
URL:https://glenwoodlibrary.com/event/santa-clara-mercado/2027-04-14/
LOCATION:Santa Clara\, Santa Clara\, NM\, 88026
CATEGORIES:Outdoor,Street / Farmer's Market
ATTACH;FMTTYPE=image/jpeg:https://glenwoodlibrary.com/wp-content/uploads/2025/06/sc-mercado-060425.jpg
ORGANIZER;CN="Santa Clara Mercado":MAILTO:SantaClaraMercadoNM@gmail.com
END:VEVENT
BEGIN:VEVENT
DTSTART;TZID=America/Denver:20270421T160000
DTEND;TZID=America/Denver:20270421T180000
DTSTAMP:20260425T101957
CREATED:20250610T000935Z
LAST-MODIFIED:20250610T000935Z
UID:10005315-1808323200-1808330400@glenwoodlibrary.com
SUMMARY:Santa Clara Mercado
DESCRIPTION:
URL:https://glenwoodlibrary.com/event/santa-clara-mercado/2027-04-21/
LOCATION:Santa Clara\, Santa Clara\, NM\, 88026
CATEGORIES:Outdoor,Street / Farmer's Market
ATTACH;FMTTYPE=image/jpeg:https://glenwoodlibrary.com/wp-content/uploads/2025/06/sc-mercado-060425.jpg
ORGANIZER;CN="Santa Clara Mercado":MAILTO:SantaClaraMercadoNM@gmail.com
END:VEVENT
BEGIN:VEVENT
DTSTART;TZID=America/Denver:20270428T160000
DTEND;TZID=America/Denver:20270428T180000
DTSTAMP:20260425T101957
CREATED:20250610T000935Z
LAST-MODIFIED:20250610T000935Z
UID:10005316-1808928000-1808935200@glenwoodlibrary.com
SUMMARY:Santa Clara Mercado
DESCRIPTION:
URL:https://glenwoodlibrary.com/event/santa-clara-mercado/2027-04-28/
LOCATION:Santa Clara\, Santa Clara\, NM\, 88026
CATEGORIES:Outdoor,Street / Farmer's Market
ATTACH;FMTTYPE=image/jpeg:https://glenwoodlibrary.com/wp-content/uploads/2025/06/sc-mercado-060425.jpg
ORGANIZER;CN="Santa Clara Mercado":MAILTO:SantaClaraMercadoNM@gmail.com
END:VEVENT
BEGIN:VEVENT
DTSTART;TZID=America/Denver:20270505T160000
DTEND;TZID=America/Denver:20270505T180000
DTSTAMP:20260425T101957
CREATED:20250610T000935Z
LAST-MODIFIED:20250610T000935Z
UID:10005317-1809532800-1809540000@glenwoodlibrary.com
SUMMARY:Santa Clara Mercado
DESCRIPTION:
URL:https://glenwoodlibrary.com/event/santa-clara-mercado/2027-05-05/
LOCATION:Santa Clara\, Santa Clara\, NM\, 88026
CATEGORIES:Outdoor,Street / Farmer's Market
ATTACH;FMTTYPE=image/jpeg:https://glenwoodlibrary.com/wp-content/uploads/2025/06/sc-mercado-060425.jpg
ORGANIZER;CN="Santa Clara Mercado":MAILTO:SantaClaraMercadoNM@gmail.com
END:VEVENT
BEGIN:VEVENT
DTSTART;TZID=America/Denver:20270512T160000
DTEND;TZID=America/Denver:20270512T180000
DTSTAMP:20260425T101957
CREATED:20250610T000935Z
LAST-MODIFIED:20250610T000935Z
UID:10005318-1810137600-1810144800@glenwoodlibrary.com
SUMMARY:Santa Clara Mercado
DESCRIPTION:
URL:https://glenwoodlibrary.com/event/santa-clara-mercado/2027-05-12/
LOCATION:Santa Clara\, Santa Clara\, NM\, 88026
CATEGORIES:Outdoor,Street / Farmer's Market
ATTACH;FMTTYPE=image/jpeg:https://glenwoodlibrary.com/wp-content/uploads/2025/06/sc-mercado-060425.jpg
ORGANIZER;CN="Santa Clara Mercado":MAILTO:SantaClaraMercadoNM@gmail.com
END:VEVENT
BEGIN:VEVENT
DTSTART;TZID=America/Denver:20270519T160000
DTEND;TZID=America/Denver:20270519T180000
DTSTAMP:20260425T101957
CREATED:20250610T000935Z
LAST-MODIFIED:20250610T000935Z
UID:10005319-1810742400-1810749600@glenwoodlibrary.com
SUMMARY:Santa Clara Mercado
DESCRIPTION:
URL:https://glenwoodlibrary.com/event/santa-clara-mercado/2027-05-19/
LOCATION:Santa Clara\, Santa Clara\, NM\, 88026
CATEGORIES:Outdoor,Street / Farmer's Market
ATTACH;FMTTYPE=image/jpeg:https://glenwoodlibrary.com/wp-content/uploads/2025/06/sc-mercado-060425.jpg
ORGANIZER;CN="Santa Clara Mercado":MAILTO:SantaClaraMercadoNM@gmail.com
END:VEVENT
BEGIN:VEVENT
DTSTART;TZID=America/Denver:20270526T160000
DTEND;TZID=America/Denver:20270526T180000
DTSTAMP:20260425T101957
CREATED:20250610T000935Z
LAST-MODIFIED:20250610T000935Z
UID:10005320-1811347200-1811354400@glenwoodlibrary.com
SUMMARY:Santa Clara Mercado
DESCRIPTION:
URL:https://glenwoodlibrary.com/event/santa-clara-mercado/2027-05-26/
LOCATION:Santa Clara\, Santa Clara\, NM\, 88026
CATEGORIES:Outdoor,Street / Farmer's Market
ATTACH;FMTTYPE=image/jpeg:https://glenwoodlibrary.com/wp-content/uploads/2025/06/sc-mercado-060425.jpg
ORGANIZER;CN="Santa Clara Mercado":MAILTO:SantaClaraMercadoNM@gmail.com
END:VEVENT
BEGIN:VEVENT
DTSTART;TZID=America/Denver:20270602T160000
DTEND;TZID=America/Denver:20270602T180000
DTSTAMP:20260425T101957
CREATED:20250610T000935Z
LAST-MODIFIED:20250610T000935Z
UID:10005321-1811952000-1811959200@glenwoodlibrary.com
SUMMARY:Santa Clara Mercado
DESCRIPTION:
URL:https://glenwoodlibrary.com/event/santa-clara-mercado/2027-06-02/
LOCATION:Santa Clara\, Santa Clara\, NM\, 88026
CATEGORIES:Outdoor,Street / Farmer's Market
ATTACH;FMTTYPE=image/jpeg:https://glenwoodlibrary.com/wp-content/uploads/2025/06/sc-mercado-060425.jpg
ORGANIZER;CN="Santa Clara Mercado":MAILTO:SantaClaraMercadoNM@gmail.com
END:VEVENT
BEGIN:VEVENT
DTSTART;TZID=America/Denver:20270609T160000
DTEND;TZID=America/Denver:20270609T180000
DTSTAMP:20260425T101957
CREATED:20250610T000935Z
LAST-MODIFIED:20250610T000935Z
UID:10005322-1812556800-1812564000@glenwoodlibrary.com
SUMMARY:Santa Clara Mercado
DESCRIPTION:
URL:https://glenwoodlibrary.com/event/santa-clara-mercado/2027-06-09/
LOCATION:Santa Clara\, Santa Clara\, NM\, 88026
CATEGORIES:Outdoor,Street / Farmer's Market
ATTACH;FMTTYPE=image/jpeg:https://glenwoodlibrary.com/wp-content/uploads/2025/06/sc-mercado-060425.jpg
ORGANIZER;CN="Santa Clara Mercado":MAILTO:SantaClaraMercadoNM@gmail.com
END:VEVENT
BEGIN:VEVENT
DTSTART;TZID=America/Denver:20270616T160000
DTEND;TZID=America/Denver:20270616T180000
DTSTAMP:20260425T101957
CREATED:20250610T000935Z
LAST-MODIFIED:20250610T000935Z
UID:10005323-1813161600-1813168800@glenwoodlibrary.com
SUMMARY:Santa Clara Mercado
DESCRIPTION:
URL:https://glenwoodlibrary.com/event/santa-clara-mercado/2027-06-16/
LOCATION:Santa Clara\, Santa Clara\, NM\, 88026
CATEGORIES:Outdoor,Street / Farmer's Market
ATTACH;FMTTYPE=image/jpeg:https://glenwoodlibrary.com/wp-content/uploads/2025/06/sc-mercado-060425.jpg
ORGANIZER;CN="Santa Clara Mercado":MAILTO:SantaClaraMercadoNM@gmail.com
END:VEVENT
BEGIN:VEVENT
DTSTART;TZID=America/Denver:20270623T160000
DTEND;TZID=America/Denver:20270623T180000
DTSTAMP:20260425T101957
CREATED:20250610T000935Z
LAST-MODIFIED:20250610T000935Z
UID:10005324-1813766400-1813773600@glenwoodlibrary.com
SUMMARY:Santa Clara Mercado
DESCRIPTION:
URL:https://glenwoodlibrary.com/event/santa-clara-mercado/2027-06-23/
LOCATION:Santa Clara\, Santa Clara\, NM\, 88026
CATEGORIES:Outdoor,Street / Farmer's Market
ATTACH;FMTTYPE=image/jpeg:https://glenwoodlibrary.com/wp-content/uploads/2025/06/sc-mercado-060425.jpg
ORGANIZER;CN="Santa Clara Mercado":MAILTO:SantaClaraMercadoNM@gmail.com
END:VEVENT
BEGIN:VEVENT
DTSTART;TZID=America/Denver:20270630T160000
DTEND;TZID=America/Denver:20270630T180000
DTSTAMP:20260425T101957
CREATED:20250610T000935Z
LAST-MODIFIED:20250610T000935Z
UID:10005325-1814371200-1814378400@glenwoodlibrary.com
SUMMARY:Santa Clara Mercado
DESCRIPTION:
URL:https://glenwoodlibrary.com/event/santa-clara-mercado/2027-06-30/
LOCATION:Santa Clara\, Santa Clara\, NM\, 88026
CATEGORIES:Outdoor,Street / Farmer's Market
ATTACH;FMTTYPE=image/jpeg:https://glenwoodlibrary.com/wp-content/uploads/2025/06/sc-mercado-060425.jpg
ORGANIZER;CN="Santa Clara Mercado":MAILTO:SantaClaraMercadoNM@gmail.com
END:VEVENT
BEGIN:VEVENT
DTSTART;TZID=America/Denver:20270707T160000
DTEND;TZID=America/Denver:20270707T180000
DTSTAMP:20260425T101957
CREATED:20250610T000935Z
LAST-MODIFIED:20250610T000935Z
UID:10005326-1814976000-1814983200@glenwoodlibrary.com
SUMMARY:Santa Clara Mercado
DESCRIPTION:
URL:https://glenwoodlibrary.com/event/santa-clara-mercado/2027-07-07/
LOCATION:Santa Clara\, Santa Clara\, NM\, 88026
CATEGORIES:Outdoor,Street / Farmer's Market
ATTACH;FMTTYPE=image/jpeg:https://glenwoodlibrary.com/wp-content/uploads/2025/06/sc-mercado-060425.jpg
ORGANIZER;CN="Santa Clara Mercado":MAILTO:SantaClaraMercadoNM@gmail.com
END:VEVENT
BEGIN:VEVENT
DTSTART;TZID=America/Denver:20270714T160000
DTEND;TZID=America/Denver:20270714T180000
DTSTAMP:20260425T101957
CREATED:20250610T000935Z
LAST-MODIFIED:20250610T000935Z
UID:10005327-1815580800-1815588000@glenwoodlibrary.com
SUMMARY:Santa Clara Mercado
DESCRIPTION:
URL:https://glenwoodlibrary.com/event/santa-clara-mercado/2027-07-14/
LOCATION:Santa Clara\, Santa Clara\, NM\, 88026
CATEGORIES:Outdoor,Street / Farmer's Market
ATTACH;FMTTYPE=image/jpeg:https://glenwoodlibrary.com/wp-content/uploads/2025/06/sc-mercado-060425.jpg
ORGANIZER;CN="Santa Clara Mercado":MAILTO:SantaClaraMercadoNM@gmail.com
END:VEVENT
END:VCALENDAR