BEGIN:VCALENDAR
VERSION:2.0
PRODID:-// - ECPv6.15.20//NONSGML v1.0//EN
CALSCALE:GREGORIAN
METHOD:PUBLISH
X-ORIGINAL-URL:https://glenwoodlibrary.com
X-WR-CALDESC:Events for 
REFRESH-INTERVAL;VALUE=DURATION:PT1H
X-Robots-Tag:noindex
X-PUBLISHED-TTL:PT1H
BEGIN:VTIMEZONE
TZID:America/Denver
BEGIN:DAYLIGHT
TZOFFSETFROM:-0700
TZOFFSETTO:-0600
TZNAME:MDT
DTSTART:20240310T090000
END:DAYLIGHT
BEGIN:STANDARD
TZOFFSETFROM:-0600
TZOFFSETTO:-0700
TZNAME:MST
DTSTART:20241103T080000
END:STANDARD
BEGIN:DAYLIGHT
TZOFFSETFROM:-0700
TZOFFSETTO:-0600
TZNAME:MDT
DTSTART:20250309T090000
END:DAYLIGHT
BEGIN:STANDARD
TZOFFSETFROM:-0600
TZOFFSETTO:-0700
TZNAME:MST
DTSTART:20251102T080000
END:STANDARD
BEGIN:DAYLIGHT
TZOFFSETFROM:-0700
TZOFFSETTO:-0600
TZNAME:MDT
DTSTART:20260308T090000
END:DAYLIGHT
BEGIN:STANDARD
TZOFFSETFROM:-0600
TZOFFSETTO:-0700
TZNAME:MST
DTSTART:20261101T080000
END:STANDARD
END:VTIMEZONE
BEGIN:VEVENT
DTSTART;VALUE=DATE:20250423
DTEND;VALUE=DATE:20250428
DTSTAMP:20260419T105540
CREATED:20250207T201218Z
LAST-MODIFIED:20250207T201218Z
UID:10004411-1745366400-1745798399@glenwoodlibrary.com
SUMMARY:Tour of the Gila
DESCRIPTION:
URL:https://glenwoodlibrary.com/event/tour-of-the-gila/
LOCATION:Silver City\, Silver City\, NM\, 88061
CATEGORIES:Sporting Event
ATTACH;FMTTYPE=image/jpeg:https://glenwoodlibrary.com/wp-content/uploads/2025/02/tourofthegila-2025.jpg
END:VEVENT
BEGIN:VEVENT
DTSTART;TZID=America/Denver:20250425T150000
DTEND;TZID=America/Denver:20250425T190000
DTSTAMP:20260419T105540
CREATED:20250330T012231Z
LAST-MODIFIED:20250330T012231Z
UID:10004654-1745593200-1745607600@glenwoodlibrary.com
SUMMARY:A Tale of Two Tails
DESCRIPTION:
URL:https://glenwoodlibrary.com/event/a-tale-of-two-tails/
LOCATION:Glenwood Community Park\, Catwalk Road\, Glenwood\, NM\, 88039\, United States
CATEGORIES:Education,Outdoor,Sporting Event,Veteran,Volunteer,Youth
ATTACH;FMTTYPE=image/jpeg:https://glenwoodlibrary.com/wp-content/uploads/2025/03/impact-event-public.jpg
ORGANIZER;CN="Impact Outdoors":MAILTO:matthewmonjaras@impact-outdoors.com
END:VEVENT
BEGIN:VEVENT
DTSTART;VALUE=DATE:20250426
DTEND;VALUE=DATE:20250428
DTSTAMP:20260419T105540
CREATED:20250330T012904Z
LAST-MODIFIED:20250330T013104Z
UID:10004655-1745625600-1745798399@glenwoodlibrary.com
SUMMARY:A Tail of Two Tails Youth/Veteran Event
DESCRIPTION:Eight youth and eight veterans will participate in an adventure to include fishing and hunting. This event is sponsored by Impact Outdoors\, a non-profit organization\, and Outlaw RV. To find out more on how to participate\, youth and their parents can refer to the attached flyer and veterans can contact Matthew at Impact Outdoors directly.
URL:https://glenwoodlibrary.com/event/a-tail-of-two-tails-youth-veteran-event/
LOCATION:Glenwood\, Glenwood\, New Mexico\, 88039
CATEGORIES:Education,Outdoor,Sporting Event,Veteran,Volunteer,Youth
ATTACH;FMTTYPE=image/jpeg:https://glenwoodlibrary.com/wp-content/uploads/2025/03/tale-of-two-tails-youth-poster.jpg
ORGANIZER;CN="Impact Outdoors":MAILTO:matthewmonjaras@impact-outdoors.com
END:VEVENT
END:VCALENDAR