BEGIN:VCALENDAR
VERSION:2.0
PRODID:-// - ECPv6.15.20//NONSGML v1.0//EN
CALSCALE:GREGORIAN
METHOD:PUBLISH
X-ORIGINAL-URL:https://glenwoodlibrary.com
X-WR-CALDESC:Events for 
REFRESH-INTERVAL;VALUE=DURATION:PT1H
X-Robots-Tag:noindex
X-PUBLISHED-TTL:PT1H
BEGIN:VTIMEZONE
TZID:America/Denver
BEGIN:DAYLIGHT
TZOFFSETFROM:-0700
TZOFFSETTO:-0600
TZNAME:MDT
DTSTART:20250309T090000
END:DAYLIGHT
BEGIN:STANDARD
TZOFFSETFROM:-0600
TZOFFSETTO:-0700
TZNAME:MST
DTSTART:20251102T080000
END:STANDARD
BEGIN:DAYLIGHT
TZOFFSETFROM:-0700
TZOFFSETTO:-0600
TZNAME:MDT
DTSTART:20260308T090000
END:DAYLIGHT
BEGIN:STANDARD
TZOFFSETFROM:-0600
TZOFFSETTO:-0700
TZNAME:MST
DTSTART:20261101T080000
END:STANDARD
BEGIN:DAYLIGHT
TZOFFSETFROM:-0700
TZOFFSETTO:-0600
TZNAME:MDT
DTSTART:20270314T090000
END:DAYLIGHT
BEGIN:STANDARD
TZOFFSETFROM:-0600
TZOFFSETTO:-0700
TZNAME:MST
DTSTART:20271107T080000
END:STANDARD
END:VTIMEZONE
BEGIN:VEVENT
DTSTART;TZID=America/Denver:20260704T080000
DTEND;TZID=America/Denver:20260704T140000
DTSTAMP:20260425T134333
CREATED:20260403T204202Z
LAST-MODIFIED:20260403T204202Z
UID:10007755-1783152000-1783173600@glenwoodlibrary.com
SUMMARY:Glenwood Street Market
DESCRIPTION:
URL:https://glenwoodlibrary.com/event/glenwood-street-market/2026-07-04/
LOCATION:Downtown Glenwood\, US Hwy 180\, Glenwood\, NM\, 88039
CATEGORIES:Food / Craft Fair,Outdoor,Street / Farmer's Market
ATTACH;FMTTYPE=image/jpeg:https://glenwoodlibrary.com/wp-content/uploads/2024/02/glenwood-street-market-poster.jpg
END:VEVENT
BEGIN:VEVENT
DTSTART;TZID=America/Denver:20260708T100000
DTEND;TZID=America/Denver:20260708T120000
DTSTAMP:20260425T134333
CREATED:20241126T080050Z
LAST-MODIFIED:20241126T080051Z
UID:10004196-1783504800-1783512000@glenwoodlibrary.com
SUMMARY:Gila Farmers Market
DESCRIPTION:
URL:https://glenwoodlibrary.com/event/gila-farmers-market-2/2026-07-08/
LOCATION:Gila Valley Community Center\, 411 Hwy 211\, Gila\, NM\, 88038
CATEGORIES:Street / Farmer's Market
ATTACH;FMTTYPE=image/jpeg:https://glenwoodlibrary.com/wp-content/uploads/2024/02/gila-valley-market-winter-hours.jpg
END:VEVENT
BEGIN:VEVENT
DTSTART;TZID=America/Denver:20260708T160000
DTEND;TZID=America/Denver:20260708T180000
DTSTAMP:20260425T134333
CREATED:20250610T000935Z
LAST-MODIFIED:20250610T000935Z
UID:10005274-1783526400-1783533600@glenwoodlibrary.com
SUMMARY:Santa Clara Mercado
DESCRIPTION:
URL:https://glenwoodlibrary.com/event/santa-clara-mercado/2026-07-08/
LOCATION:Santa Clara\, Santa Clara\, NM\, 88026
CATEGORIES:Outdoor,Street / Farmer's Market
ATTACH;FMTTYPE=image/jpeg:https://glenwoodlibrary.com/wp-content/uploads/2025/06/sc-mercado-060425.jpg
ORGANIZER;CN="Santa Clara Mercado":MAILTO:SantaClaraMercadoNM@gmail.com
END:VEVENT
BEGIN:VEVENT
DTSTART;TZID=America/Denver:20260711T080000
DTEND;TZID=America/Denver:20260711T140000
DTSTAMP:20260425T134333
CREATED:20260403T204202Z
LAST-MODIFIED:20260403T204202Z
UID:10007756-1783756800-1783778400@glenwoodlibrary.com
SUMMARY:Glenwood Street Market
DESCRIPTION:
URL:https://glenwoodlibrary.com/event/glenwood-street-market/2026-07-11/
LOCATION:Downtown Glenwood\, US Hwy 180\, Glenwood\, NM\, 88039
CATEGORIES:Food / Craft Fair,Outdoor,Street / Farmer's Market
ATTACH;FMTTYPE=image/jpeg:https://glenwoodlibrary.com/wp-content/uploads/2024/02/glenwood-street-market-poster.jpg
END:VEVENT
BEGIN:VEVENT
DTSTART;TZID=America/Denver:20260715T100000
DTEND;TZID=America/Denver:20260715T120000
DTSTAMP:20260425T134333
CREATED:20241126T080050Z
LAST-MODIFIED:20241126T080051Z
UID:10004197-1784109600-1784116800@glenwoodlibrary.com
SUMMARY:Gila Farmers Market
DESCRIPTION:
URL:https://glenwoodlibrary.com/event/gila-farmers-market-2/2026-07-15/
LOCATION:Gila Valley Community Center\, 411 Hwy 211\, Gila\, NM\, 88038
CATEGORIES:Street / Farmer's Market
ATTACH;FMTTYPE=image/jpeg:https://glenwoodlibrary.com/wp-content/uploads/2024/02/gila-valley-market-winter-hours.jpg
END:VEVENT
BEGIN:VEVENT
DTSTART;TZID=America/Denver:20260715T160000
DTEND;TZID=America/Denver:20260715T180000
DTSTAMP:20260425T134333
CREATED:20250610T000935Z
LAST-MODIFIED:20250610T000935Z
UID:10005275-1784131200-1784138400@glenwoodlibrary.com
SUMMARY:Santa Clara Mercado
DESCRIPTION:
URL:https://glenwoodlibrary.com/event/santa-clara-mercado/2026-07-15/
LOCATION:Santa Clara\, Santa Clara\, NM\, 88026
CATEGORIES:Outdoor,Street / Farmer's Market
ATTACH;FMTTYPE=image/jpeg:https://glenwoodlibrary.com/wp-content/uploads/2025/06/sc-mercado-060425.jpg
ORGANIZER;CN="Santa Clara Mercado":MAILTO:SantaClaraMercadoNM@gmail.com
END:VEVENT
BEGIN:VEVENT
DTSTART;TZID=America/Denver:20260718T080000
DTEND;TZID=America/Denver:20260718T140000
DTSTAMP:20260425T134333
CREATED:20260403T204202Z
LAST-MODIFIED:20260403T204202Z
UID:10007757-1784361600-1784383200@glenwoodlibrary.com
SUMMARY:Glenwood Street Market
DESCRIPTION:
URL:https://glenwoodlibrary.com/event/glenwood-street-market/2026-07-18/
LOCATION:Downtown Glenwood\, US Hwy 180\, Glenwood\, NM\, 88039
CATEGORIES:Food / Craft Fair,Outdoor,Street / Farmer's Market
ATTACH;FMTTYPE=image/jpeg:https://glenwoodlibrary.com/wp-content/uploads/2024/02/glenwood-street-market-poster.jpg
END:VEVENT
BEGIN:VEVENT
DTSTART;TZID=America/Denver:20260722T100000
DTEND;TZID=America/Denver:20260722T120000
DTSTAMP:20260425T134333
CREATED:20241126T080050Z
LAST-MODIFIED:20241126T080051Z
UID:10004198-1784714400-1784721600@glenwoodlibrary.com
SUMMARY:Gila Farmers Market
DESCRIPTION:
URL:https://glenwoodlibrary.com/event/gila-farmers-market-2/2026-07-22/
LOCATION:Gila Valley Community Center\, 411 Hwy 211\, Gila\, NM\, 88038
CATEGORIES:Street / Farmer's Market
ATTACH;FMTTYPE=image/jpeg:https://glenwoodlibrary.com/wp-content/uploads/2024/02/gila-valley-market-winter-hours.jpg
END:VEVENT
BEGIN:VEVENT
DTSTART;TZID=America/Denver:20260722T160000
DTEND;TZID=America/Denver:20260722T180000
DTSTAMP:20260425T134333
CREATED:20250610T000935Z
LAST-MODIFIED:20250610T000935Z
UID:10005276-1784736000-1784743200@glenwoodlibrary.com
SUMMARY:Santa Clara Mercado
DESCRIPTION:
URL:https://glenwoodlibrary.com/event/santa-clara-mercado/2026-07-22/
LOCATION:Santa Clara\, Santa Clara\, NM\, 88026
CATEGORIES:Outdoor,Street / Farmer's Market
ATTACH;FMTTYPE=image/jpeg:https://glenwoodlibrary.com/wp-content/uploads/2025/06/sc-mercado-060425.jpg
ORGANIZER;CN="Santa Clara Mercado":MAILTO:SantaClaraMercadoNM@gmail.com
END:VEVENT
BEGIN:VEVENT
DTSTART;TZID=America/Denver:20260725T080000
DTEND;TZID=America/Denver:20260725T140000
DTSTAMP:20260425T134333
CREATED:20260403T204202Z
LAST-MODIFIED:20260403T204202Z
UID:10007758-1784966400-1784988000@glenwoodlibrary.com
SUMMARY:Glenwood Street Market
DESCRIPTION:
URL:https://glenwoodlibrary.com/event/glenwood-street-market/2026-07-25/
LOCATION:Downtown Glenwood\, US Hwy 180\, Glenwood\, NM\, 88039
CATEGORIES:Food / Craft Fair,Outdoor,Street / Farmer's Market
ATTACH;FMTTYPE=image/jpeg:https://glenwoodlibrary.com/wp-content/uploads/2024/02/glenwood-street-market-poster.jpg
END:VEVENT
BEGIN:VEVENT
DTSTART;TZID=America/Denver:20260729T100000
DTEND;TZID=America/Denver:20260729T120000
DTSTAMP:20260425T134333
CREATED:20241126T080050Z
LAST-MODIFIED:20241126T080051Z
UID:10004199-1785319200-1785326400@glenwoodlibrary.com
SUMMARY:Gila Farmers Market
DESCRIPTION:
URL:https://glenwoodlibrary.com/event/gila-farmers-market-2/2026-07-29/
LOCATION:Gila Valley Community Center\, 411 Hwy 211\, Gila\, NM\, 88038
CATEGORIES:Street / Farmer's Market
ATTACH;FMTTYPE=image/jpeg:https://glenwoodlibrary.com/wp-content/uploads/2024/02/gila-valley-market-winter-hours.jpg
END:VEVENT
BEGIN:VEVENT
DTSTART;TZID=America/Denver:20260729T160000
DTEND;TZID=America/Denver:20260729T180000
DTSTAMP:20260425T134333
CREATED:20250610T000935Z
LAST-MODIFIED:20250610T000935Z
UID:10005277-1785340800-1785348000@glenwoodlibrary.com
SUMMARY:Santa Clara Mercado
DESCRIPTION:
URL:https://glenwoodlibrary.com/event/santa-clara-mercado/2026-07-29/
LOCATION:Santa Clara\, Santa Clara\, NM\, 88026
CATEGORIES:Outdoor,Street / Farmer's Market
ATTACH;FMTTYPE=image/jpeg:https://glenwoodlibrary.com/wp-content/uploads/2025/06/sc-mercado-060425.jpg
ORGANIZER;CN="Santa Clara Mercado":MAILTO:SantaClaraMercadoNM@gmail.com
END:VEVENT
BEGIN:VEVENT
DTSTART;TZID=America/Denver:20260801T080000
DTEND;TZID=America/Denver:20260801T140000
DTSTAMP:20260425T134333
CREATED:20260403T204202Z
LAST-MODIFIED:20260403T204202Z
UID:10007759-1785571200-1785592800@glenwoodlibrary.com
SUMMARY:Glenwood Street Market
DESCRIPTION:
URL:https://glenwoodlibrary.com/event/glenwood-street-market/2026-08-01/
LOCATION:Downtown Glenwood\, US Hwy 180\, Glenwood\, NM\, 88039
CATEGORIES:Food / Craft Fair,Outdoor,Street / Farmer's Market
ATTACH;FMTTYPE=image/jpeg:https://glenwoodlibrary.com/wp-content/uploads/2024/02/glenwood-street-market-poster.jpg
END:VEVENT
BEGIN:VEVENT
DTSTART;TZID=America/Denver:20260805T100000
DTEND;TZID=America/Denver:20260805T120000
DTSTAMP:20260425T134333
CREATED:20241126T080050Z
LAST-MODIFIED:20241126T080051Z
UID:10004200-1785924000-1785931200@glenwoodlibrary.com
SUMMARY:Gila Farmers Market
DESCRIPTION:
URL:https://glenwoodlibrary.com/event/gila-farmers-market-2/2026-08-05/
LOCATION:Gila Valley Community Center\, 411 Hwy 211\, Gila\, NM\, 88038
CATEGORIES:Street / Farmer's Market
ATTACH;FMTTYPE=image/jpeg:https://glenwoodlibrary.com/wp-content/uploads/2024/02/gila-valley-market-winter-hours.jpg
END:VEVENT
BEGIN:VEVENT
DTSTART;TZID=America/Denver:20260805T160000
DTEND;TZID=America/Denver:20260805T180000
DTSTAMP:20260425T134333
CREATED:20250610T000935Z
LAST-MODIFIED:20250610T000935Z
UID:10005278-1785945600-1785952800@glenwoodlibrary.com
SUMMARY:Santa Clara Mercado
DESCRIPTION:
URL:https://glenwoodlibrary.com/event/santa-clara-mercado/2026-08-05/
LOCATION:Santa Clara\, Santa Clara\, NM\, 88026
CATEGORIES:Outdoor,Street / Farmer's Market
ATTACH;FMTTYPE=image/jpeg:https://glenwoodlibrary.com/wp-content/uploads/2025/06/sc-mercado-060425.jpg
ORGANIZER;CN="Santa Clara Mercado":MAILTO:SantaClaraMercadoNM@gmail.com
END:VEVENT
BEGIN:VEVENT
DTSTART;TZID=America/Denver:20260808T080000
DTEND;TZID=America/Denver:20260808T140000
DTSTAMP:20260425T134333
CREATED:20260403T204202Z
LAST-MODIFIED:20260403T204202Z
UID:10007760-1786176000-1786197600@glenwoodlibrary.com
SUMMARY:Glenwood Street Market
DESCRIPTION:
URL:https://glenwoodlibrary.com/event/glenwood-street-market/2026-08-08/
LOCATION:Downtown Glenwood\, US Hwy 180\, Glenwood\, NM\, 88039
CATEGORIES:Food / Craft Fair,Outdoor,Street / Farmer's Market
ATTACH;FMTTYPE=image/jpeg:https://glenwoodlibrary.com/wp-content/uploads/2024/02/glenwood-street-market-poster.jpg
END:VEVENT
BEGIN:VEVENT
DTSTART;TZID=America/Denver:20260812T100000
DTEND;TZID=America/Denver:20260812T120000
DTSTAMP:20260425T134333
CREATED:20241126T080050Z
LAST-MODIFIED:20241126T080051Z
UID:10004201-1786528800-1786536000@glenwoodlibrary.com
SUMMARY:Gila Farmers Market
DESCRIPTION:
URL:https://glenwoodlibrary.com/event/gila-farmers-market-2/2026-08-12/
LOCATION:Gila Valley Community Center\, 411 Hwy 211\, Gila\, NM\, 88038
CATEGORIES:Street / Farmer's Market
ATTACH;FMTTYPE=image/jpeg:https://glenwoodlibrary.com/wp-content/uploads/2024/02/gila-valley-market-winter-hours.jpg
END:VEVENT
BEGIN:VEVENT
DTSTART;TZID=America/Denver:20260812T160000
DTEND;TZID=America/Denver:20260812T180000
DTSTAMP:20260425T134333
CREATED:20250610T000935Z
LAST-MODIFIED:20250610T000935Z
UID:10005279-1786550400-1786557600@glenwoodlibrary.com
SUMMARY:Santa Clara Mercado
DESCRIPTION:
URL:https://glenwoodlibrary.com/event/santa-clara-mercado/2026-08-12/
LOCATION:Santa Clara\, Santa Clara\, NM\, 88026
CATEGORIES:Outdoor,Street / Farmer's Market
ATTACH;FMTTYPE=image/jpeg:https://glenwoodlibrary.com/wp-content/uploads/2025/06/sc-mercado-060425.jpg
ORGANIZER;CN="Santa Clara Mercado":MAILTO:SantaClaraMercadoNM@gmail.com
END:VEVENT
BEGIN:VEVENT
DTSTART;TZID=America/Denver:20260815T080000
DTEND;TZID=America/Denver:20260815T140000
DTSTAMP:20260425T134333
CREATED:20260403T204202Z
LAST-MODIFIED:20260403T204202Z
UID:10007761-1786780800-1786802400@glenwoodlibrary.com
SUMMARY:Glenwood Street Market
DESCRIPTION:
URL:https://glenwoodlibrary.com/event/glenwood-street-market/2026-08-15/
LOCATION:Downtown Glenwood\, US Hwy 180\, Glenwood\, NM\, 88039
CATEGORIES:Food / Craft Fair,Outdoor,Street / Farmer's Market
ATTACH;FMTTYPE=image/jpeg:https://glenwoodlibrary.com/wp-content/uploads/2024/02/glenwood-street-market-poster.jpg
END:VEVENT
BEGIN:VEVENT
DTSTART;TZID=America/Denver:20260819T100000
DTEND;TZID=America/Denver:20260819T120000
DTSTAMP:20260425T134333
CREATED:20241126T080050Z
LAST-MODIFIED:20241126T080051Z
UID:10004202-1787133600-1787140800@glenwoodlibrary.com
SUMMARY:Gila Farmers Market
DESCRIPTION:
URL:https://glenwoodlibrary.com/event/gila-farmers-market-2/2026-08-19/
LOCATION:Gila Valley Community Center\, 411 Hwy 211\, Gila\, NM\, 88038
CATEGORIES:Street / Farmer's Market
ATTACH;FMTTYPE=image/jpeg:https://glenwoodlibrary.com/wp-content/uploads/2024/02/gila-valley-market-winter-hours.jpg
END:VEVENT
BEGIN:VEVENT
DTSTART;TZID=America/Denver:20260819T160000
DTEND;TZID=America/Denver:20260819T180000
DTSTAMP:20260425T134333
CREATED:20250610T000935Z
LAST-MODIFIED:20250610T000935Z
UID:10005280-1787155200-1787162400@glenwoodlibrary.com
SUMMARY:Santa Clara Mercado
DESCRIPTION:
URL:https://glenwoodlibrary.com/event/santa-clara-mercado/2026-08-19/
LOCATION:Santa Clara\, Santa Clara\, NM\, 88026
CATEGORIES:Outdoor,Street / Farmer's Market
ATTACH;FMTTYPE=image/jpeg:https://glenwoodlibrary.com/wp-content/uploads/2025/06/sc-mercado-060425.jpg
ORGANIZER;CN="Santa Clara Mercado":MAILTO:SantaClaraMercadoNM@gmail.com
END:VEVENT
BEGIN:VEVENT
DTSTART;TZID=America/Denver:20260822T080000
DTEND;TZID=America/Denver:20260822T140000
DTSTAMP:20260425T134333
CREATED:20260403T204202Z
LAST-MODIFIED:20260403T204202Z
UID:10007762-1787385600-1787407200@glenwoodlibrary.com
SUMMARY:Glenwood Street Market
DESCRIPTION:
URL:https://glenwoodlibrary.com/event/glenwood-street-market/2026-08-22/
LOCATION:Downtown Glenwood\, US Hwy 180\, Glenwood\, NM\, 88039
CATEGORIES:Food / Craft Fair,Outdoor,Street / Farmer's Market
ATTACH;FMTTYPE=image/jpeg:https://glenwoodlibrary.com/wp-content/uploads/2024/02/glenwood-street-market-poster.jpg
END:VEVENT
BEGIN:VEVENT
DTSTART;TZID=America/Denver:20260826T100000
DTEND;TZID=America/Denver:20260826T120000
DTSTAMP:20260425T134333
CREATED:20241126T080050Z
LAST-MODIFIED:20241126T080051Z
UID:10004203-1787738400-1787745600@glenwoodlibrary.com
SUMMARY:Gila Farmers Market
DESCRIPTION:
URL:https://glenwoodlibrary.com/event/gila-farmers-market-2/2026-08-26/
LOCATION:Gila Valley Community Center\, 411 Hwy 211\, Gila\, NM\, 88038
CATEGORIES:Street / Farmer's Market
ATTACH;FMTTYPE=image/jpeg:https://glenwoodlibrary.com/wp-content/uploads/2024/02/gila-valley-market-winter-hours.jpg
END:VEVENT
BEGIN:VEVENT
DTSTART;TZID=America/Denver:20260826T160000
DTEND;TZID=America/Denver:20260826T180000
DTSTAMP:20260425T134333
CREATED:20250610T000935Z
LAST-MODIFIED:20250610T000935Z
UID:10005281-1787760000-1787767200@glenwoodlibrary.com
SUMMARY:Santa Clara Mercado
DESCRIPTION:
URL:https://glenwoodlibrary.com/event/santa-clara-mercado/2026-08-26/
LOCATION:Santa Clara\, Santa Clara\, NM\, 88026
CATEGORIES:Outdoor,Street / Farmer's Market
ATTACH;FMTTYPE=image/jpeg:https://glenwoodlibrary.com/wp-content/uploads/2025/06/sc-mercado-060425.jpg
ORGANIZER;CN="Santa Clara Mercado":MAILTO:SantaClaraMercadoNM@gmail.com
END:VEVENT
BEGIN:VEVENT
DTSTART;TZID=America/Denver:20260829T080000
DTEND;TZID=America/Denver:20260829T140000
DTSTAMP:20260425T134333
CREATED:20260403T204202Z
LAST-MODIFIED:20260403T204202Z
UID:10007763-1787990400-1788012000@glenwoodlibrary.com
SUMMARY:Glenwood Street Market
DESCRIPTION:
URL:https://glenwoodlibrary.com/event/glenwood-street-market/2026-08-29/
LOCATION:Downtown Glenwood\, US Hwy 180\, Glenwood\, NM\, 88039
CATEGORIES:Food / Craft Fair,Outdoor,Street / Farmer's Market
ATTACH;FMTTYPE=image/jpeg:https://glenwoodlibrary.com/wp-content/uploads/2024/02/glenwood-street-market-poster.jpg
END:VEVENT
BEGIN:VEVENT
DTSTART;TZID=America/Denver:20260902T100000
DTEND;TZID=America/Denver:20260902T120000
DTSTAMP:20260425T134333
CREATED:20241126T080050Z
LAST-MODIFIED:20241126T080051Z
UID:10004204-1788343200-1788350400@glenwoodlibrary.com
SUMMARY:Gila Farmers Market
DESCRIPTION:
URL:https://glenwoodlibrary.com/event/gila-farmers-market-2/2026-09-02/
LOCATION:Gila Valley Community Center\, 411 Hwy 211\, Gila\, NM\, 88038
CATEGORIES:Street / Farmer's Market
ATTACH;FMTTYPE=image/jpeg:https://glenwoodlibrary.com/wp-content/uploads/2024/02/gila-valley-market-winter-hours.jpg
END:VEVENT
BEGIN:VEVENT
DTSTART;TZID=America/Denver:20260902T160000
DTEND;TZID=America/Denver:20260902T180000
DTSTAMP:20260425T134333
CREATED:20250610T000935Z
LAST-MODIFIED:20250610T000935Z
UID:10005282-1788364800-1788372000@glenwoodlibrary.com
SUMMARY:Santa Clara Mercado
DESCRIPTION:
URL:https://glenwoodlibrary.com/event/santa-clara-mercado/2026-09-02/
LOCATION:Santa Clara\, Santa Clara\, NM\, 88026
CATEGORIES:Outdoor,Street / Farmer's Market
ATTACH;FMTTYPE=image/jpeg:https://glenwoodlibrary.com/wp-content/uploads/2025/06/sc-mercado-060425.jpg
ORGANIZER;CN="Santa Clara Mercado":MAILTO:SantaClaraMercadoNM@gmail.com
END:VEVENT
BEGIN:VEVENT
DTSTART;TZID=America/Denver:20260905T080000
DTEND;TZID=America/Denver:20260905T140000
DTSTAMP:20260425T134333
CREATED:20260403T204202Z
LAST-MODIFIED:20260403T204202Z
UID:10007764-1788595200-1788616800@glenwoodlibrary.com
SUMMARY:Glenwood Street Market
DESCRIPTION:
URL:https://glenwoodlibrary.com/event/glenwood-street-market/2026-09-05/
LOCATION:Downtown Glenwood\, US Hwy 180\, Glenwood\, NM\, 88039
CATEGORIES:Food / Craft Fair,Outdoor,Street / Farmer's Market
ATTACH;FMTTYPE=image/jpeg:https://glenwoodlibrary.com/wp-content/uploads/2024/02/glenwood-street-market-poster.jpg
END:VEVENT
BEGIN:VEVENT
DTSTART;TZID=America/Denver:20260909T100000
DTEND;TZID=America/Denver:20260909T120000
DTSTAMP:20260425T134333
CREATED:20241126T080050Z
LAST-MODIFIED:20241126T080051Z
UID:10004205-1788948000-1788955200@glenwoodlibrary.com
SUMMARY:Gila Farmers Market
DESCRIPTION:
URL:https://glenwoodlibrary.com/event/gila-farmers-market-2/2026-09-09/
LOCATION:Gila Valley Community Center\, 411 Hwy 211\, Gila\, NM\, 88038
CATEGORIES:Street / Farmer's Market
ATTACH;FMTTYPE=image/jpeg:https://glenwoodlibrary.com/wp-content/uploads/2024/02/gila-valley-market-winter-hours.jpg
END:VEVENT
BEGIN:VEVENT
DTSTART;TZID=America/Denver:20260909T160000
DTEND;TZID=America/Denver:20260909T180000
DTSTAMP:20260425T134333
CREATED:20250610T000935Z
LAST-MODIFIED:20250610T000935Z
UID:10005283-1788969600-1788976800@glenwoodlibrary.com
SUMMARY:Santa Clara Mercado
DESCRIPTION:
URL:https://glenwoodlibrary.com/event/santa-clara-mercado/2026-09-09/
LOCATION:Santa Clara\, Santa Clara\, NM\, 88026
CATEGORIES:Outdoor,Street / Farmer's Market
ATTACH;FMTTYPE=image/jpeg:https://glenwoodlibrary.com/wp-content/uploads/2025/06/sc-mercado-060425.jpg
ORGANIZER;CN="Santa Clara Mercado":MAILTO:SantaClaraMercadoNM@gmail.com
END:VEVENT
END:VCALENDAR