BEGIN:VCALENDAR
VERSION:2.0
PRODID:-// - ECPv6.15.20//NONSGML v1.0//EN
CALSCALE:GREGORIAN
METHOD:PUBLISH
X-ORIGINAL-URL:https://glenwoodlibrary.com
X-WR-CALDESC:Events for 
REFRESH-INTERVAL;VALUE=DURATION:PT1H
X-Robots-Tag:noindex
X-PUBLISHED-TTL:PT1H
BEGIN:VTIMEZONE
TZID:America/Denver
BEGIN:DAYLIGHT
TZOFFSETFROM:-0700
TZOFFSETTO:-0600
TZNAME:MDT
DTSTART:20250309T090000
END:DAYLIGHT
BEGIN:STANDARD
TZOFFSETFROM:-0600
TZOFFSETTO:-0700
TZNAME:MST
DTSTART:20251102T080000
END:STANDARD
BEGIN:DAYLIGHT
TZOFFSETFROM:-0700
TZOFFSETTO:-0600
TZNAME:MDT
DTSTART:20260308T090000
END:DAYLIGHT
BEGIN:STANDARD
TZOFFSETFROM:-0600
TZOFFSETTO:-0700
TZNAME:MST
DTSTART:20261101T080000
END:STANDARD
BEGIN:DAYLIGHT
TZOFFSETFROM:-0700
TZOFFSETTO:-0600
TZNAME:MDT
DTSTART:20270314T090000
END:DAYLIGHT
BEGIN:STANDARD
TZOFFSETFROM:-0600
TZOFFSETTO:-0700
TZNAME:MST
DTSTART:20271107T080000
END:STANDARD
END:VTIMEZONE
BEGIN:VEVENT
DTSTART;TZID=America/Denver:20260822T080000
DTEND;TZID=America/Denver:20260822T140000
DTSTAMP:20260425T171418
CREATED:20260403T204202Z
LAST-MODIFIED:20260403T204202Z
UID:10007762-1787385600-1787407200@glenwoodlibrary.com
SUMMARY:Glenwood Street Market
DESCRIPTION:
URL:https://glenwoodlibrary.com/event/glenwood-street-market/2026-08-22/
LOCATION:Downtown Glenwood\, US Hwy 180\, Glenwood\, NM\, 88039
CATEGORIES:Food / Craft Fair,Outdoor,Street / Farmer's Market
ATTACH;FMTTYPE=image/jpeg:https://glenwoodlibrary.com/wp-content/uploads/2024/02/glenwood-street-market-poster.jpg
END:VEVENT
BEGIN:VEVENT
DTSTART;TZID=America/Denver:20260826T100000
DTEND;TZID=America/Denver:20260826T120000
DTSTAMP:20260425T171418
CREATED:20241126T080050Z
LAST-MODIFIED:20241126T080051Z
UID:10004203-1787738400-1787745600@glenwoodlibrary.com
SUMMARY:Gila Farmers Market
DESCRIPTION:
URL:https://glenwoodlibrary.com/event/gila-farmers-market-2/2026-08-26/
LOCATION:Gila Valley Community Center\, 411 Hwy 211\, Gila\, NM\, 88038
CATEGORIES:Street / Farmer's Market
ATTACH;FMTTYPE=image/jpeg:https://glenwoodlibrary.com/wp-content/uploads/2024/02/gila-valley-market-winter-hours.jpg
END:VEVENT
BEGIN:VEVENT
DTSTART;TZID=America/Denver:20260826T160000
DTEND;TZID=America/Denver:20260826T180000
DTSTAMP:20260425T171418
CREATED:20250610T000935Z
LAST-MODIFIED:20250610T000935Z
UID:10005281-1787760000-1787767200@glenwoodlibrary.com
SUMMARY:Santa Clara Mercado
DESCRIPTION:
URL:https://glenwoodlibrary.com/event/santa-clara-mercado/2026-08-26/
LOCATION:Santa Clara\, Santa Clara\, NM\, 88026
CATEGORIES:Outdoor,Street / Farmer's Market
ATTACH;FMTTYPE=image/jpeg:https://glenwoodlibrary.com/wp-content/uploads/2025/06/sc-mercado-060425.jpg
ORGANIZER;CN="Santa Clara Mercado":MAILTO:SantaClaraMercadoNM@gmail.com
END:VEVENT
BEGIN:VEVENT
DTSTART;TZID=America/Denver:20260829T080000
DTEND;TZID=America/Denver:20260829T140000
DTSTAMP:20260425T171418
CREATED:20260403T204202Z
LAST-MODIFIED:20260403T204202Z
UID:10007763-1787990400-1788012000@glenwoodlibrary.com
SUMMARY:Glenwood Street Market
DESCRIPTION:
URL:https://glenwoodlibrary.com/event/glenwood-street-market/2026-08-29/
LOCATION:Downtown Glenwood\, US Hwy 180\, Glenwood\, NM\, 88039
CATEGORIES:Food / Craft Fair,Outdoor,Street / Farmer's Market
ATTACH;FMTTYPE=image/jpeg:https://glenwoodlibrary.com/wp-content/uploads/2024/02/glenwood-street-market-poster.jpg
END:VEVENT
BEGIN:VEVENT
DTSTART;TZID=America/Denver:20260902T100000
DTEND;TZID=America/Denver:20260902T120000
DTSTAMP:20260425T171418
CREATED:20241126T080050Z
LAST-MODIFIED:20241126T080051Z
UID:10004204-1788343200-1788350400@glenwoodlibrary.com
SUMMARY:Gila Farmers Market
DESCRIPTION:
URL:https://glenwoodlibrary.com/event/gila-farmers-market-2/2026-09-02/
LOCATION:Gila Valley Community Center\, 411 Hwy 211\, Gila\, NM\, 88038
CATEGORIES:Street / Farmer's Market
ATTACH;FMTTYPE=image/jpeg:https://glenwoodlibrary.com/wp-content/uploads/2024/02/gila-valley-market-winter-hours.jpg
END:VEVENT
BEGIN:VEVENT
DTSTART;TZID=America/Denver:20260902T160000
DTEND;TZID=America/Denver:20260902T180000
DTSTAMP:20260425T171418
CREATED:20250610T000935Z
LAST-MODIFIED:20250610T000935Z
UID:10005282-1788364800-1788372000@glenwoodlibrary.com
SUMMARY:Santa Clara Mercado
DESCRIPTION:
URL:https://glenwoodlibrary.com/event/santa-clara-mercado/2026-09-02/
LOCATION:Santa Clara\, Santa Clara\, NM\, 88026
CATEGORIES:Outdoor,Street / Farmer's Market
ATTACH;FMTTYPE=image/jpeg:https://glenwoodlibrary.com/wp-content/uploads/2025/06/sc-mercado-060425.jpg
ORGANIZER;CN="Santa Clara Mercado":MAILTO:SantaClaraMercadoNM@gmail.com
END:VEVENT
BEGIN:VEVENT
DTSTART;TZID=America/Denver:20260905T080000
DTEND;TZID=America/Denver:20260905T140000
DTSTAMP:20260425T171418
CREATED:20260403T204202Z
LAST-MODIFIED:20260403T204202Z
UID:10007764-1788595200-1788616800@glenwoodlibrary.com
SUMMARY:Glenwood Street Market
DESCRIPTION:
URL:https://glenwoodlibrary.com/event/glenwood-street-market/2026-09-05/
LOCATION:Downtown Glenwood\, US Hwy 180\, Glenwood\, NM\, 88039
CATEGORIES:Food / Craft Fair,Outdoor,Street / Farmer's Market
ATTACH;FMTTYPE=image/jpeg:https://glenwoodlibrary.com/wp-content/uploads/2024/02/glenwood-street-market-poster.jpg
END:VEVENT
BEGIN:VEVENT
DTSTART;TZID=America/Denver:20260909T100000
DTEND;TZID=America/Denver:20260909T120000
DTSTAMP:20260425T171418
CREATED:20241126T080050Z
LAST-MODIFIED:20241126T080051Z
UID:10004205-1788948000-1788955200@glenwoodlibrary.com
SUMMARY:Gila Farmers Market
DESCRIPTION:
URL:https://glenwoodlibrary.com/event/gila-farmers-market-2/2026-09-09/
LOCATION:Gila Valley Community Center\, 411 Hwy 211\, Gila\, NM\, 88038
CATEGORIES:Street / Farmer's Market
ATTACH;FMTTYPE=image/jpeg:https://glenwoodlibrary.com/wp-content/uploads/2024/02/gila-valley-market-winter-hours.jpg
END:VEVENT
BEGIN:VEVENT
DTSTART;TZID=America/Denver:20260909T160000
DTEND;TZID=America/Denver:20260909T180000
DTSTAMP:20260425T171418
CREATED:20250610T000935Z
LAST-MODIFIED:20250610T000935Z
UID:10005283-1788969600-1788976800@glenwoodlibrary.com
SUMMARY:Santa Clara Mercado
DESCRIPTION:
URL:https://glenwoodlibrary.com/event/santa-clara-mercado/2026-09-09/
LOCATION:Santa Clara\, Santa Clara\, NM\, 88026
CATEGORIES:Outdoor,Street / Farmer's Market
ATTACH;FMTTYPE=image/jpeg:https://glenwoodlibrary.com/wp-content/uploads/2025/06/sc-mercado-060425.jpg
ORGANIZER;CN="Santa Clara Mercado":MAILTO:SantaClaraMercadoNM@gmail.com
END:VEVENT
BEGIN:VEVENT
DTSTART;TZID=America/Denver:20260912T080000
DTEND;TZID=America/Denver:20260912T140000
DTSTAMP:20260425T171418
CREATED:20260403T204202Z
LAST-MODIFIED:20260403T204202Z
UID:10007765-1789200000-1789221600@glenwoodlibrary.com
SUMMARY:Glenwood Street Market
DESCRIPTION:
URL:https://glenwoodlibrary.com/event/glenwood-street-market/2026-09-12/
LOCATION:Downtown Glenwood\, US Hwy 180\, Glenwood\, NM\, 88039
CATEGORIES:Food / Craft Fair,Outdoor,Street / Farmer's Market
ATTACH;FMTTYPE=image/jpeg:https://glenwoodlibrary.com/wp-content/uploads/2024/02/glenwood-street-market-poster.jpg
END:VEVENT
BEGIN:VEVENT
DTSTART;TZID=America/Denver:20260916T100000
DTEND;TZID=America/Denver:20260916T120000
DTSTAMP:20260425T171418
CREATED:20241126T080050Z
LAST-MODIFIED:20241126T080051Z
UID:10004206-1789552800-1789560000@glenwoodlibrary.com
SUMMARY:Gila Farmers Market
DESCRIPTION:
URL:https://glenwoodlibrary.com/event/gila-farmers-market-2/2026-09-16/
LOCATION:Gila Valley Community Center\, 411 Hwy 211\, Gila\, NM\, 88038
CATEGORIES:Street / Farmer's Market
ATTACH;FMTTYPE=image/jpeg:https://glenwoodlibrary.com/wp-content/uploads/2024/02/gila-valley-market-winter-hours.jpg
END:VEVENT
BEGIN:VEVENT
DTSTART;TZID=America/Denver:20260916T160000
DTEND;TZID=America/Denver:20260916T180000
DTSTAMP:20260425T171418
CREATED:20250610T000935Z
LAST-MODIFIED:20250610T000935Z
UID:10005284-1789574400-1789581600@glenwoodlibrary.com
SUMMARY:Santa Clara Mercado
DESCRIPTION:
URL:https://glenwoodlibrary.com/event/santa-clara-mercado/2026-09-16/
LOCATION:Santa Clara\, Santa Clara\, NM\, 88026
CATEGORIES:Outdoor,Street / Farmer's Market
ATTACH;FMTTYPE=image/jpeg:https://glenwoodlibrary.com/wp-content/uploads/2025/06/sc-mercado-060425.jpg
ORGANIZER;CN="Santa Clara Mercado":MAILTO:SantaClaraMercadoNM@gmail.com
END:VEVENT
BEGIN:VEVENT
DTSTART;TZID=America/Denver:20260919T080000
DTEND;TZID=America/Denver:20260919T140000
DTSTAMP:20260425T171418
CREATED:20260403T204202Z
LAST-MODIFIED:20260403T204202Z
UID:10007766-1789804800-1789826400@glenwoodlibrary.com
SUMMARY:Glenwood Street Market
DESCRIPTION:
URL:https://glenwoodlibrary.com/event/glenwood-street-market/2026-09-19/
LOCATION:Downtown Glenwood\, US Hwy 180\, Glenwood\, NM\, 88039
CATEGORIES:Food / Craft Fair,Outdoor,Street / Farmer's Market
ATTACH;FMTTYPE=image/jpeg:https://glenwoodlibrary.com/wp-content/uploads/2024/02/glenwood-street-market-poster.jpg
END:VEVENT
BEGIN:VEVENT
DTSTART;TZID=America/Denver:20260923T100000
DTEND;TZID=America/Denver:20260923T120000
DTSTAMP:20260425T171419
CREATED:20241126T080050Z
LAST-MODIFIED:20241126T080051Z
UID:10004207-1790157600-1790164800@glenwoodlibrary.com
SUMMARY:Gila Farmers Market
DESCRIPTION:
URL:https://glenwoodlibrary.com/event/gila-farmers-market-2/2026-09-23/
LOCATION:Gila Valley Community Center\, 411 Hwy 211\, Gila\, NM\, 88038
CATEGORIES:Street / Farmer's Market
ATTACH;FMTTYPE=image/jpeg:https://glenwoodlibrary.com/wp-content/uploads/2024/02/gila-valley-market-winter-hours.jpg
END:VEVENT
BEGIN:VEVENT
DTSTART;TZID=America/Denver:20260923T160000
DTEND;TZID=America/Denver:20260923T180000
DTSTAMP:20260425T171419
CREATED:20250610T000935Z
LAST-MODIFIED:20250610T000935Z
UID:10005285-1790179200-1790186400@glenwoodlibrary.com
SUMMARY:Santa Clara Mercado
DESCRIPTION:
URL:https://glenwoodlibrary.com/event/santa-clara-mercado/2026-09-23/
LOCATION:Santa Clara\, Santa Clara\, NM\, 88026
CATEGORIES:Outdoor,Street / Farmer's Market
ATTACH;FMTTYPE=image/jpeg:https://glenwoodlibrary.com/wp-content/uploads/2025/06/sc-mercado-060425.jpg
ORGANIZER;CN="Santa Clara Mercado":MAILTO:SantaClaraMercadoNM@gmail.com
END:VEVENT
BEGIN:VEVENT
DTSTART;TZID=America/Denver:20260926T080000
DTEND;TZID=America/Denver:20260926T140000
DTSTAMP:20260425T171419
CREATED:20260403T204202Z
LAST-MODIFIED:20260403T204202Z
UID:10007767-1790409600-1790431200@glenwoodlibrary.com
SUMMARY:Glenwood Street Market
DESCRIPTION:
URL:https://glenwoodlibrary.com/event/glenwood-street-market/2026-09-26/
LOCATION:Downtown Glenwood\, US Hwy 180\, Glenwood\, NM\, 88039
CATEGORIES:Food / Craft Fair,Outdoor,Street / Farmer's Market
ATTACH;FMTTYPE=image/jpeg:https://glenwoodlibrary.com/wp-content/uploads/2024/02/glenwood-street-market-poster.jpg
END:VEVENT
BEGIN:VEVENT
DTSTART;TZID=America/Denver:20260930T100000
DTEND;TZID=America/Denver:20260930T120000
DTSTAMP:20260425T171419
CREATED:20241126T080050Z
LAST-MODIFIED:20241126T080051Z
UID:10004208-1790762400-1790769600@glenwoodlibrary.com
SUMMARY:Gila Farmers Market
DESCRIPTION:
URL:https://glenwoodlibrary.com/event/gila-farmers-market-2/2026-09-30/
LOCATION:Gila Valley Community Center\, 411 Hwy 211\, Gila\, NM\, 88038
CATEGORIES:Street / Farmer's Market
ATTACH;FMTTYPE=image/jpeg:https://glenwoodlibrary.com/wp-content/uploads/2024/02/gila-valley-market-winter-hours.jpg
END:VEVENT
BEGIN:VEVENT
DTSTART;TZID=America/Denver:20260930T160000
DTEND;TZID=America/Denver:20260930T180000
DTSTAMP:20260425T171419
CREATED:20250610T000935Z
LAST-MODIFIED:20250610T000935Z
UID:10005286-1790784000-1790791200@glenwoodlibrary.com
SUMMARY:Santa Clara Mercado
DESCRIPTION:
URL:https://glenwoodlibrary.com/event/santa-clara-mercado/2026-09-30/
LOCATION:Santa Clara\, Santa Clara\, NM\, 88026
CATEGORIES:Outdoor,Street / Farmer's Market
ATTACH;FMTTYPE=image/jpeg:https://glenwoodlibrary.com/wp-content/uploads/2025/06/sc-mercado-060425.jpg
ORGANIZER;CN="Santa Clara Mercado":MAILTO:SantaClaraMercadoNM@gmail.com
END:VEVENT
BEGIN:VEVENT
DTSTART;TZID=America/Denver:20261003T080000
DTEND;TZID=America/Denver:20261003T140000
DTSTAMP:20260425T171419
CREATED:20260403T204202Z
LAST-MODIFIED:20260403T204202Z
UID:10007768-1791014400-1791036000@glenwoodlibrary.com
SUMMARY:Glenwood Street Market
DESCRIPTION:
URL:https://glenwoodlibrary.com/event/glenwood-street-market/2026-10-03/
LOCATION:Downtown Glenwood\, US Hwy 180\, Glenwood\, NM\, 88039
CATEGORIES:Food / Craft Fair,Outdoor,Street / Farmer's Market
ATTACH;FMTTYPE=image/jpeg:https://glenwoodlibrary.com/wp-content/uploads/2024/02/glenwood-street-market-poster.jpg
END:VEVENT
BEGIN:VEVENT
DTSTART;TZID=America/Denver:20261007T100000
DTEND;TZID=America/Denver:20261007T120000
DTSTAMP:20260425T171419
CREATED:20241126T080050Z
LAST-MODIFIED:20241126T080051Z
UID:10004209-1791367200-1791374400@glenwoodlibrary.com
SUMMARY:Gila Farmers Market
DESCRIPTION:
URL:https://glenwoodlibrary.com/event/gila-farmers-market-2/2026-10-07/
LOCATION:Gila Valley Community Center\, 411 Hwy 211\, Gila\, NM\, 88038
CATEGORIES:Street / Farmer's Market
ATTACH;FMTTYPE=image/jpeg:https://glenwoodlibrary.com/wp-content/uploads/2024/02/gila-valley-market-winter-hours.jpg
END:VEVENT
BEGIN:VEVENT
DTSTART;TZID=America/Denver:20261007T160000
DTEND;TZID=America/Denver:20261007T180000
DTSTAMP:20260425T171419
CREATED:20250610T000935Z
LAST-MODIFIED:20250610T000935Z
UID:10005287-1791388800-1791396000@glenwoodlibrary.com
SUMMARY:Santa Clara Mercado
DESCRIPTION:
URL:https://glenwoodlibrary.com/event/santa-clara-mercado/2026-10-07/
LOCATION:Santa Clara\, Santa Clara\, NM\, 88026
CATEGORIES:Outdoor,Street / Farmer's Market
ATTACH;FMTTYPE=image/jpeg:https://glenwoodlibrary.com/wp-content/uploads/2025/06/sc-mercado-060425.jpg
ORGANIZER;CN="Santa Clara Mercado":MAILTO:SantaClaraMercadoNM@gmail.com
END:VEVENT
BEGIN:VEVENT
DTSTART;TZID=America/Denver:20261010T080000
DTEND;TZID=America/Denver:20261010T140000
DTSTAMP:20260425T171419
CREATED:20260403T204202Z
LAST-MODIFIED:20260403T204202Z
UID:10007769-1791619200-1791640800@glenwoodlibrary.com
SUMMARY:Glenwood Street Market
DESCRIPTION:
URL:https://glenwoodlibrary.com/event/glenwood-street-market/2026-10-10/
LOCATION:Downtown Glenwood\, US Hwy 180\, Glenwood\, NM\, 88039
CATEGORIES:Food / Craft Fair,Outdoor,Street / Farmer's Market
ATTACH;FMTTYPE=image/jpeg:https://glenwoodlibrary.com/wp-content/uploads/2024/02/glenwood-street-market-poster.jpg
END:VEVENT
BEGIN:VEVENT
DTSTART;TZID=America/Denver:20261014T100000
DTEND;TZID=America/Denver:20261014T120000
DTSTAMP:20260425T171419
CREATED:20241126T080050Z
LAST-MODIFIED:20241126T080051Z
UID:10004210-1791972000-1791979200@glenwoodlibrary.com
SUMMARY:Gila Farmers Market
DESCRIPTION:
URL:https://glenwoodlibrary.com/event/gila-farmers-market-2/2026-10-14/
LOCATION:Gila Valley Community Center\, 411 Hwy 211\, Gila\, NM\, 88038
CATEGORIES:Street / Farmer's Market
ATTACH;FMTTYPE=image/jpeg:https://glenwoodlibrary.com/wp-content/uploads/2024/02/gila-valley-market-winter-hours.jpg
END:VEVENT
BEGIN:VEVENT
DTSTART;TZID=America/Denver:20261014T160000
DTEND;TZID=America/Denver:20261014T180000
DTSTAMP:20260425T171419
CREATED:20250610T000935Z
LAST-MODIFIED:20250610T000935Z
UID:10005288-1791993600-1792000800@glenwoodlibrary.com
SUMMARY:Santa Clara Mercado
DESCRIPTION:
URL:https://glenwoodlibrary.com/event/santa-clara-mercado/2026-10-14/
LOCATION:Santa Clara\, Santa Clara\, NM\, 88026
CATEGORIES:Outdoor,Street / Farmer's Market
ATTACH;FMTTYPE=image/jpeg:https://glenwoodlibrary.com/wp-content/uploads/2025/06/sc-mercado-060425.jpg
ORGANIZER;CN="Santa Clara Mercado":MAILTO:SantaClaraMercadoNM@gmail.com
END:VEVENT
BEGIN:VEVENT
DTSTART;TZID=America/Denver:20261017T080000
DTEND;TZID=America/Denver:20261017T140000
DTSTAMP:20260425T171419
CREATED:20260403T204202Z
LAST-MODIFIED:20260403T204202Z
UID:10007770-1792224000-1792245600@glenwoodlibrary.com
SUMMARY:Glenwood Street Market
DESCRIPTION:
URL:https://glenwoodlibrary.com/event/glenwood-street-market/2026-10-17/
LOCATION:Downtown Glenwood\, US Hwy 180\, Glenwood\, NM\, 88039
CATEGORIES:Food / Craft Fair,Outdoor,Street / Farmer's Market
ATTACH;FMTTYPE=image/jpeg:https://glenwoodlibrary.com/wp-content/uploads/2024/02/glenwood-street-market-poster.jpg
END:VEVENT
BEGIN:VEVENT
DTSTART;TZID=America/Denver:20261021T100000
DTEND;TZID=America/Denver:20261021T120000
DTSTAMP:20260425T171419
CREATED:20241126T080050Z
LAST-MODIFIED:20241126T080051Z
UID:10004211-1792576800-1792584000@glenwoodlibrary.com
SUMMARY:Gila Farmers Market
DESCRIPTION:
URL:https://glenwoodlibrary.com/event/gila-farmers-market-2/2026-10-21/
LOCATION:Gila Valley Community Center\, 411 Hwy 211\, Gila\, NM\, 88038
CATEGORIES:Street / Farmer's Market
ATTACH;FMTTYPE=image/jpeg:https://glenwoodlibrary.com/wp-content/uploads/2024/02/gila-valley-market-winter-hours.jpg
END:VEVENT
BEGIN:VEVENT
DTSTART;TZID=America/Denver:20261021T160000
DTEND;TZID=America/Denver:20261021T180000
DTSTAMP:20260425T171419
CREATED:20250610T000935Z
LAST-MODIFIED:20250610T000935Z
UID:10005289-1792598400-1792605600@glenwoodlibrary.com
SUMMARY:Santa Clara Mercado
DESCRIPTION:
URL:https://glenwoodlibrary.com/event/santa-clara-mercado/2026-10-21/
LOCATION:Santa Clara\, Santa Clara\, NM\, 88026
CATEGORIES:Outdoor,Street / Farmer's Market
ATTACH;FMTTYPE=image/jpeg:https://glenwoodlibrary.com/wp-content/uploads/2025/06/sc-mercado-060425.jpg
ORGANIZER;CN="Santa Clara Mercado":MAILTO:SantaClaraMercadoNM@gmail.com
END:VEVENT
BEGIN:VEVENT
DTSTART;TZID=America/Denver:20261024T080000
DTEND;TZID=America/Denver:20261024T140000
DTSTAMP:20260425T171419
CREATED:20260403T204202Z
LAST-MODIFIED:20260403T204202Z
UID:10007771-1792828800-1792850400@glenwoodlibrary.com
SUMMARY:Glenwood Street Market
DESCRIPTION:
URL:https://glenwoodlibrary.com/event/glenwood-street-market/2026-10-24/
LOCATION:Downtown Glenwood\, US Hwy 180\, Glenwood\, NM\, 88039
CATEGORIES:Food / Craft Fair,Outdoor,Street / Farmer's Market
ATTACH;FMTTYPE=image/jpeg:https://glenwoodlibrary.com/wp-content/uploads/2024/02/glenwood-street-market-poster.jpg
END:VEVENT
BEGIN:VEVENT
DTSTART;TZID=America/Denver:20261028T100000
DTEND;TZID=America/Denver:20261028T120000
DTSTAMP:20260425T171419
CREATED:20241126T080050Z
LAST-MODIFIED:20241126T080051Z
UID:10004212-1793181600-1793188800@glenwoodlibrary.com
SUMMARY:Gila Farmers Market
DESCRIPTION:
URL:https://glenwoodlibrary.com/event/gila-farmers-market-2/2026-10-28/
LOCATION:Gila Valley Community Center\, 411 Hwy 211\, Gila\, NM\, 88038
CATEGORIES:Street / Farmer's Market
ATTACH;FMTTYPE=image/jpeg:https://glenwoodlibrary.com/wp-content/uploads/2024/02/gila-valley-market-winter-hours.jpg
END:VEVENT
BEGIN:VEVENT
DTSTART;TZID=America/Denver:20261028T160000
DTEND;TZID=America/Denver:20261028T180000
DTSTAMP:20260425T171419
CREATED:20250610T000935Z
LAST-MODIFIED:20250610T000935Z
UID:10005290-1793203200-1793210400@glenwoodlibrary.com
SUMMARY:Santa Clara Mercado
DESCRIPTION:
URL:https://glenwoodlibrary.com/event/santa-clara-mercado/2026-10-28/
LOCATION:Santa Clara\, Santa Clara\, NM\, 88026
CATEGORIES:Outdoor,Street / Farmer's Market
ATTACH;FMTTYPE=image/jpeg:https://glenwoodlibrary.com/wp-content/uploads/2025/06/sc-mercado-060425.jpg
ORGANIZER;CN="Santa Clara Mercado":MAILTO:SantaClaraMercadoNM@gmail.com
END:VEVENT
END:VCALENDAR