BEGIN:VCALENDAR
VERSION:2.0
PRODID:-// - ECPv6.15.20//NONSGML v1.0//EN
CALSCALE:GREGORIAN
METHOD:PUBLISH
X-ORIGINAL-URL:https://glenwoodlibrary.com
X-WR-CALDESC:Events for 
REFRESH-INTERVAL;VALUE=DURATION:PT1H
X-Robots-Tag:noindex
X-PUBLISHED-TTL:PT1H
BEGIN:VTIMEZONE
TZID:America/Denver
BEGIN:DAYLIGHT
TZOFFSETFROM:-0700
TZOFFSETTO:-0600
TZNAME:MDT
DTSTART:20260308T090000
END:DAYLIGHT
BEGIN:STANDARD
TZOFFSETFROM:-0600
TZOFFSETTO:-0700
TZNAME:MST
DTSTART:20261101T080000
END:STANDARD
BEGIN:DAYLIGHT
TZOFFSETFROM:-0700
TZOFFSETTO:-0600
TZNAME:MDT
DTSTART:20270314T090000
END:DAYLIGHT
BEGIN:STANDARD
TZOFFSETFROM:-0600
TZOFFSETTO:-0700
TZNAME:MST
DTSTART:20271107T080000
END:STANDARD
BEGIN:DAYLIGHT
TZOFFSETFROM:-0700
TZOFFSETTO:-0600
TZNAME:MDT
DTSTART:20280312T090000
END:DAYLIGHT
BEGIN:STANDARD
TZOFFSETFROM:-0600
TZOFFSETTO:-0700
TZNAME:MST
DTSTART:20281105T080000
END:STANDARD
BEGIN:DAYLIGHT
TZOFFSETFROM:-0700
TZOFFSETTO:-0600
TZNAME:MDT
DTSTART:20290311T090000
END:DAYLIGHT
BEGIN:STANDARD
TZOFFSETFROM:-0600
TZOFFSETTO:-0700
TZNAME:MST
DTSTART:20291104T080000
END:STANDARD
BEGIN:DAYLIGHT
TZOFFSETFROM:-0700
TZOFFSETTO:-0600
TZNAME:MDT
DTSTART:20300310T090000
END:DAYLIGHT
BEGIN:STANDARD
TZOFFSETFROM:-0600
TZOFFSETTO:-0700
TZNAME:MST
DTSTART:20301103T080000
END:STANDARD
END:VTIMEZONE
BEGIN:VEVENT
DTSTART;TZID=America/Denver:20270302T130000
DTEND;TZID=America/Denver:20270302T140000
DTSTAMP:20260419T124438
CREATED:20260403T073727Z
LAST-MODIFIED:20260403T073727Z
UID:10006456-1803992400-1803996000@glenwoodlibrary.com
SUMMARY:GCC Board Meeting
DESCRIPTION:
URL:https://glenwoodlibrary.com/event/gcc-board-meeting/2027-03-02/
LOCATION:Glenwood Community Center\, 21 Menges Lane\, Glenwood\, NM\, 88039\, United States
CATEGORIES:Club / Organization,Meeting
ATTACH;FMTTYPE=image/jpeg:https://glenwoodlibrary.com/wp-content/uploads/2025/07/gcc.jpg
ORGANIZER;CN="Cathy Murphy":MAILTO:dadandc@icloud.com
END:VEVENT
BEGIN:VEVENT
DTSTART;TZID=America/Denver:20270406T130000
DTEND;TZID=America/Denver:20270406T140000
DTSTAMP:20260419T124438
CREATED:20260403T073727Z
LAST-MODIFIED:20260403T073727Z
UID:10006457-1807016400-1807020000@glenwoodlibrary.com
SUMMARY:GCC Board Meeting
DESCRIPTION:
URL:https://glenwoodlibrary.com/event/gcc-board-meeting/2027-04-06/
LOCATION:Glenwood Community Center\, 21 Menges Lane\, Glenwood\, NM\, 88039\, United States
CATEGORIES:Club / Organization,Meeting
ATTACH;FMTTYPE=image/jpeg:https://glenwoodlibrary.com/wp-content/uploads/2025/07/gcc.jpg
ORGANIZER;CN="Cathy Murphy":MAILTO:dadandc@icloud.com
END:VEVENT
BEGIN:VEVENT
DTSTART;TZID=America/Denver:20270504T130000
DTEND;TZID=America/Denver:20270504T140000
DTSTAMP:20260419T124438
CREATED:20260403T073727Z
LAST-MODIFIED:20260403T073727Z
UID:10006458-1809435600-1809439200@glenwoodlibrary.com
SUMMARY:GCC Board Meeting
DESCRIPTION:
URL:https://glenwoodlibrary.com/event/gcc-board-meeting/2027-05-04/
LOCATION:Glenwood Community Center\, 21 Menges Lane\, Glenwood\, NM\, 88039\, United States
CATEGORIES:Club / Organization,Meeting
ATTACH;FMTTYPE=image/jpeg:https://glenwoodlibrary.com/wp-content/uploads/2025/07/gcc.jpg
ORGANIZER;CN="Cathy Murphy":MAILTO:dadandc@icloud.com
END:VEVENT
BEGIN:VEVENT
DTSTART;TZID=America/Denver:20270601T130000
DTEND;TZID=America/Denver:20270601T140000
DTSTAMP:20260419T124438
CREATED:20260403T073727Z
LAST-MODIFIED:20260403T073727Z
UID:10006459-1811854800-1811858400@glenwoodlibrary.com
SUMMARY:GCC Board Meeting
DESCRIPTION:
URL:https://glenwoodlibrary.com/event/gcc-board-meeting/2027-06-01/
LOCATION:Glenwood Community Center\, 21 Menges Lane\, Glenwood\, NM\, 88039\, United States
CATEGORIES:Club / Organization,Meeting
ATTACH;FMTTYPE=image/jpeg:https://glenwoodlibrary.com/wp-content/uploads/2025/07/gcc.jpg
ORGANIZER;CN="Cathy Murphy":MAILTO:dadandc@icloud.com
END:VEVENT
BEGIN:VEVENT
DTSTART;TZID=America/Denver:20270706T130000
DTEND;TZID=America/Denver:20270706T140000
DTSTAMP:20260419T124438
CREATED:20260403T073727Z
LAST-MODIFIED:20260403T073727Z
UID:10006460-1814878800-1814882400@glenwoodlibrary.com
SUMMARY:GCC Board Meeting
DESCRIPTION:
URL:https://glenwoodlibrary.com/event/gcc-board-meeting/2027-07-06/
LOCATION:Glenwood Community Center\, 21 Menges Lane\, Glenwood\, NM\, 88039\, United States
CATEGORIES:Club / Organization,Meeting
ATTACH;FMTTYPE=image/jpeg:https://glenwoodlibrary.com/wp-content/uploads/2025/07/gcc.jpg
ORGANIZER;CN="Cathy Murphy":MAILTO:dadandc@icloud.com
END:VEVENT
BEGIN:VEVENT
DTSTART;TZID=America/Denver:20270803T130000
DTEND;TZID=America/Denver:20270803T140000
DTSTAMP:20260419T124438
CREATED:20260403T073727Z
LAST-MODIFIED:20260403T073727Z
UID:10006461-1817298000-1817301600@glenwoodlibrary.com
SUMMARY:GCC Board Meeting
DESCRIPTION:
URL:https://glenwoodlibrary.com/event/gcc-board-meeting/2027-08-03/
LOCATION:Glenwood Community Center\, 21 Menges Lane\, Glenwood\, NM\, 88039\, United States
CATEGORIES:Club / Organization,Meeting
ATTACH;FMTTYPE=image/jpeg:https://glenwoodlibrary.com/wp-content/uploads/2025/07/gcc.jpg
ORGANIZER;CN="Cathy Murphy":MAILTO:dadandc@icloud.com
END:VEVENT
BEGIN:VEVENT
DTSTART;TZID=America/Denver:20270907T130000
DTEND;TZID=America/Denver:20270907T140000
DTSTAMP:20260419T124438
CREATED:20260403T073727Z
LAST-MODIFIED:20260403T073727Z
UID:10006462-1820322000-1820325600@glenwoodlibrary.com
SUMMARY:GCC Board Meeting
DESCRIPTION:
URL:https://glenwoodlibrary.com/event/gcc-board-meeting/2027-09-07/
LOCATION:Glenwood Community Center\, 21 Menges Lane\, Glenwood\, NM\, 88039\, United States
CATEGORIES:Club / Organization,Meeting
ATTACH;FMTTYPE=image/jpeg:https://glenwoodlibrary.com/wp-content/uploads/2025/07/gcc.jpg
ORGANIZER;CN="Cathy Murphy":MAILTO:dadandc@icloud.com
END:VEVENT
BEGIN:VEVENT
DTSTART;TZID=America/Denver:20271005T130000
DTEND;TZID=America/Denver:20271005T140000
DTSTAMP:20260419T124438
CREATED:20260403T073727Z
LAST-MODIFIED:20260403T073727Z
UID:10006463-1822741200-1822744800@glenwoodlibrary.com
SUMMARY:GCC Board Meeting
DESCRIPTION:
URL:https://glenwoodlibrary.com/event/gcc-board-meeting/2027-10-05/
LOCATION:Glenwood Community Center\, 21 Menges Lane\, Glenwood\, NM\, 88039\, United States
CATEGORIES:Club / Organization,Meeting
ATTACH;FMTTYPE=image/jpeg:https://glenwoodlibrary.com/wp-content/uploads/2025/07/gcc.jpg
ORGANIZER;CN="Cathy Murphy":MAILTO:dadandc@icloud.com
END:VEVENT
BEGIN:VEVENT
DTSTART;TZID=America/Denver:20271102T130000
DTEND;TZID=America/Denver:20271102T140000
DTSTAMP:20260419T124438
CREATED:20260403T073727Z
LAST-MODIFIED:20260403T073727Z
UID:10006464-1825160400-1825164000@glenwoodlibrary.com
SUMMARY:GCC Board Meeting
DESCRIPTION:
URL:https://glenwoodlibrary.com/event/gcc-board-meeting/2027-11-02/
LOCATION:Glenwood Community Center\, 21 Menges Lane\, Glenwood\, NM\, 88039\, United States
CATEGORIES:Club / Organization,Meeting
ATTACH;FMTTYPE=image/jpeg:https://glenwoodlibrary.com/wp-content/uploads/2025/07/gcc.jpg
ORGANIZER;CN="Cathy Murphy":MAILTO:dadandc@icloud.com
END:VEVENT
BEGIN:VEVENT
DTSTART;TZID=America/Denver:20271207T130000
DTEND;TZID=America/Denver:20271207T140000
DTSTAMP:20260419T124438
CREATED:20260403T073727Z
LAST-MODIFIED:20260403T073727Z
UID:10006465-1828184400-1828188000@glenwoodlibrary.com
SUMMARY:GCC Board Meeting
DESCRIPTION:
URL:https://glenwoodlibrary.com/event/gcc-board-meeting/2027-12-07/
LOCATION:Glenwood Community Center\, 21 Menges Lane\, Glenwood\, NM\, 88039\, United States
CATEGORIES:Club / Organization,Meeting
ATTACH;FMTTYPE=image/jpeg:https://glenwoodlibrary.com/wp-content/uploads/2025/07/gcc.jpg
ORGANIZER;CN="Cathy Murphy":MAILTO:dadandc@icloud.com
END:VEVENT
BEGIN:VEVENT
DTSTART;TZID=America/Denver:20280104T130000
DTEND;TZID=America/Denver:20280104T140000
DTSTAMP:20260419T124438
CREATED:20260403T073727Z
LAST-MODIFIED:20260403T073727Z
UID:10006466-1830603600-1830607200@glenwoodlibrary.com
SUMMARY:GCC Board Meeting
DESCRIPTION:
URL:https://glenwoodlibrary.com/event/gcc-board-meeting/2028-01-04/
LOCATION:Glenwood Community Center\, 21 Menges Lane\, Glenwood\, NM\, 88039\, United States
CATEGORIES:Club / Organization,Meeting
ATTACH;FMTTYPE=image/jpeg:https://glenwoodlibrary.com/wp-content/uploads/2025/07/gcc.jpg
ORGANIZER;CN="Cathy Murphy":MAILTO:dadandc@icloud.com
END:VEVENT
BEGIN:VEVENT
DTSTART;TZID=America/Denver:20280201T130000
DTEND;TZID=America/Denver:20280201T140000
DTSTAMP:20260419T124438
CREATED:20260403T073727Z
LAST-MODIFIED:20260403T073727Z
UID:10006467-1833022800-1833026400@glenwoodlibrary.com
SUMMARY:GCC Board Meeting
DESCRIPTION:
URL:https://glenwoodlibrary.com/event/gcc-board-meeting/2028-02-01/
LOCATION:Glenwood Community Center\, 21 Menges Lane\, Glenwood\, NM\, 88039\, United States
CATEGORIES:Club / Organization,Meeting
ATTACH;FMTTYPE=image/jpeg:https://glenwoodlibrary.com/wp-content/uploads/2025/07/gcc.jpg
ORGANIZER;CN="Cathy Murphy":MAILTO:dadandc@icloud.com
END:VEVENT
BEGIN:VEVENT
DTSTART;TZID=America/Denver:20280307T130000
DTEND;TZID=America/Denver:20280307T140000
DTSTAMP:20260419T124438
CREATED:20260403T073727Z
LAST-MODIFIED:20260403T073727Z
UID:10006468-1836046800-1836050400@glenwoodlibrary.com
SUMMARY:GCC Board Meeting
DESCRIPTION:
URL:https://glenwoodlibrary.com/event/gcc-board-meeting/2028-03-07/
LOCATION:Glenwood Community Center\, 21 Menges Lane\, Glenwood\, NM\, 88039\, United States
CATEGORIES:Club / Organization,Meeting
ATTACH;FMTTYPE=image/jpeg:https://glenwoodlibrary.com/wp-content/uploads/2025/07/gcc.jpg
ORGANIZER;CN="Cathy Murphy":MAILTO:dadandc@icloud.com
END:VEVENT
BEGIN:VEVENT
DTSTART;TZID=America/Denver:20280404T130000
DTEND;TZID=America/Denver:20280404T140000
DTSTAMP:20260419T124438
CREATED:20260403T073727Z
LAST-MODIFIED:20260403T073727Z
UID:10006469-1838466000-1838469600@glenwoodlibrary.com
SUMMARY:GCC Board Meeting
DESCRIPTION:
URL:https://glenwoodlibrary.com/event/gcc-board-meeting/2028-04-04/
LOCATION:Glenwood Community Center\, 21 Menges Lane\, Glenwood\, NM\, 88039\, United States
CATEGORIES:Club / Organization,Meeting
ATTACH;FMTTYPE=image/jpeg:https://glenwoodlibrary.com/wp-content/uploads/2025/07/gcc.jpg
ORGANIZER;CN="Cathy Murphy":MAILTO:dadandc@icloud.com
END:VEVENT
BEGIN:VEVENT
DTSTART;TZID=America/Denver:20280502T130000
DTEND;TZID=America/Denver:20280502T140000
DTSTAMP:20260419T124438
CREATED:20260403T073727Z
LAST-MODIFIED:20260403T073727Z
UID:10006470-1840885200-1840888800@glenwoodlibrary.com
SUMMARY:GCC Board Meeting
DESCRIPTION:
URL:https://glenwoodlibrary.com/event/gcc-board-meeting/2028-05-02/
LOCATION:Glenwood Community Center\, 21 Menges Lane\, Glenwood\, NM\, 88039\, United States
CATEGORIES:Club / Organization,Meeting
ATTACH;FMTTYPE=image/jpeg:https://glenwoodlibrary.com/wp-content/uploads/2025/07/gcc.jpg
ORGANIZER;CN="Cathy Murphy":MAILTO:dadandc@icloud.com
END:VEVENT
BEGIN:VEVENT
DTSTART;TZID=America/Denver:20280606T130000
DTEND;TZID=America/Denver:20280606T140000
DTSTAMP:20260419T124438
CREATED:20260403T073727Z
LAST-MODIFIED:20260403T073727Z
UID:10006471-1843909200-1843912800@glenwoodlibrary.com
SUMMARY:GCC Board Meeting
DESCRIPTION:
URL:https://glenwoodlibrary.com/event/gcc-board-meeting/2028-06-06/
LOCATION:Glenwood Community Center\, 21 Menges Lane\, Glenwood\, NM\, 88039\, United States
CATEGORIES:Club / Organization,Meeting
ATTACH;FMTTYPE=image/jpeg:https://glenwoodlibrary.com/wp-content/uploads/2025/07/gcc.jpg
ORGANIZER;CN="Cathy Murphy":MAILTO:dadandc@icloud.com
END:VEVENT
BEGIN:VEVENT
DTSTART;TZID=America/Denver:20280704T130000
DTEND;TZID=America/Denver:20280704T140000
DTSTAMP:20260419T124438
CREATED:20260403T073727Z
LAST-MODIFIED:20260403T073727Z
UID:10006472-1846328400-1846332000@glenwoodlibrary.com
SUMMARY:GCC Board Meeting
DESCRIPTION:
URL:https://glenwoodlibrary.com/event/gcc-board-meeting/2028-07-04/
LOCATION:Glenwood Community Center\, 21 Menges Lane\, Glenwood\, NM\, 88039\, United States
CATEGORIES:Club / Organization,Meeting
ATTACH;FMTTYPE=image/jpeg:https://glenwoodlibrary.com/wp-content/uploads/2025/07/gcc.jpg
ORGANIZER;CN="Cathy Murphy":MAILTO:dadandc@icloud.com
END:VEVENT
BEGIN:VEVENT
DTSTART;TZID=America/Denver:20280801T130000
DTEND;TZID=America/Denver:20280801T140000
DTSTAMP:20260419T124438
CREATED:20260403T073727Z
LAST-MODIFIED:20260403T073727Z
UID:10006473-1848747600-1848751200@glenwoodlibrary.com
SUMMARY:GCC Board Meeting
DESCRIPTION:
URL:https://glenwoodlibrary.com/event/gcc-board-meeting/2028-08-01/
LOCATION:Glenwood Community Center\, 21 Menges Lane\, Glenwood\, NM\, 88039\, United States
CATEGORIES:Club / Organization,Meeting
ATTACH;FMTTYPE=image/jpeg:https://glenwoodlibrary.com/wp-content/uploads/2025/07/gcc.jpg
ORGANIZER;CN="Cathy Murphy":MAILTO:dadandc@icloud.com
END:VEVENT
BEGIN:VEVENT
DTSTART;TZID=America/Denver:20280905T130000
DTEND;TZID=America/Denver:20280905T140000
DTSTAMP:20260419T124438
CREATED:20260403T073727Z
LAST-MODIFIED:20260403T073727Z
UID:10006474-1851771600-1851775200@glenwoodlibrary.com
SUMMARY:GCC Board Meeting
DESCRIPTION:
URL:https://glenwoodlibrary.com/event/gcc-board-meeting/2028-09-05/
LOCATION:Glenwood Community Center\, 21 Menges Lane\, Glenwood\, NM\, 88039\, United States
CATEGORIES:Club / Organization,Meeting
ATTACH;FMTTYPE=image/jpeg:https://glenwoodlibrary.com/wp-content/uploads/2025/07/gcc.jpg
ORGANIZER;CN="Cathy Murphy":MAILTO:dadandc@icloud.com
END:VEVENT
BEGIN:VEVENT
DTSTART;TZID=America/Denver:20281003T130000
DTEND;TZID=America/Denver:20281003T140000
DTSTAMP:20260419T124438
CREATED:20260403T073727Z
LAST-MODIFIED:20260403T073727Z
UID:10006475-1854190800-1854194400@glenwoodlibrary.com
SUMMARY:GCC Board Meeting
DESCRIPTION:
URL:https://glenwoodlibrary.com/event/gcc-board-meeting/2028-10-03/
LOCATION:Glenwood Community Center\, 21 Menges Lane\, Glenwood\, NM\, 88039\, United States
CATEGORIES:Club / Organization,Meeting
ATTACH;FMTTYPE=image/jpeg:https://glenwoodlibrary.com/wp-content/uploads/2025/07/gcc.jpg
ORGANIZER;CN="Cathy Murphy":MAILTO:dadandc@icloud.com
END:VEVENT
BEGIN:VEVENT
DTSTART;TZID=America/Denver:20281107T130000
DTEND;TZID=America/Denver:20281107T140000
DTSTAMP:20260419T124438
CREATED:20260403T073727Z
LAST-MODIFIED:20260403T073727Z
UID:10006476-1857214800-1857218400@glenwoodlibrary.com
SUMMARY:GCC Board Meeting
DESCRIPTION:
URL:https://glenwoodlibrary.com/event/gcc-board-meeting/2028-11-07/
LOCATION:Glenwood Community Center\, 21 Menges Lane\, Glenwood\, NM\, 88039\, United States
CATEGORIES:Club / Organization,Meeting
ATTACH;FMTTYPE=image/jpeg:https://glenwoodlibrary.com/wp-content/uploads/2025/07/gcc.jpg
ORGANIZER;CN="Cathy Murphy":MAILTO:dadandc@icloud.com
END:VEVENT
BEGIN:VEVENT
DTSTART;TZID=America/Denver:20281205T130000
DTEND;TZID=America/Denver:20281205T140000
DTSTAMP:20260419T124438
CREATED:20260403T073727Z
LAST-MODIFIED:20260403T073727Z
UID:10006477-1859634000-1859637600@glenwoodlibrary.com
SUMMARY:GCC Board Meeting
DESCRIPTION:
URL:https://glenwoodlibrary.com/event/gcc-board-meeting/2028-12-05/
LOCATION:Glenwood Community Center\, 21 Menges Lane\, Glenwood\, NM\, 88039\, United States
CATEGORIES:Club / Organization,Meeting
ATTACH;FMTTYPE=image/jpeg:https://glenwoodlibrary.com/wp-content/uploads/2025/07/gcc.jpg
ORGANIZER;CN="Cathy Murphy":MAILTO:dadandc@icloud.com
END:VEVENT
BEGIN:VEVENT
DTSTART;TZID=America/Denver:20290102T130000
DTEND;TZID=America/Denver:20290102T140000
DTSTAMP:20260419T124438
CREATED:20260403T073727Z
LAST-MODIFIED:20260403T073727Z
UID:10006478-1862053200-1862056800@glenwoodlibrary.com
SUMMARY:GCC Board Meeting
DESCRIPTION:
URL:https://glenwoodlibrary.com/event/gcc-board-meeting/2029-01-02/
LOCATION:Glenwood Community Center\, 21 Menges Lane\, Glenwood\, NM\, 88039\, United States
CATEGORIES:Club / Organization,Meeting
ATTACH;FMTTYPE=image/jpeg:https://glenwoodlibrary.com/wp-content/uploads/2025/07/gcc.jpg
ORGANIZER;CN="Cathy Murphy":MAILTO:dadandc@icloud.com
END:VEVENT
BEGIN:VEVENT
DTSTART;TZID=America/Denver:20290206T130000
DTEND;TZID=America/Denver:20290206T140000
DTSTAMP:20260419T124438
CREATED:20260403T073727Z
LAST-MODIFIED:20260403T073727Z
UID:10006479-1865077200-1865080800@glenwoodlibrary.com
SUMMARY:GCC Board Meeting
DESCRIPTION:
URL:https://glenwoodlibrary.com/event/gcc-board-meeting/2029-02-06/
LOCATION:Glenwood Community Center\, 21 Menges Lane\, Glenwood\, NM\, 88039\, United States
CATEGORIES:Club / Organization,Meeting
ATTACH;FMTTYPE=image/jpeg:https://glenwoodlibrary.com/wp-content/uploads/2025/07/gcc.jpg
ORGANIZER;CN="Cathy Murphy":MAILTO:dadandc@icloud.com
END:VEVENT
BEGIN:VEVENT
DTSTART;TZID=America/Denver:20290306T130000
DTEND;TZID=America/Denver:20290306T140000
DTSTAMP:20260419T124438
CREATED:20260403T073727Z
LAST-MODIFIED:20260403T073727Z
UID:10006480-1867496400-1867500000@glenwoodlibrary.com
SUMMARY:GCC Board Meeting
DESCRIPTION:
URL:https://glenwoodlibrary.com/event/gcc-board-meeting/2029-03-06/
LOCATION:Glenwood Community Center\, 21 Menges Lane\, Glenwood\, NM\, 88039\, United States
CATEGORIES:Club / Organization,Meeting
ATTACH;FMTTYPE=image/jpeg:https://glenwoodlibrary.com/wp-content/uploads/2025/07/gcc.jpg
ORGANIZER;CN="Cathy Murphy":MAILTO:dadandc@icloud.com
END:VEVENT
BEGIN:VEVENT
DTSTART;TZID=America/Denver:20290403T130000
DTEND;TZID=America/Denver:20290403T140000
DTSTAMP:20260419T124438
CREATED:20260403T073727Z
LAST-MODIFIED:20260403T073727Z
UID:10006481-1869915600-1869919200@glenwoodlibrary.com
SUMMARY:GCC Board Meeting
DESCRIPTION:
URL:https://glenwoodlibrary.com/event/gcc-board-meeting/2029-04-03/
LOCATION:Glenwood Community Center\, 21 Menges Lane\, Glenwood\, NM\, 88039\, United States
CATEGORIES:Club / Organization,Meeting
ATTACH;FMTTYPE=image/jpeg:https://glenwoodlibrary.com/wp-content/uploads/2025/07/gcc.jpg
ORGANIZER;CN="Cathy Murphy":MAILTO:dadandc@icloud.com
END:VEVENT
BEGIN:VEVENT
DTSTART;TZID=America/Denver:20290501T130000
DTEND;TZID=America/Denver:20290501T140000
DTSTAMP:20260419T124438
CREATED:20260403T073727Z
LAST-MODIFIED:20260403T073727Z
UID:10006482-1872334800-1872338400@glenwoodlibrary.com
SUMMARY:GCC Board Meeting
DESCRIPTION:
URL:https://glenwoodlibrary.com/event/gcc-board-meeting/2029-05-01/
LOCATION:Glenwood Community Center\, 21 Menges Lane\, Glenwood\, NM\, 88039\, United States
CATEGORIES:Club / Organization,Meeting
ATTACH;FMTTYPE=image/jpeg:https://glenwoodlibrary.com/wp-content/uploads/2025/07/gcc.jpg
ORGANIZER;CN="Cathy Murphy":MAILTO:dadandc@icloud.com
END:VEVENT
BEGIN:VEVENT
DTSTART;TZID=America/Denver:20290605T130000
DTEND;TZID=America/Denver:20290605T140000
DTSTAMP:20260419T124438
CREATED:20260403T073727Z
LAST-MODIFIED:20260403T073727Z
UID:10006483-1875358800-1875362400@glenwoodlibrary.com
SUMMARY:GCC Board Meeting
DESCRIPTION:
URL:https://glenwoodlibrary.com/event/gcc-board-meeting/2029-06-05/
LOCATION:Glenwood Community Center\, 21 Menges Lane\, Glenwood\, NM\, 88039\, United States
CATEGORIES:Club / Organization,Meeting
ATTACH;FMTTYPE=image/jpeg:https://glenwoodlibrary.com/wp-content/uploads/2025/07/gcc.jpg
ORGANIZER;CN="Cathy Murphy":MAILTO:dadandc@icloud.com
END:VEVENT
BEGIN:VEVENT
DTSTART;TZID=America/Denver:20290703T130000
DTEND;TZID=America/Denver:20290703T140000
DTSTAMP:20260419T124438
CREATED:20260403T073727Z
LAST-MODIFIED:20260403T073727Z
UID:10006484-1877778000-1877781600@glenwoodlibrary.com
SUMMARY:GCC Board Meeting
DESCRIPTION:
URL:https://glenwoodlibrary.com/event/gcc-board-meeting/2029-07-03/
LOCATION:Glenwood Community Center\, 21 Menges Lane\, Glenwood\, NM\, 88039\, United States
CATEGORIES:Club / Organization,Meeting
ATTACH;FMTTYPE=image/jpeg:https://glenwoodlibrary.com/wp-content/uploads/2025/07/gcc.jpg
ORGANIZER;CN="Cathy Murphy":MAILTO:dadandc@icloud.com
END:VEVENT
BEGIN:VEVENT
DTSTART;TZID=America/Denver:20290807T130000
DTEND;TZID=America/Denver:20290807T140000
DTSTAMP:20260419T124438
CREATED:20260403T073727Z
LAST-MODIFIED:20260403T073727Z
UID:10006485-1880802000-1880805600@glenwoodlibrary.com
SUMMARY:GCC Board Meeting
DESCRIPTION:
URL:https://glenwoodlibrary.com/event/gcc-board-meeting/2029-08-07/
LOCATION:Glenwood Community Center\, 21 Menges Lane\, Glenwood\, NM\, 88039\, United States
CATEGORIES:Club / Organization,Meeting
ATTACH;FMTTYPE=image/jpeg:https://glenwoodlibrary.com/wp-content/uploads/2025/07/gcc.jpg
ORGANIZER;CN="Cathy Murphy":MAILTO:dadandc@icloud.com
END:VEVENT
END:VCALENDAR