BEGIN:VCALENDAR
VERSION:2.0
PRODID:-// - ECPv6.15.20//NONSGML v1.0//EN
CALSCALE:GREGORIAN
METHOD:PUBLISH
X-ORIGINAL-URL:https://glenwoodlibrary.com
X-WR-CALDESC:Events for 
REFRESH-INTERVAL;VALUE=DURATION:PT1H
X-Robots-Tag:noindex
X-PUBLISHED-TTL:PT1H
BEGIN:VTIMEZONE
TZID:America/Denver
BEGIN:DAYLIGHT
TZOFFSETFROM:-0700
TZOFFSETTO:-0600
TZNAME:MDT
DTSTART:20230312T090000
END:DAYLIGHT
BEGIN:STANDARD
TZOFFSETFROM:-0600
TZOFFSETTO:-0700
TZNAME:MST
DTSTART:20231105T080000
END:STANDARD
BEGIN:DAYLIGHT
TZOFFSETFROM:-0700
TZOFFSETTO:-0600
TZNAME:MDT
DTSTART:20240310T090000
END:DAYLIGHT
BEGIN:STANDARD
TZOFFSETFROM:-0600
TZOFFSETTO:-0700
TZNAME:MST
DTSTART:20241103T080000
END:STANDARD
BEGIN:DAYLIGHT
TZOFFSETFROM:-0700
TZOFFSETTO:-0600
TZNAME:MDT
DTSTART:20250309T090000
END:DAYLIGHT
BEGIN:STANDARD
TZOFFSETFROM:-0600
TZOFFSETTO:-0700
TZNAME:MST
DTSTART:20251102T080000
END:STANDARD
END:VTIMEZONE
BEGIN:VEVENT
DTSTART;TZID=America/Denver:20241203T100000
DTEND;TZID=America/Denver:20241230T160000
DTSTAMP:20260421T181333
CREATED:20240820T190545Z
LAST-MODIFIED:20240820T190545Z
UID:10002557-1733220000-1735574400@glenwoodlibrary.com
SUMMARY:DAC - Christmas Market
DESCRIPTION:Check out the annual Holiday Gift Boutique at the Deming Art Center. Come\, browse\, shop and find wonderful\, unique gifts for family and friends this holiday season. Meet the artists on Sunday\, December 8\, from 1-3PM. Closed on Christmas.
URL:https://glenwoodlibrary.com/event/dac-christmas-market/
LOCATION:Deming Arts Center\, 100 South Gold Avenue\, Deming\, NM\, 88030
CATEGORIES:Art / Literature
ATTACH;FMTTYPE=image/jpeg:https://glenwoodlibrary.com/wp-content/uploads/2024/08/dac-dec2024.jpeg
ORGANIZER;CN="Deming Art Council":MAILTO:demingarts@hotmail.com
END:VEVENT
BEGIN:VEVENT
DTSTART;TZID=America/Denver:20241102T100000
DTEND;TZID=America/Denver:20241129T160000
DTSTAMP:20260421T181333
CREATED:20240820T190306Z
LAST-MODIFIED:20241105T060439Z
UID:10002556-1730541600-1732896000@glenwoodlibrary.com
SUMMARY:DAC - Recycle Art
DESCRIPTION:The Deming Art Center is excited to present the annual Recycle Show which is sponsored by Luna County and “Keep Luna County Beautiful.” Featured will be pieces of art made from at least 90% recycled materials and crafted by artists of all ages. Intake will be Wednesday\, November 1\, from 9AM – 12PM. Show will be judged\, and prizes awarded. Sunday\, November 3\, the public is invited to the official show opening and a time to meet the artists from 1-3PM.
URL:https://glenwoodlibrary.com/event/dac-recycle-art/
LOCATION:Deming Arts Center\, 100 South Gold Avenue\, Deming\, NM\, 88030
CATEGORIES:Art / Literature
ATTACH;FMTTYPE=image/jpeg:https://glenwoodlibrary.com/wp-content/uploads/2024/08/dac-artists-1103241.jpeg
ORGANIZER;CN="Deming Art Council":MAILTO:demingarts@hotmail.com
END:VEVENT
BEGIN:VEVENT
DTSTART;TZID=America/Denver:20241002T100000
DTEND;TZID=America/Denver:20241031T160000
DTSTAMP:20260421T181333
CREATED:20240820T190040Z
LAST-MODIFIED:20240820T190040Z
UID:10002555-1727863200-1730390400@glenwoodlibrary.com
SUMMARY:DAC - Membership Exhibit
DESCRIPTION:The Deming Art Center will feature the annual DAC Membership exhibit. Anyone who is a member is eligible to participate and there will be a diverse body of work on display. Intake will be on Tuesday\, October 1\, 2024 from 9AM-3PM. Meet the artists on Sunday\, October 6\, 2024 from 1PM – 3PM and all are welcome.
URL:https://glenwoodlibrary.com/event/dac-membership-exhibit/
LOCATION:Deming Arts Center\, 100 South Gold Avenue\, Deming\, NM\, 88030
CATEGORIES:Art / Literature
ATTACH;FMTTYPE=image/jpeg:https://glenwoodlibrary.com/wp-content/uploads/2024/08/dac-oct2024.jpg
ORGANIZER;CN="Deming Art Council":MAILTO:demingarts@hotmail.com
END:VEVENT
BEGIN:VEVENT
DTSTART;TZID=America/Denver:20240904T100000
DTEND;TZID=America/Denver:20240928T160000
DTSTAMP:20260421T181333
CREATED:20240820T185734Z
LAST-MODIFIED:20240820T185734Z
UID:10002554-1725444000-1727539200@glenwoodlibrary.com
SUMMARY:DAC - Our Feathered Friends
DESCRIPTION:An exhibit devoted entirely to “Our Feathered Friends\,” will be the subject of the September 2024 art display at the Deming Art Center. Stop by and step into a fantastical world of birds. Meet the artists on Sunday\, September 8\, 2024\, from 1PM- 2:30PM.
URL:https://glenwoodlibrary.com/event/dac-our-feathered-friends/
LOCATION:Deming Arts Center\, 100 South Gold Avenue\, Deming\, NM\, 88030
CATEGORIES:Art / Literature
ATTACH;FMTTYPE=image/jpeg:https://glenwoodlibrary.com/wp-content/uploads/2024/08/dac-sep2024.jpg
ORGANIZER;CN="Deming Art Council":MAILTO:demingarts@hotmail.com
END:VEVENT
BEGIN:VEVENT
DTSTART;TZID=America/Denver:20240802T100000
DTEND;TZID=America/Denver:20240830T160000
DTSTAMP:20260421T181333
CREATED:20240820T182940Z
LAST-MODIFIED:20240820T182940Z
UID:10002551-1722592800-1725033600@glenwoodlibrary.com
SUMMARY:DAC - Folk Art
DESCRIPTION:“Folk Art” is the subject of the August 2024 exhibit at the Deming Art Center. Folk Art has been described as art made from the heart and can be decorative as well as being created for practical purposes. Meet the artists on Sunday\, August 4\, 2024\, from 1PM- 2:30PM.
URL:https://glenwoodlibrary.com/event/dac-folk-art/
LOCATION:Deming Arts Center\, 100 South Gold Avenue\, Deming\, NM\, 88030
CATEGORIES:Art / Literature
ATTACH;FMTTYPE=image/jpeg:https://glenwoodlibrary.com/wp-content/uploads/2024/08/demingart-aug2024.jpg
ORGANIZER;CN="Deming Art Council":MAILTO:demingarts@hotmail.com
END:VEVENT
END:VCALENDAR