BEGIN:VCALENDAR
VERSION:2.0
PRODID:-// - ECPv6.15.20//NONSGML v1.0//EN
CALSCALE:GREGORIAN
METHOD:PUBLISH
X-ORIGINAL-URL:https://glenwoodlibrary.com
X-WR-CALDESC:Events for 
REFRESH-INTERVAL;VALUE=DURATION:PT1H
X-Robots-Tag:noindex
X-PUBLISHED-TTL:PT1H
BEGIN:VTIMEZONE
TZID:America/Denver
BEGIN:DAYLIGHT
TZOFFSETFROM:-0700
TZOFFSETTO:-0600
TZNAME:MDT
DTSTART:20250309T090000
END:DAYLIGHT
BEGIN:STANDARD
TZOFFSETFROM:-0600
TZOFFSETTO:-0700
TZNAME:MST
DTSTART:20251102T080000
END:STANDARD
BEGIN:DAYLIGHT
TZOFFSETFROM:-0700
TZOFFSETTO:-0600
TZNAME:MDT
DTSTART:20260308T090000
END:DAYLIGHT
BEGIN:STANDARD
TZOFFSETFROM:-0600
TZOFFSETTO:-0700
TZNAME:MST
DTSTART:20261101T080000
END:STANDARD
BEGIN:DAYLIGHT
TZOFFSETFROM:-0700
TZOFFSETTO:-0600
TZNAME:MDT
DTSTART:20270314T090000
END:DAYLIGHT
BEGIN:STANDARD
TZOFFSETFROM:-0600
TZOFFSETTO:-0700
TZNAME:MST
DTSTART:20271107T080000
END:STANDARD
BEGIN:DAYLIGHT
TZOFFSETFROM:-0700
TZOFFSETTO:-0600
TZNAME:MDT
DTSTART:20280312T090000
END:DAYLIGHT
BEGIN:STANDARD
TZOFFSETFROM:-0600
TZOFFSETTO:-0700
TZNAME:MST
DTSTART:20281105T080000
END:STANDARD
END:VTIMEZONE
BEGIN:VEVENT
DTSTART;TZID=America/Denver:20260706T130000
DTEND;TZID=America/Denver:20260706T140000
DTSTAMP:20260422T093351
CREATED:20260205T234731Z
LAST-MODIFIED:20260205T234731Z
UID:10005754-1783342800-1783346400@glenwoodlibrary.com
SUMMARY:Zero Resistance Exercise Class
DESCRIPTION:
URL:https://glenwoodlibrary.com/event/zero-resistance-exercise-class/2026-07-06/
LOCATION:Glenwood Community Center\, 21 Menges Lane\, Glenwood\, NM\, 88039\, United States
CATEGORIES:Class / Instruction,Health / Wellbeing
ATTACH;FMTTYPE=image/png:https://glenwoodlibrary.com/wp-content/uploads/2026/02/zero-resistance.png
ORGANIZER;CN="Glenwood Community Library":MAILTO:glenwoodlibrarynm@gmail.com
END:VEVENT
BEGIN:VEVENT
DTSTART;TZID=America/Denver:20260713T130000
DTEND;TZID=America/Denver:20260713T140000
DTSTAMP:20260422T093351
CREATED:20260205T234731Z
LAST-MODIFIED:20260205T234731Z
UID:10005755-1783947600-1783951200@glenwoodlibrary.com
SUMMARY:Zero Resistance Exercise Class
DESCRIPTION:
URL:https://glenwoodlibrary.com/event/zero-resistance-exercise-class/2026-07-13/
LOCATION:Glenwood Community Center\, 21 Menges Lane\, Glenwood\, NM\, 88039\, United States
CATEGORIES:Class / Instruction,Health / Wellbeing
ATTACH;FMTTYPE=image/png:https://glenwoodlibrary.com/wp-content/uploads/2026/02/zero-resistance.png
ORGANIZER;CN="Glenwood Community Library":MAILTO:glenwoodlibrarynm@gmail.com
END:VEVENT
BEGIN:VEVENT
DTSTART;TZID=America/Denver:20260720T130000
DTEND;TZID=America/Denver:20260720T140000
DTSTAMP:20260422T093351
CREATED:20260205T234731Z
LAST-MODIFIED:20260205T234731Z
UID:10005756-1784552400-1784556000@glenwoodlibrary.com
SUMMARY:Zero Resistance Exercise Class
DESCRIPTION:
URL:https://glenwoodlibrary.com/event/zero-resistance-exercise-class/2026-07-20/
LOCATION:Glenwood Community Center\, 21 Menges Lane\, Glenwood\, NM\, 88039\, United States
CATEGORIES:Class / Instruction,Health / Wellbeing
ATTACH;FMTTYPE=image/png:https://glenwoodlibrary.com/wp-content/uploads/2026/02/zero-resistance.png
ORGANIZER;CN="Glenwood Community Library":MAILTO:glenwoodlibrarynm@gmail.com
END:VEVENT
BEGIN:VEVENT
DTSTART;TZID=America/Denver:20260727T130000
DTEND;TZID=America/Denver:20260727T140000
DTSTAMP:20260422T093351
CREATED:20260205T234731Z
LAST-MODIFIED:20260205T234731Z
UID:10005757-1785157200-1785160800@glenwoodlibrary.com
SUMMARY:Zero Resistance Exercise Class
DESCRIPTION:
URL:https://glenwoodlibrary.com/event/zero-resistance-exercise-class/2026-07-27/
LOCATION:Glenwood Community Center\, 21 Menges Lane\, Glenwood\, NM\, 88039\, United States
CATEGORIES:Class / Instruction,Health / Wellbeing
ATTACH;FMTTYPE=image/png:https://glenwoodlibrary.com/wp-content/uploads/2026/02/zero-resistance.png
ORGANIZER;CN="Glenwood Community Library":MAILTO:glenwoodlibrarynm@gmail.com
END:VEVENT
BEGIN:VEVENT
DTSTART;TZID=America/Denver:20260803T130000
DTEND;TZID=America/Denver:20260803T140000
DTSTAMP:20260422T093351
CREATED:20260205T234731Z
LAST-MODIFIED:20260205T234731Z
UID:10005758-1785762000-1785765600@glenwoodlibrary.com
SUMMARY:Zero Resistance Exercise Class
DESCRIPTION:
URL:https://glenwoodlibrary.com/event/zero-resistance-exercise-class/2026-08-03/
LOCATION:Glenwood Community Center\, 21 Menges Lane\, Glenwood\, NM\, 88039\, United States
CATEGORIES:Class / Instruction,Health / Wellbeing
ATTACH;FMTTYPE=image/png:https://glenwoodlibrary.com/wp-content/uploads/2026/02/zero-resistance.png
ORGANIZER;CN="Glenwood Community Library":MAILTO:glenwoodlibrarynm@gmail.com
END:VEVENT
BEGIN:VEVENT
DTSTART;TZID=America/Denver:20260810T130000
DTEND;TZID=America/Denver:20260810T140000
DTSTAMP:20260422T093351
CREATED:20260205T234731Z
LAST-MODIFIED:20260205T234731Z
UID:10005759-1786366800-1786370400@glenwoodlibrary.com
SUMMARY:Zero Resistance Exercise Class
DESCRIPTION:
URL:https://glenwoodlibrary.com/event/zero-resistance-exercise-class/2026-08-10/
LOCATION:Glenwood Community Center\, 21 Menges Lane\, Glenwood\, NM\, 88039\, United States
CATEGORIES:Class / Instruction,Health / Wellbeing
ATTACH;FMTTYPE=image/png:https://glenwoodlibrary.com/wp-content/uploads/2026/02/zero-resistance.png
ORGANIZER;CN="Glenwood Community Library":MAILTO:glenwoodlibrarynm@gmail.com
END:VEVENT
BEGIN:VEVENT
DTSTART;TZID=America/Denver:20260817T130000
DTEND;TZID=America/Denver:20260817T140000
DTSTAMP:20260422T093351
CREATED:20260205T234731Z
LAST-MODIFIED:20260205T234731Z
UID:10005760-1786971600-1786975200@glenwoodlibrary.com
SUMMARY:Zero Resistance Exercise Class
DESCRIPTION:
URL:https://glenwoodlibrary.com/event/zero-resistance-exercise-class/2026-08-17/
LOCATION:Glenwood Community Center\, 21 Menges Lane\, Glenwood\, NM\, 88039\, United States
CATEGORIES:Class / Instruction,Health / Wellbeing
ATTACH;FMTTYPE=image/png:https://glenwoodlibrary.com/wp-content/uploads/2026/02/zero-resistance.png
ORGANIZER;CN="Glenwood Community Library":MAILTO:glenwoodlibrarynm@gmail.com
END:VEVENT
BEGIN:VEVENT
DTSTART;TZID=America/Denver:20260824T130000
DTEND;TZID=America/Denver:20260824T140000
DTSTAMP:20260422T093351
CREATED:20260205T234731Z
LAST-MODIFIED:20260205T234731Z
UID:10005761-1787576400-1787580000@glenwoodlibrary.com
SUMMARY:Zero Resistance Exercise Class
DESCRIPTION:
URL:https://glenwoodlibrary.com/event/zero-resistance-exercise-class/2026-08-24/
LOCATION:Glenwood Community Center\, 21 Menges Lane\, Glenwood\, NM\, 88039\, United States
CATEGORIES:Class / Instruction,Health / Wellbeing
ATTACH;FMTTYPE=image/png:https://glenwoodlibrary.com/wp-content/uploads/2026/02/zero-resistance.png
ORGANIZER;CN="Glenwood Community Library":MAILTO:glenwoodlibrarynm@gmail.com
END:VEVENT
BEGIN:VEVENT
DTSTART;TZID=America/Denver:20260831T130000
DTEND;TZID=America/Denver:20260831T140000
DTSTAMP:20260422T093351
CREATED:20260205T234731Z
LAST-MODIFIED:20260205T234731Z
UID:10005762-1788181200-1788184800@glenwoodlibrary.com
SUMMARY:Zero Resistance Exercise Class
DESCRIPTION:
URL:https://glenwoodlibrary.com/event/zero-resistance-exercise-class/2026-08-31/
LOCATION:Glenwood Community Center\, 21 Menges Lane\, Glenwood\, NM\, 88039\, United States
CATEGORIES:Class / Instruction,Health / Wellbeing
ATTACH;FMTTYPE=image/png:https://glenwoodlibrary.com/wp-content/uploads/2026/02/zero-resistance.png
ORGANIZER;CN="Glenwood Community Library":MAILTO:glenwoodlibrarynm@gmail.com
END:VEVENT
BEGIN:VEVENT
DTSTART;TZID=America/Denver:20260907T130000
DTEND;TZID=America/Denver:20260907T140000
DTSTAMP:20260422T093351
CREATED:20260205T234731Z
LAST-MODIFIED:20260205T234731Z
UID:10005763-1788786000-1788789600@glenwoodlibrary.com
SUMMARY:Zero Resistance Exercise Class
DESCRIPTION:
URL:https://glenwoodlibrary.com/event/zero-resistance-exercise-class/2026-09-07/
LOCATION:Glenwood Community Center\, 21 Menges Lane\, Glenwood\, NM\, 88039\, United States
CATEGORIES:Class / Instruction,Health / Wellbeing
ATTACH;FMTTYPE=image/png:https://glenwoodlibrary.com/wp-content/uploads/2026/02/zero-resistance.png
ORGANIZER;CN="Glenwood Community Library":MAILTO:glenwoodlibrarynm@gmail.com
END:VEVENT
BEGIN:VEVENT
DTSTART;TZID=America/Denver:20260914T130000
DTEND;TZID=America/Denver:20260914T140000
DTSTAMP:20260422T093351
CREATED:20260205T234731Z
LAST-MODIFIED:20260205T234731Z
UID:10005764-1789390800-1789394400@glenwoodlibrary.com
SUMMARY:Zero Resistance Exercise Class
DESCRIPTION:
URL:https://glenwoodlibrary.com/event/zero-resistance-exercise-class/2026-09-14/
LOCATION:Glenwood Community Center\, 21 Menges Lane\, Glenwood\, NM\, 88039\, United States
CATEGORIES:Class / Instruction,Health / Wellbeing
ATTACH;FMTTYPE=image/png:https://glenwoodlibrary.com/wp-content/uploads/2026/02/zero-resistance.png
ORGANIZER;CN="Glenwood Community Library":MAILTO:glenwoodlibrarynm@gmail.com
END:VEVENT
BEGIN:VEVENT
DTSTART;TZID=America/Denver:20260921T130000
DTEND;TZID=America/Denver:20260921T140000
DTSTAMP:20260422T093351
CREATED:20260205T234731Z
LAST-MODIFIED:20260205T234731Z
UID:10005765-1789995600-1789999200@glenwoodlibrary.com
SUMMARY:Zero Resistance Exercise Class
DESCRIPTION:
URL:https://glenwoodlibrary.com/event/zero-resistance-exercise-class/2026-09-21/
LOCATION:Glenwood Community Center\, 21 Menges Lane\, Glenwood\, NM\, 88039\, United States
CATEGORIES:Class / Instruction,Health / Wellbeing
ATTACH;FMTTYPE=image/png:https://glenwoodlibrary.com/wp-content/uploads/2026/02/zero-resistance.png
ORGANIZER;CN="Glenwood Community Library":MAILTO:glenwoodlibrarynm@gmail.com
END:VEVENT
BEGIN:VEVENT
DTSTART;TZID=America/Denver:20260928T130000
DTEND;TZID=America/Denver:20260928T140000
DTSTAMP:20260422T093351
CREATED:20260205T234731Z
LAST-MODIFIED:20260205T234731Z
UID:10005766-1790600400-1790604000@glenwoodlibrary.com
SUMMARY:Zero Resistance Exercise Class
DESCRIPTION:
URL:https://glenwoodlibrary.com/event/zero-resistance-exercise-class/2026-09-28/
LOCATION:Glenwood Community Center\, 21 Menges Lane\, Glenwood\, NM\, 88039\, United States
CATEGORIES:Class / Instruction,Health / Wellbeing
ATTACH;FMTTYPE=image/png:https://glenwoodlibrary.com/wp-content/uploads/2026/02/zero-resistance.png
ORGANIZER;CN="Glenwood Community Library":MAILTO:glenwoodlibrarynm@gmail.com
END:VEVENT
BEGIN:VEVENT
DTSTART;TZID=America/Denver:20261005T130000
DTEND;TZID=America/Denver:20261005T140000
DTSTAMP:20260422T093351
CREATED:20260205T234731Z
LAST-MODIFIED:20260205T234731Z
UID:10005767-1791205200-1791208800@glenwoodlibrary.com
SUMMARY:Zero Resistance Exercise Class
DESCRIPTION:
URL:https://glenwoodlibrary.com/event/zero-resistance-exercise-class/2026-10-05/
LOCATION:Glenwood Community Center\, 21 Menges Lane\, Glenwood\, NM\, 88039\, United States
CATEGORIES:Class / Instruction,Health / Wellbeing
ATTACH;FMTTYPE=image/png:https://glenwoodlibrary.com/wp-content/uploads/2026/02/zero-resistance.png
ORGANIZER;CN="Glenwood Community Library":MAILTO:glenwoodlibrarynm@gmail.com
END:VEVENT
BEGIN:VEVENT
DTSTART;TZID=America/Denver:20261012T130000
DTEND;TZID=America/Denver:20261012T140000
DTSTAMP:20260422T093351
CREATED:20260205T234731Z
LAST-MODIFIED:20260205T234731Z
UID:10005768-1791810000-1791813600@glenwoodlibrary.com
SUMMARY:Zero Resistance Exercise Class
DESCRIPTION:
URL:https://glenwoodlibrary.com/event/zero-resistance-exercise-class/2026-10-12/
LOCATION:Glenwood Community Center\, 21 Menges Lane\, Glenwood\, NM\, 88039\, United States
CATEGORIES:Class / Instruction,Health / Wellbeing
ATTACH;FMTTYPE=image/png:https://glenwoodlibrary.com/wp-content/uploads/2026/02/zero-resistance.png
ORGANIZER;CN="Glenwood Community Library":MAILTO:glenwoodlibrarynm@gmail.com
END:VEVENT
BEGIN:VEVENT
DTSTART;TZID=America/Denver:20261019T130000
DTEND;TZID=America/Denver:20261019T140000
DTSTAMP:20260422T093351
CREATED:20260205T234731Z
LAST-MODIFIED:20260205T234731Z
UID:10005769-1792414800-1792418400@glenwoodlibrary.com
SUMMARY:Zero Resistance Exercise Class
DESCRIPTION:
URL:https://glenwoodlibrary.com/event/zero-resistance-exercise-class/2026-10-19/
LOCATION:Glenwood Community Center\, 21 Menges Lane\, Glenwood\, NM\, 88039\, United States
CATEGORIES:Class / Instruction,Health / Wellbeing
ATTACH;FMTTYPE=image/png:https://glenwoodlibrary.com/wp-content/uploads/2026/02/zero-resistance.png
ORGANIZER;CN="Glenwood Community Library":MAILTO:glenwoodlibrarynm@gmail.com
END:VEVENT
BEGIN:VEVENT
DTSTART;TZID=America/Denver:20261026T130000
DTEND;TZID=America/Denver:20261026T140000
DTSTAMP:20260422T093351
CREATED:20260205T234731Z
LAST-MODIFIED:20260205T234731Z
UID:10005770-1793019600-1793023200@glenwoodlibrary.com
SUMMARY:Zero Resistance Exercise Class
DESCRIPTION:
URL:https://glenwoodlibrary.com/event/zero-resistance-exercise-class/2026-10-26/
LOCATION:Glenwood Community Center\, 21 Menges Lane\, Glenwood\, NM\, 88039\, United States
CATEGORIES:Class / Instruction,Health / Wellbeing
ATTACH;FMTTYPE=image/png:https://glenwoodlibrary.com/wp-content/uploads/2026/02/zero-resistance.png
ORGANIZER;CN="Glenwood Community Library":MAILTO:glenwoodlibrarynm@gmail.com
END:VEVENT
BEGIN:VEVENT
DTSTART;TZID=America/Denver:20261102T130000
DTEND;TZID=America/Denver:20261102T140000
DTSTAMP:20260422T093351
CREATED:20260205T234731Z
LAST-MODIFIED:20260205T234731Z
UID:10005771-1793624400-1793628000@glenwoodlibrary.com
SUMMARY:Zero Resistance Exercise Class
DESCRIPTION:
URL:https://glenwoodlibrary.com/event/zero-resistance-exercise-class/2026-11-02/
LOCATION:Glenwood Community Center\, 21 Menges Lane\, Glenwood\, NM\, 88039\, United States
CATEGORIES:Class / Instruction,Health / Wellbeing
ATTACH;FMTTYPE=image/png:https://glenwoodlibrary.com/wp-content/uploads/2026/02/zero-resistance.png
ORGANIZER;CN="Glenwood Community Library":MAILTO:glenwoodlibrarynm@gmail.com
END:VEVENT
BEGIN:VEVENT
DTSTART;TZID=America/Denver:20261109T130000
DTEND;TZID=America/Denver:20261109T140000
DTSTAMP:20260422T093351
CREATED:20260205T234731Z
LAST-MODIFIED:20260205T234731Z
UID:10005772-1794229200-1794232800@glenwoodlibrary.com
SUMMARY:Zero Resistance Exercise Class
DESCRIPTION:
URL:https://glenwoodlibrary.com/event/zero-resistance-exercise-class/2026-11-09/
LOCATION:Glenwood Community Center\, 21 Menges Lane\, Glenwood\, NM\, 88039\, United States
CATEGORIES:Class / Instruction,Health / Wellbeing
ATTACH;FMTTYPE=image/png:https://glenwoodlibrary.com/wp-content/uploads/2026/02/zero-resistance.png
ORGANIZER;CN="Glenwood Community Library":MAILTO:glenwoodlibrarynm@gmail.com
END:VEVENT
BEGIN:VEVENT
DTSTART;TZID=America/Denver:20261116T130000
DTEND;TZID=America/Denver:20261116T140000
DTSTAMP:20260422T093351
CREATED:20260205T234731Z
LAST-MODIFIED:20260205T234731Z
UID:10005773-1794834000-1794837600@glenwoodlibrary.com
SUMMARY:Zero Resistance Exercise Class
DESCRIPTION:
URL:https://glenwoodlibrary.com/event/zero-resistance-exercise-class/2026-11-16/
LOCATION:Glenwood Community Center\, 21 Menges Lane\, Glenwood\, NM\, 88039\, United States
CATEGORIES:Class / Instruction,Health / Wellbeing
ATTACH;FMTTYPE=image/png:https://glenwoodlibrary.com/wp-content/uploads/2026/02/zero-resistance.png
ORGANIZER;CN="Glenwood Community Library":MAILTO:glenwoodlibrarynm@gmail.com
END:VEVENT
BEGIN:VEVENT
DTSTART;TZID=America/Denver:20261123T130000
DTEND;TZID=America/Denver:20261123T140000
DTSTAMP:20260422T093351
CREATED:20260205T234731Z
LAST-MODIFIED:20260205T234731Z
UID:10005774-1795438800-1795442400@glenwoodlibrary.com
SUMMARY:Zero Resistance Exercise Class
DESCRIPTION:
URL:https://glenwoodlibrary.com/event/zero-resistance-exercise-class/2026-11-23/
LOCATION:Glenwood Community Center\, 21 Menges Lane\, Glenwood\, NM\, 88039\, United States
CATEGORIES:Class / Instruction,Health / Wellbeing
ATTACH;FMTTYPE=image/png:https://glenwoodlibrary.com/wp-content/uploads/2026/02/zero-resistance.png
ORGANIZER;CN="Glenwood Community Library":MAILTO:glenwoodlibrarynm@gmail.com
END:VEVENT
BEGIN:VEVENT
DTSTART;TZID=America/Denver:20261130T130000
DTEND;TZID=America/Denver:20261130T140000
DTSTAMP:20260422T093351
CREATED:20260205T234731Z
LAST-MODIFIED:20260205T234731Z
UID:10005775-1796043600-1796047200@glenwoodlibrary.com
SUMMARY:Zero Resistance Exercise Class
DESCRIPTION:
URL:https://glenwoodlibrary.com/event/zero-resistance-exercise-class/2026-11-30/
LOCATION:Glenwood Community Center\, 21 Menges Lane\, Glenwood\, NM\, 88039\, United States
CATEGORIES:Class / Instruction,Health / Wellbeing
ATTACH;FMTTYPE=image/png:https://glenwoodlibrary.com/wp-content/uploads/2026/02/zero-resistance.png
ORGANIZER;CN="Glenwood Community Library":MAILTO:glenwoodlibrarynm@gmail.com
END:VEVENT
BEGIN:VEVENT
DTSTART;TZID=America/Denver:20261207T130000
DTEND;TZID=America/Denver:20261207T140000
DTSTAMP:20260422T093351
CREATED:20260205T234731Z
LAST-MODIFIED:20260205T234731Z
UID:10005776-1796648400-1796652000@glenwoodlibrary.com
SUMMARY:Zero Resistance Exercise Class
DESCRIPTION:
URL:https://glenwoodlibrary.com/event/zero-resistance-exercise-class/2026-12-07/
LOCATION:Glenwood Community Center\, 21 Menges Lane\, Glenwood\, NM\, 88039\, United States
CATEGORIES:Class / Instruction,Health / Wellbeing
ATTACH;FMTTYPE=image/png:https://glenwoodlibrary.com/wp-content/uploads/2026/02/zero-resistance.png
ORGANIZER;CN="Glenwood Community Library":MAILTO:glenwoodlibrarynm@gmail.com
END:VEVENT
BEGIN:VEVENT
DTSTART;TZID=America/Denver:20261214T130000
DTEND;TZID=America/Denver:20261214T140000
DTSTAMP:20260422T093351
CREATED:20260205T234731Z
LAST-MODIFIED:20260205T234731Z
UID:10005777-1797253200-1797256800@glenwoodlibrary.com
SUMMARY:Zero Resistance Exercise Class
DESCRIPTION:
URL:https://glenwoodlibrary.com/event/zero-resistance-exercise-class/2026-12-14/
LOCATION:Glenwood Community Center\, 21 Menges Lane\, Glenwood\, NM\, 88039\, United States
CATEGORIES:Class / Instruction,Health / Wellbeing
ATTACH;FMTTYPE=image/png:https://glenwoodlibrary.com/wp-content/uploads/2026/02/zero-resistance.png
ORGANIZER;CN="Glenwood Community Library":MAILTO:glenwoodlibrarynm@gmail.com
END:VEVENT
BEGIN:VEVENT
DTSTART;TZID=America/Denver:20261221T130000
DTEND;TZID=America/Denver:20261221T140000
DTSTAMP:20260422T093351
CREATED:20260205T234731Z
LAST-MODIFIED:20260205T234731Z
UID:10005778-1797858000-1797861600@glenwoodlibrary.com
SUMMARY:Zero Resistance Exercise Class
DESCRIPTION:
URL:https://glenwoodlibrary.com/event/zero-resistance-exercise-class/2026-12-21/
LOCATION:Glenwood Community Center\, 21 Menges Lane\, Glenwood\, NM\, 88039\, United States
CATEGORIES:Class / Instruction,Health / Wellbeing
ATTACH;FMTTYPE=image/png:https://glenwoodlibrary.com/wp-content/uploads/2026/02/zero-resistance.png
ORGANIZER;CN="Glenwood Community Library":MAILTO:glenwoodlibrarynm@gmail.com
END:VEVENT
BEGIN:VEVENT
DTSTART;TZID=America/Denver:20261228T130000
DTEND;TZID=America/Denver:20261228T140000
DTSTAMP:20260422T093351
CREATED:20260205T234731Z
LAST-MODIFIED:20260205T234731Z
UID:10005779-1798462800-1798466400@glenwoodlibrary.com
SUMMARY:Zero Resistance Exercise Class
DESCRIPTION:
URL:https://glenwoodlibrary.com/event/zero-resistance-exercise-class/2026-12-28/
LOCATION:Glenwood Community Center\, 21 Menges Lane\, Glenwood\, NM\, 88039\, United States
CATEGORIES:Class / Instruction,Health / Wellbeing
ATTACH;FMTTYPE=image/png:https://glenwoodlibrary.com/wp-content/uploads/2026/02/zero-resistance.png
ORGANIZER;CN="Glenwood Community Library":MAILTO:glenwoodlibrarynm@gmail.com
END:VEVENT
BEGIN:VEVENT
DTSTART;TZID=America/Denver:20270104T130000
DTEND;TZID=America/Denver:20270104T140000
DTSTAMP:20260422T093351
CREATED:20260205T234731Z
LAST-MODIFIED:20260205T234731Z
UID:10005780-1799067600-1799071200@glenwoodlibrary.com
SUMMARY:Zero Resistance Exercise Class
DESCRIPTION:
URL:https://glenwoodlibrary.com/event/zero-resistance-exercise-class/2027-01-04/
LOCATION:Glenwood Community Center\, 21 Menges Lane\, Glenwood\, NM\, 88039\, United States
CATEGORIES:Class / Instruction,Health / Wellbeing
ATTACH;FMTTYPE=image/png:https://glenwoodlibrary.com/wp-content/uploads/2026/02/zero-resistance.png
ORGANIZER;CN="Glenwood Community Library":MAILTO:glenwoodlibrarynm@gmail.com
END:VEVENT
BEGIN:VEVENT
DTSTART;TZID=America/Denver:20270111T130000
DTEND;TZID=America/Denver:20270111T140000
DTSTAMP:20260422T093351
CREATED:20260205T234731Z
LAST-MODIFIED:20260205T234731Z
UID:10005781-1799672400-1799676000@glenwoodlibrary.com
SUMMARY:Zero Resistance Exercise Class
DESCRIPTION:
URL:https://glenwoodlibrary.com/event/zero-resistance-exercise-class/2027-01-11/
LOCATION:Glenwood Community Center\, 21 Menges Lane\, Glenwood\, NM\, 88039\, United States
CATEGORIES:Class / Instruction,Health / Wellbeing
ATTACH;FMTTYPE=image/png:https://glenwoodlibrary.com/wp-content/uploads/2026/02/zero-resistance.png
ORGANIZER;CN="Glenwood Community Library":MAILTO:glenwoodlibrarynm@gmail.com
END:VEVENT
BEGIN:VEVENT
DTSTART;TZID=America/Denver:20270118T130000
DTEND;TZID=America/Denver:20270118T140000
DTSTAMP:20260422T093351
CREATED:20260205T234731Z
LAST-MODIFIED:20260205T234731Z
UID:10005782-1800277200-1800280800@glenwoodlibrary.com
SUMMARY:Zero Resistance Exercise Class
DESCRIPTION:
URL:https://glenwoodlibrary.com/event/zero-resistance-exercise-class/2027-01-18/
LOCATION:Glenwood Community Center\, 21 Menges Lane\, Glenwood\, NM\, 88039\, United States
CATEGORIES:Class / Instruction,Health / Wellbeing
ATTACH;FMTTYPE=image/png:https://glenwoodlibrary.com/wp-content/uploads/2026/02/zero-resistance.png
ORGANIZER;CN="Glenwood Community Library":MAILTO:glenwoodlibrarynm@gmail.com
END:VEVENT
BEGIN:VEVENT
DTSTART;TZID=America/Denver:20270125T130000
DTEND;TZID=America/Denver:20270125T140000
DTSTAMP:20260422T093351
CREATED:20260205T234731Z
LAST-MODIFIED:20260205T234731Z
UID:10005783-1800882000-1800885600@glenwoodlibrary.com
SUMMARY:Zero Resistance Exercise Class
DESCRIPTION:
URL:https://glenwoodlibrary.com/event/zero-resistance-exercise-class/2027-01-25/
LOCATION:Glenwood Community Center\, 21 Menges Lane\, Glenwood\, NM\, 88039\, United States
CATEGORIES:Class / Instruction,Health / Wellbeing
ATTACH;FMTTYPE=image/png:https://glenwoodlibrary.com/wp-content/uploads/2026/02/zero-resistance.png
ORGANIZER;CN="Glenwood Community Library":MAILTO:glenwoodlibrarynm@gmail.com
END:VEVENT
END:VCALENDAR