BEGIN:VCALENDAR
VERSION:2.0
PRODID:-// - ECPv6.15.20//NONSGML v1.0//EN
CALSCALE:GREGORIAN
METHOD:PUBLISH
X-ORIGINAL-URL:https://glenwoodlibrary.com
X-WR-CALDESC:Events for 
REFRESH-INTERVAL;VALUE=DURATION:PT1H
X-Robots-Tag:noindex
X-PUBLISHED-TTL:PT1H
BEGIN:VTIMEZONE
TZID:America/Denver
BEGIN:DAYLIGHT
TZOFFSETFROM:-0700
TZOFFSETTO:-0600
TZNAME:MDT
DTSTART:20230312T090000
END:DAYLIGHT
BEGIN:STANDARD
TZOFFSETFROM:-0600
TZOFFSETTO:-0700
TZNAME:MST
DTSTART:20231105T080000
END:STANDARD
BEGIN:DAYLIGHT
TZOFFSETFROM:-0700
TZOFFSETTO:-0600
TZNAME:MDT
DTSTART:20240310T090000
END:DAYLIGHT
BEGIN:STANDARD
TZOFFSETFROM:-0600
TZOFFSETTO:-0700
TZNAME:MST
DTSTART:20241103T080000
END:STANDARD
BEGIN:DAYLIGHT
TZOFFSETFROM:-0700
TZOFFSETTO:-0600
TZNAME:MDT
DTSTART:20250309T090000
END:DAYLIGHT
BEGIN:STANDARD
TZOFFSETFROM:-0600
TZOFFSETTO:-0700
TZNAME:MST
DTSTART:20251102T080000
END:STANDARD
BEGIN:DAYLIGHT
TZOFFSETFROM:-0700
TZOFFSETTO:-0600
TZNAME:MDT
DTSTART:20260308T090000
END:DAYLIGHT
BEGIN:STANDARD
TZOFFSETFROM:-0600
TZOFFSETTO:-0700
TZNAME:MST
DTSTART:20261101T080000
END:STANDARD
BEGIN:DAYLIGHT
TZOFFSETFROM:-0700
TZOFFSETTO:-0600
TZNAME:MDT
DTSTART:20270314T090000
END:DAYLIGHT
BEGIN:STANDARD
TZOFFSETFROM:-0600
TZOFFSETTO:-0700
TZNAME:MST
DTSTART:20271107T080000
END:STANDARD
END:VTIMEZONE
BEGIN:VEVENT
DTSTART;TZID=America/Denver:20260411T090000
DTEND;TZID=America/Denver:20260411T120000
DTSTAMP:20260422T154722
CREATED:20260221T234649Z
LAST-MODIFIED:20260222T000635Z
UID:10006003-1775898000-1775908800@glenwoodlibrary.com
SUMMARY:Pancake Breakfast
DESCRIPTION:
URL:https://glenwoodlibrary.com/event/pancake-breakfast/
LOCATION:Glenwood Community Center\, 21 Menges Lane\, Glenwood\, NM\, 88039\, United States
CATEGORIES:Food / Craft Fair
ATTACH;FMTTYPE=image/jpeg:https://glenwoodlibrary.com/wp-content/uploads/2026/02/breakfast-poster-2026.jpg
ORGANIZER;CN="Glenwood Woman's Club":MAILTO:glenwoodwomansclub@gmail.com
END:VEVENT
BEGIN:VEVENT
DTSTART;TZID=America/Denver:20260408T180000
DTEND;TZID=America/Denver:20260408T190000
DTSTAMP:20260422T154722
CREATED:20260403T073441Z
LAST-MODIFIED:20260403T073441Z
UID:10006385-1775671200-1775674800@glenwoodlibrary.com
SUMMARY:Glenwood Woman's Club
DESCRIPTION:
URL:https://glenwoodlibrary.com/event/glenwood-womans-club/2026-04-08/
LOCATION:Glenwood Community Center\, 21 Menges Lane\, Glenwood\, NM\, 88039\, United States
CATEGORIES:Club / Organization,Meeting
ATTACH;FMTTYPE=image/jpeg:https://glenwoodlibrary.com/wp-content/uploads/2026/04/gwc-calendar.jpg
ORGANIZER;CN="Glenwood Woman's Club":MAILTO:glenwoodwomansclub@gmail.com
END:VEVENT
BEGIN:VEVENT
DTSTART;TZID=America/Denver:20260228T180000
DTEND;TZID=America/Denver:20260228T210000
DTSTAMP:20260422T154722
CREATED:20260221T230745Z
LAST-MODIFIED:20260221T230745Z
UID:10006002-1772301600-1772312400@glenwoodlibrary.com
SUMMARY:Paint & Sip
DESCRIPTION:
URL:https://glenwoodlibrary.com/event/paint-sip/
LOCATION:Glenwood Community Center\, 21 Menges Lane\, Glenwood\, NM\, 88039\, United States
CATEGORIES:Art / Literature,Class / Instruction
ATTACH;FMTTYPE=image/jpeg:https://glenwoodlibrary.com/wp-content/uploads/2026/02/paint-sip-poster-022826.jpg
ORGANIZER;CN="Glenwood Woman's Club":MAILTO:glenwoodwomansclub@gmail.com
END:VEVENT
BEGIN:VEVENT
DTSTART;TZID=America/Denver:20260131T180000
DTEND;TZID=America/Denver:20260131T210000
DTSTAMP:20260422T154722
CREATED:20260108T163005Z
LAST-MODIFIED:20260108T163005Z
UID:10005705-1769882400-1769893200@glenwoodlibrary.com
SUMMARY:GWC Bingo Night
DESCRIPTION:
URL:https://glenwoodlibrary.com/event/gwc-bingo-night/
LOCATION:Glenwood Community Center\, 21 Menges Lane\, Glenwood\, NM\, 88039\, United States
CATEGORIES:Bingo,Entertainment,Fundraiser
ATTACH;FMTTYPE=image/jpeg:https://glenwoodlibrary.com/wp-content/uploads/2026/01/gwc-bingo-poster-013126-scaled.jpg
ORGANIZER;CN="Glenwood Woman's Club":MAILTO:glenwoodwomansclub@gmail.com
END:VEVENT
BEGIN:VEVENT
DTSTART;TZID=America/Denver:20251213T180000
DTEND;TZID=America/Denver:20251213T200000
DTSTAMP:20260422T154722
CREATED:20251204T183535Z
LAST-MODIFIED:20251204T183746Z
UID:10005699-1765648800-1765656000@glenwoodlibrary.com
SUMMARY:2nd Annual Cookie Walk
DESCRIPTION:More cookies this year and two box sizes to choose from.  Cider station and visiting included.  See you there!
URL:https://glenwoodlibrary.com/event/2nd-annual-cookie-walk/
LOCATION:Glenwood Community Center\, 21 Menges Lane\, Glenwood\, NM\, 88039\, United States
CATEGORIES:Food / Craft Fair,Fundraiser,Holiday Event
ATTACH;FMTTYPE=image/jpeg:https://glenwoodlibrary.com/wp-content/uploads/2025/12/cookie-walk-poster-2025.jpg
ORGANIZER;CN="Glenwood Woman's Club":MAILTO:glenwoodwomansclub@gmail.com
END:VEVENT
BEGIN:VEVENT
DTSTART;TZID=America/Denver:20251108T170000
DTEND;TZID=America/Denver:20251108T190000
DTSTAMP:20260422T154722
CREATED:20251103T092703Z
LAST-MODIFIED:20251103T092716Z
UID:10005498-1762621200-1762628400@glenwoodlibrary.com
SUMMARY:Glenwood Turkey Dinner
DESCRIPTION:Adults $15\nKids under 12 eat free\nVeterans eat free
URL:https://glenwoodlibrary.com/event/glenwood-turkey-dinner/
LOCATION:Gila Valley Community Center\, 411 Hwy 211\, Gila\, NM\, 88038
CATEGORIES:Holiday Event,Veteran
ATTACH;FMTTYPE=image/jpeg:https://glenwoodlibrary.com/wp-content/uploads/2025/11/turkey-dinner-110825.jpg
ORGANIZER;CN="Glenwood Woman's Club":MAILTO:glenwoodwomansclub@gmail.com
END:VEVENT
BEGIN:VEVENT
DTSTART;TZID=America/Denver:20251024T180000
DTEND;TZID=America/Denver:20251024T200000
DTSTAMP:20260422T154722
CREATED:20251007T164415Z
LAST-MODIFIED:20251007T164448Z
UID:10005490-1761328800-1761336000@glenwoodlibrary.com
SUMMARY:Chili Supper
DESCRIPTION:
URL:https://glenwoodlibrary.com/event/chili-supper/
LOCATION:Glenwood Community Center\, 21 Menges Lane\, Glenwood\, NM\, 88039\, United States
CATEGORIES:Community Service,Fundraiser
ATTACH;FMTTYPE=image/jpeg:https://glenwoodlibrary.com/wp-content/uploads/2025/10/chili-supper-poster-102425-scaled.jpg
ORGANIZER;CN="Glenwood Woman's Club":MAILTO:glenwoodwomansclub@gmail.com
END:VEVENT
BEGIN:VEVENT
DTSTART;TZID=America/Denver:20251004T180000
DTEND;TZID=America/Denver:20251004T210000
DTSTAMP:20260422T154722
CREATED:20251007T163831Z
LAST-MODIFIED:20251007T163831Z
UID:10005489-1759600800-1759611600@glenwoodlibrary.com
SUMMARY:Glenwood Paint & Sip
DESCRIPTION:
URL:https://glenwoodlibrary.com/event/glenwood-paint-sip/
LOCATION:Glenwood Community Center\, 21 Menges Lane\, Glenwood\, NM\, 88039\, United States
CATEGORIES:Art / Literature
ATTACH;FMTTYPE=image/jpeg:https://glenwoodlibrary.com/wp-content/uploads/2025/10/paint-sip-poster-100425.jpg
ORGANIZER;CN="Glenwood Woman's Club":MAILTO:glenwoodwomansclub@gmail.com
END:VEVENT
BEGIN:VEVENT
DTSTART;TZID=America/Denver:20250910T180000
DTEND;TZID=America/Denver:20250910T200000
DTSTAMP:20260422T154722
CREATED:20260403T210657Z
LAST-MODIFIED:20260403T210657Z
UID:10007784-1757527200-1757534400@glenwoodlibrary.com
SUMMARY:GWC Open House / Reunion
DESCRIPTION:
URL:https://glenwoodlibrary.com/event/gwc-open-house-reunion/
LOCATION:Glenwood Community Center\, 21 Menges Lane\, Glenwood\, NM\, 88039\, United States
CATEGORIES:Celebration,Club / Organization,Meeting
ATTACH;FMTTYPE=image/jpeg:https://glenwoodlibrary.com/wp-content/uploads/2026/04/gwc-091025.jpeg
ORGANIZER;CN="Glenwood Woman's Club":MAILTO:glenwoodwomansclub@gmail.com
END:VEVENT
BEGIN:VEVENT
DTSTART;VALUE=DATE:20250523
DTEND;VALUE=DATE:20250525
DTSTAMP:20260422T154722
CREATED:20250517T045054Z
LAST-MODIFIED:20250517T045054Z
UID:10004662-1747958400-1748131199@glenwoodlibrary.com
SUMMARY:Glenwood Long\, Long Yard Sale
DESCRIPTION:Town-wide yard sale\nFri & Sat 8am-2pm\nHwy 180\, Glenwood NM
URL:https://glenwoodlibrary.com/event/glenwood-long-long-yard-sale/
CATEGORIES:Street / Farmer's Market,Yard Sale / Flea Market
ATTACH;FMTTYPE=image/jpeg:https://glenwoodlibrary.com/wp-content/uploads/2025/05/long-long-yard-sale-poster.jpg
ORGANIZER;CN="Glenwood Woman's Club":MAILTO:glenwoodwomansclub@gmail.com
END:VEVENT
BEGIN:VEVENT
DTSTART;TZID=America/Denver:20250510T183000
DTEND;TZID=America/Denver:20250510T230000
DTSTAMP:20260422T154722
CREATED:20250420T032616Z
LAST-MODIFIED:20250420T032616Z
UID:10004658-1746901800-1746918000@glenwoodlibrary.com
SUMMARY:Mexican Fiesta
DESCRIPTION:
URL:https://glenwoodlibrary.com/event/mexican-fiesta/
LOCATION:Glenwood Community Center\, 21 Menges Lane\, Glenwood\, NM\, 88039\, United States
CATEGORIES:Celebration,Entertainment,Music / Dance
ATTACH;FMTTYPE=image/jpeg:https://glenwoodlibrary.com/wp-content/uploads/2025/04/diez-de-mayo-poster-2025.jpg
ORGANIZER;CN="Glenwood Woman's Club":MAILTO:glenwoodwomansclub@gmail.com
END:VEVENT
BEGIN:VEVENT
DTSTART;TZID=America/Denver:20250510T170000
DTEND;TZID=America/Denver:20250510T220000
DTSTAMP:20260422T154722
CREATED:20250214T084955Z
LAST-MODIFIED:20250214T084955Z
UID:10004492-1746896400-1746914400@glenwoodlibrary.com
SUMMARY:GWC Diez de Mayo Fiesta
DESCRIPTION:More info to come but think Cinco de Mayo on the 10th!
URL:https://glenwoodlibrary.com/event/gwc-diez-de-mayo-fiesta/
LOCATION:Glenwood Community Center\, 21 Menges Lane\, Glenwood\, NM\, 88039\, United States
CATEGORIES:Fair / Festival,Music / Dance
ORGANIZER;CN="Glenwood Woman's Club":MAILTO:glenwoodwomansclub@gmail.com
END:VEVENT
BEGIN:VEVENT
DTSTART;TZID=America/Denver:20250412T090000
DTEND;TZID=America/Denver:20250412T120000
DTSTAMP:20260422T154722
CREATED:20250214T084326Z
LAST-MODIFIED:20250214T084326Z
UID:10004491-1744448400-1744459200@glenwoodlibrary.com
SUMMARY:GWC Pancake Breakfast
DESCRIPTION:In conjunction with Dutch Oven Gathering at Glenwood Park 10am-3pm &\nSpring Book Sale at the Library Annex 10am-3pm
URL:https://glenwoodlibrary.com/event/gwc-pancake-breakfast/
LOCATION:Glenwood Community Center\, 21 Menges Lane\, Glenwood\, NM\, 88039\, United States
CATEGORIES:Community Service,Food / Craft Fair
ATTACH;FMTTYPE=image/jpeg:https://glenwoodlibrary.com/wp-content/uploads/2025/02/breakfast-poster-2025.jpg
ORGANIZER;CN="Glenwood Woman's Club":MAILTO:glenwoodwomansclub@gmail.com
END:VEVENT
BEGIN:VEVENT
DTSTART;TZID=America/Denver:20250322T180000
DTEND;TZID=America/Denver:20250322T200000
DTSTAMP:20260422T154722
CREATED:20250214T083909Z
LAST-MODIFIED:20250214T083909Z
UID:10004490-1742666400-1742673600@glenwoodlibrary.com
SUMMARY:GWC Chautauqua
DESCRIPTION:Van Ann Moore returns as Jessie Benton Fremont
URL:https://glenwoodlibrary.com/event/gwc-chautauqua/
LOCATION:Glenwood Community Center\, 21 Menges Lane\, Glenwood\, NM\, 88039\, United States
CATEGORIES:Author / Artist Event,Education,Entertainment,Other,Speaker Event
ATTACH;FMTTYPE=image/jpeg:https://glenwoodlibrary.com/wp-content/uploads/2025/02/chautauqua-mar2025.jpg
ORGANIZER;CN="Glenwood Woman's Club":MAILTO:glenwoodwomansclub@gmail.com
END:VEVENT
BEGIN:VEVENT
DTSTART;TZID=America/Denver:20250301T180000
DTEND;TZID=America/Denver:20250301T210000
DTSTAMP:20260422T154722
CREATED:20250214T083517Z
LAST-MODIFIED:20250214T083540Z
UID:10004489-1740852000-1740862800@glenwoodlibrary.com
SUMMARY:GWC Paint & Sip
DESCRIPTION:Cost covers a full painting package (see poster for details)\nGWC will provide mocktails and a few snacks but bring a snack to share! \nPlease RSVP to glenwoodwomansclub@gmail.com
URL:https://glenwoodlibrary.com/event/gwc-paint-sip/
LOCATION:Glenwood Community Center\, 21 Menges Lane\, Glenwood\, NM\, 88039\, United States
CATEGORIES:Art / Literature,Other
ATTACH;FMTTYPE=image/jpeg:https://glenwoodlibrary.com/wp-content/uploads/2025/02/paint-sip-poster-030125.jpg
ORGANIZER;CN="Glenwood Woman's Club":MAILTO:glenwoodwomansclub@gmail.com
END:VEVENT
BEGIN:VEVENT
DTSTART;TZID=America/Denver:20250125T180000
DTEND;TZID=America/Denver:20250125T210000
DTSTAMP:20260422T154722
CREATED:20250106T200554Z
LAST-MODIFIED:20250106T200554Z
UID:10004378-1737828000-1737838800@glenwoodlibrary.com
SUMMARY:GWC Bingo
DESCRIPTION:
URL:https://glenwoodlibrary.com/event/gwc-bingo/
LOCATION:Glenwood Community Center\, 21 Menges Lane\, Glenwood\, NM\, 88039\, United States
CATEGORIES:Bingo
ATTACH;FMTTYPE=image/jpeg:https://glenwoodlibrary.com/wp-content/uploads/2025/01/poster-bingo-2025.jpg
ORGANIZER;CN="Glenwood Woman's Club":MAILTO:glenwoodwomansclub@gmail.com
END:VEVENT
BEGIN:VEVENT
DTSTART;TZID=America/Denver:20241214T180000
DTEND;TZID=America/Denver:20241214T200000
DTSTAMP:20260422T154722
CREATED:20240916T220929Z
LAST-MODIFIED:20241126T063650Z
UID:10002629-1734199200-1734206400@glenwoodlibrary.com
SUMMARY:GWC Cookie Walk
DESCRIPTION:Come to the GCC\, grab a box and fill it full with homemade cookie yumminess to take home and share with your family and friends.  This is a fundraiser and a small fee will be charged for the box but you will go home with a great selection of cookies made by some of the best bakers in our community.  And you didn’t have to cook a one!  There will also be a gingerbread house raffled off and a hot cocoa bar.  See you there!
URL:https://glenwoodlibrary.com/event/gwc-cookie-walk/
LOCATION:Glenwood Community Center\, 21 Menges Lane\, Glenwood\, NM\, 88039\, United States
CATEGORIES:Food / Craft Fair,Fundraiser,Holiday Event
ATTACH;FMTTYPE=image/jpeg:https://glenwoodlibrary.com/wp-content/uploads/2024/09/cookie-walk-poster-color-bg.jpg
ORGANIZER;CN="Glenwood Woman's Club":MAILTO:glenwoodwomansclub@gmail.com
END:VEVENT
BEGIN:VEVENT
DTSTART;TZID=America/Denver:20241109T170000
DTEND;TZID=America/Denver:20241109T190000
DTSTAMP:20260422T154722
CREATED:20240916T215836Z
LAST-MODIFIED:20241101T190207Z
UID:10002628-1731171600-1731178800@glenwoodlibrary.com
SUMMARY:GWC Turkey Dinner
DESCRIPTION:
URL:https://glenwoodlibrary.com/event/gwc-turkey-dinner/
LOCATION:Glenwood Community Center\, 21 Menges Lane\, Glenwood\, NM\, 88039\, United States
CATEGORIES:Food / Craft Fair,Fundraiser,Holiday Event
ATTACH;FMTTYPE=image/jpeg:https://glenwoodlibrary.com/wp-content/uploads/2024/09/turkey-dinner-table-sign.jpg
ORGANIZER;CN="Glenwood Woman's Club":MAILTO:glenwoodwomansclub@gmail.com
END:VEVENT
BEGIN:VEVENT
DTSTART;TZID=America/Denver:20241012T180000
DTEND;TZID=America/Denver:20241012T200000
DTSTAMP:20260422T154722
CREATED:20240916T215445Z
LAST-MODIFIED:20240916T215445Z
UID:10002627-1728756000-1728763200@glenwoodlibrary.com
SUMMARY:GWC Chili Supper
DESCRIPTION:
URL:https://glenwoodlibrary.com/event/gwc-chili-supper/
LOCATION:Glenwood Community Center\, 21 Menges Lane\, Glenwood\, NM\, 88039\, United States
CATEGORIES:Food / Craft Fair
ATTACH;FMTTYPE=image/jpeg:https://glenwoodlibrary.com/wp-content/uploads/2024/09/banner-chili-supper-small.jpg
ORGANIZER;CN="Glenwood Woman's Club":MAILTO:glenwoodwomansclub@gmail.com
END:VEVENT
BEGIN:VEVENT
DTSTART;TZID=America/Denver:20240911T180000
DTEND;TZID=America/Denver:20240911T200000
DTSTAMP:20260422T154722
CREATED:20240830T005843Z
LAST-MODIFIED:20240830T005843Z
UID:10002621-1726077600-1726084800@glenwoodlibrary.com
SUMMARY:Girl's Night Out
DESCRIPTION:
URL:https://glenwoodlibrary.com/event/girls-night-out-2/
LOCATION:Glenwood Community Center\, 21 Menges Lane\, Glenwood\, NM\, 88039\, United States
CATEGORIES:Celebration,Entertainment
ATTACH;FMTTYPE=image/jpeg:https://glenwoodlibrary.com/wp-content/uploads/2024/08/gwc-open-house-091124.jpg
ORGANIZER;CN="Glenwood Woman's Club":MAILTO:glenwoodwomansclub@gmail.com
END:VEVENT
BEGIN:VEVENT
DTSTART;TZID=America/Denver:20240504T090000
DTEND;TZID=America/Denver:20240504T120000
DTSTAMP:20260422T154722
CREATED:20240201T002747Z
LAST-MODIFIED:20240423T184516Z
UID:10000989-1714813200-1714824000@glenwoodlibrary.com
SUMMARY:Mother's Day Pancake Breakfast
DESCRIPTION:
URL:https://glenwoodlibrary.com/event/mothers-day-pancake-breakfast/
LOCATION:Glenwood Community Center\, 21 Menges Lane\, Glenwood\, NM\, 88039\, United States
CATEGORIES:Celebration
ATTACH;FMTTYPE=image/jpeg:https://glenwoodlibrary.com/wp-content/uploads/2024/01/mothers-day-poster-2024.jpg
ORGANIZER;CN="Glenwood Woman's Club":MAILTO:glenwoodwomansclub@gmail.com
END:VEVENT
BEGIN:VEVENT
DTSTART;TZID=America/Denver:20240413T080000
DTEND;TZID=America/Denver:20240413T120000
DTSTAMP:20260422T154722
CREATED:20240123T173301Z
LAST-MODIFIED:20240327T161725Z
UID:10000977-1712995200-1713009600@glenwoodlibrary.com
SUMMARY:GWC Rummage Sale
DESCRIPTION:Join us at the Community Center for bargains and treasure hunting\, then head over to Glenwood Park for the spring book sale and Dutch oven gathering.  And if you have time (or energy) to spare\, there is a volunteer activity at Catwalk Park.
URL:https://glenwoodlibrary.com/event/gwc-rummage-sale/
LOCATION:Glenwood Community Center\, 21 Menges Lane\, Glenwood\, NM\, 88039\, United States
CATEGORIES:Yard Sale / Flea Market
ATTACH;FMTTYPE=image/jpeg:https://glenwoodlibrary.com/wp-content/uploads/2024/01/2024-rummage-sale-scaled.jpg
ORGANIZER;CN="Glenwood Woman's Club":MAILTO:glenwoodwomansclub@gmail.com
END:VEVENT
BEGIN:VEVENT
DTSTART;TZID=America/Denver:20240316T173000
DTEND;TZID=America/Denver:20240316T203000
DTSTAMP:20260422T154722
CREATED:20240120T092829Z
LAST-MODIFIED:20240304T205159Z
UID:10000883-1710610200-1710621000@glenwoodlibrary.com
SUMMARY:Centennial Bingo
DESCRIPTION:Join the Glenwood Woman’s Club at our annual bingo fundraiser.  We are also celebrating the Gila Wilderness Centennial this year.  Expect to see some “themed” door prizes.
URL:https://glenwoodlibrary.com/event/centennial-bingo/
LOCATION:Glenwood Community Center\, 21 Menges Lane\, Glenwood\, NM\, 88039\, United States
CATEGORIES:Fundraiser
ATTACH;FMTTYPE=image/jpeg:https://glenwoodlibrary.com/wp-content/uploads/2024/01/bingo-poster-2024web-scaled.jpg
ORGANIZER;CN="Glenwood Woman's Club":MAILTO:glenwoodwomansclub@gmail.com
END:VEVENT
END:VCALENDAR