BEGIN:VCALENDAR
VERSION:2.0
PRODID:-// - ECPv6.15.20//NONSGML v1.0//EN
CALSCALE:GREGORIAN
METHOD:PUBLISH
X-ORIGINAL-URL:https://glenwoodlibrary.com
X-WR-CALDESC:Events for 
REFRESH-INTERVAL;VALUE=DURATION:PT1H
X-Robots-Tag:noindex
X-PUBLISHED-TTL:PT1H
BEGIN:VTIMEZONE
TZID:America/Denver
BEGIN:DAYLIGHT
TZOFFSETFROM:-0700
TZOFFSETTO:-0600
TZNAME:MDT
DTSTART:20240310T090000
END:DAYLIGHT
BEGIN:STANDARD
TZOFFSETFROM:-0600
TZOFFSETTO:-0700
TZNAME:MST
DTSTART:20241103T080000
END:STANDARD
BEGIN:DAYLIGHT
TZOFFSETFROM:-0700
TZOFFSETTO:-0600
TZNAME:MDT
DTSTART:20250309T090000
END:DAYLIGHT
BEGIN:STANDARD
TZOFFSETFROM:-0600
TZOFFSETTO:-0700
TZNAME:MST
DTSTART:20251102T080000
END:STANDARD
BEGIN:DAYLIGHT
TZOFFSETFROM:-0700
TZOFFSETTO:-0600
TZNAME:MDT
DTSTART:20260308T090000
END:DAYLIGHT
BEGIN:STANDARD
TZOFFSETFROM:-0600
TZOFFSETTO:-0700
TZNAME:MST
DTSTART:20261101T080000
END:STANDARD
BEGIN:DAYLIGHT
TZOFFSETFROM:-0700
TZOFFSETTO:-0600
TZNAME:MDT
DTSTART:20270314T090000
END:DAYLIGHT
BEGIN:STANDARD
TZOFFSETFROM:-0600
TZOFFSETTO:-0700
TZNAME:MST
DTSTART:20271107T080000
END:STANDARD
END:VTIMEZONE
BEGIN:VEVENT
DTSTART;TZID=America/Denver:20260422T160000
DTEND;TZID=America/Denver:20260422T180000
DTSTAMP:20260424T070831
CREATED:20250610T000935Z
LAST-MODIFIED:20250610T000935Z
UID:10005263-1776873600-1776880800@glenwoodlibrary.com
SUMMARY:Santa Clara Mercado
DESCRIPTION:
URL:https://glenwoodlibrary.com/event/santa-clara-mercado/2026-04-22/
LOCATION:Santa Clara\, Santa Clara\, NM\, 88026
CATEGORIES:Outdoor,Street / Farmer's Market
ATTACH;FMTTYPE=image/jpeg:https://glenwoodlibrary.com/wp-content/uploads/2025/06/sc-mercado-060425.jpg
ORGANIZER;CN="Santa Clara Mercado":MAILTO:SantaClaraMercadoNM@gmail.com
END:VEVENT
BEGIN:VEVENT
DTSTART;TZID=America/Denver:20260415T160000
DTEND;TZID=America/Denver:20260415T180000
DTSTAMP:20260424T070831
CREATED:20250610T000935Z
LAST-MODIFIED:20250610T000935Z
UID:10005262-1776268800-1776276000@glenwoodlibrary.com
SUMMARY:Santa Clara Mercado
DESCRIPTION:
URL:https://glenwoodlibrary.com/event/santa-clara-mercado/2026-04-15/
LOCATION:Santa Clara\, Santa Clara\, NM\, 88026
CATEGORIES:Outdoor,Street / Farmer's Market
ATTACH;FMTTYPE=image/jpeg:https://glenwoodlibrary.com/wp-content/uploads/2025/06/sc-mercado-060425.jpg
ORGANIZER;CN="Santa Clara Mercado":MAILTO:SantaClaraMercadoNM@gmail.com
END:VEVENT
BEGIN:VEVENT
DTSTART;TZID=America/Denver:20260408T160000
DTEND;TZID=America/Denver:20260408T180000
DTSTAMP:20260424T070831
CREATED:20250610T000935Z
LAST-MODIFIED:20250610T000935Z
UID:10005261-1775664000-1775671200@glenwoodlibrary.com
SUMMARY:Santa Clara Mercado
DESCRIPTION:
URL:https://glenwoodlibrary.com/event/santa-clara-mercado/2026-04-08/
LOCATION:Santa Clara\, Santa Clara\, NM\, 88026
CATEGORIES:Outdoor,Street / Farmer's Market
ATTACH;FMTTYPE=image/jpeg:https://glenwoodlibrary.com/wp-content/uploads/2025/06/sc-mercado-060425.jpg
ORGANIZER;CN="Santa Clara Mercado":MAILTO:SantaClaraMercadoNM@gmail.com
END:VEVENT
BEGIN:VEVENT
DTSTART;TZID=America/Denver:20260401T160000
DTEND;TZID=America/Denver:20260401T180000
DTSTAMP:20260424T070831
CREATED:20250610T000935Z
LAST-MODIFIED:20250610T000935Z
UID:10005260-1775059200-1775066400@glenwoodlibrary.com
SUMMARY:Santa Clara Mercado
DESCRIPTION:
URL:https://glenwoodlibrary.com/event/santa-clara-mercado/2026-04-01/
LOCATION:Santa Clara\, Santa Clara\, NM\, 88026
CATEGORIES:Outdoor,Street / Farmer's Market
ATTACH;FMTTYPE=image/jpeg:https://glenwoodlibrary.com/wp-content/uploads/2025/06/sc-mercado-060425.jpg
ORGANIZER;CN="Santa Clara Mercado":MAILTO:SantaClaraMercadoNM@gmail.com
END:VEVENT
BEGIN:VEVENT
DTSTART;TZID=America/Denver:20260325T160000
DTEND;TZID=America/Denver:20260325T180000
DTSTAMP:20260424T070831
CREATED:20250610T000935Z
LAST-MODIFIED:20250610T000935Z
UID:10005259-1774454400-1774461600@glenwoodlibrary.com
SUMMARY:Santa Clara Mercado
DESCRIPTION:
URL:https://glenwoodlibrary.com/event/santa-clara-mercado/2026-03-25/
LOCATION:Santa Clara\, Santa Clara\, NM\, 88026
CATEGORIES:Outdoor,Street / Farmer's Market
ATTACH;FMTTYPE=image/jpeg:https://glenwoodlibrary.com/wp-content/uploads/2025/06/sc-mercado-060425.jpg
ORGANIZER;CN="Santa Clara Mercado":MAILTO:SantaClaraMercadoNM@gmail.com
END:VEVENT
BEGIN:VEVENT
DTSTART;TZID=America/Denver:20260318T160000
DTEND;TZID=America/Denver:20260318T180000
DTSTAMP:20260424T070831
CREATED:20250610T000935Z
LAST-MODIFIED:20250610T000935Z
UID:10005258-1773849600-1773856800@glenwoodlibrary.com
SUMMARY:Santa Clara Mercado
DESCRIPTION:
URL:https://glenwoodlibrary.com/event/santa-clara-mercado/2026-03-18/
LOCATION:Santa Clara\, Santa Clara\, NM\, 88026
CATEGORIES:Outdoor,Street / Farmer's Market
ATTACH;FMTTYPE=image/jpeg:https://glenwoodlibrary.com/wp-content/uploads/2025/06/sc-mercado-060425.jpg
ORGANIZER;CN="Santa Clara Mercado":MAILTO:SantaClaraMercadoNM@gmail.com
END:VEVENT
BEGIN:VEVENT
DTSTART;TZID=America/Denver:20260311T160000
DTEND;TZID=America/Denver:20260311T180000
DTSTAMP:20260424T070831
CREATED:20250610T000935Z
LAST-MODIFIED:20250610T000935Z
UID:10005257-1773244800-1773252000@glenwoodlibrary.com
SUMMARY:Santa Clara Mercado
DESCRIPTION:
URL:https://glenwoodlibrary.com/event/santa-clara-mercado/2026-03-11/
LOCATION:Santa Clara\, Santa Clara\, NM\, 88026
CATEGORIES:Outdoor,Street / Farmer's Market
ATTACH;FMTTYPE=image/jpeg:https://glenwoodlibrary.com/wp-content/uploads/2025/06/sc-mercado-060425.jpg
ORGANIZER;CN="Santa Clara Mercado":MAILTO:SantaClaraMercadoNM@gmail.com
END:VEVENT
BEGIN:VEVENT
DTSTART;TZID=America/Denver:20260304T160000
DTEND;TZID=America/Denver:20260304T180000
DTSTAMP:20260424T070831
CREATED:20250610T000935Z
LAST-MODIFIED:20250610T000935Z
UID:10005256-1772640000-1772647200@glenwoodlibrary.com
SUMMARY:Santa Clara Mercado
DESCRIPTION:
URL:https://glenwoodlibrary.com/event/santa-clara-mercado/2026-03-04/
LOCATION:Santa Clara\, Santa Clara\, NM\, 88026
CATEGORIES:Outdoor,Street / Farmer's Market
ATTACH;FMTTYPE=image/jpeg:https://glenwoodlibrary.com/wp-content/uploads/2025/06/sc-mercado-060425.jpg
ORGANIZER;CN="Santa Clara Mercado":MAILTO:SantaClaraMercadoNM@gmail.com
END:VEVENT
BEGIN:VEVENT
DTSTART;TZID=America/Denver:20260225T160000
DTEND;TZID=America/Denver:20260225T180000
DTSTAMP:20260424T070831
CREATED:20250610T000935Z
LAST-MODIFIED:20250610T000935Z
UID:10005255-1772035200-1772042400@glenwoodlibrary.com
SUMMARY:Santa Clara Mercado
DESCRIPTION:
URL:https://glenwoodlibrary.com/event/santa-clara-mercado/2026-02-25/
LOCATION:Santa Clara\, Santa Clara\, NM\, 88026
CATEGORIES:Outdoor,Street / Farmer's Market
ATTACH;FMTTYPE=image/jpeg:https://glenwoodlibrary.com/wp-content/uploads/2025/06/sc-mercado-060425.jpg
ORGANIZER;CN="Santa Clara Mercado":MAILTO:SantaClaraMercadoNM@gmail.com
END:VEVENT
BEGIN:VEVENT
DTSTART;TZID=America/Denver:20260218T160000
DTEND;TZID=America/Denver:20260218T180000
DTSTAMP:20260424T070831
CREATED:20250610T000935Z
LAST-MODIFIED:20250610T000935Z
UID:10005254-1771430400-1771437600@glenwoodlibrary.com
SUMMARY:Santa Clara Mercado
DESCRIPTION:
URL:https://glenwoodlibrary.com/event/santa-clara-mercado/2026-02-18/
LOCATION:Santa Clara\, Santa Clara\, NM\, 88026
CATEGORIES:Outdoor,Street / Farmer's Market
ATTACH;FMTTYPE=image/jpeg:https://glenwoodlibrary.com/wp-content/uploads/2025/06/sc-mercado-060425.jpg
ORGANIZER;CN="Santa Clara Mercado":MAILTO:SantaClaraMercadoNM@gmail.com
END:VEVENT
BEGIN:VEVENT
DTSTART;TZID=America/Denver:20260211T160000
DTEND;TZID=America/Denver:20260211T180000
DTSTAMP:20260424T070831
CREATED:20250610T000935Z
LAST-MODIFIED:20250610T000935Z
UID:10005253-1770825600-1770832800@glenwoodlibrary.com
SUMMARY:Santa Clara Mercado
DESCRIPTION:
URL:https://glenwoodlibrary.com/event/santa-clara-mercado/2026-02-11/
LOCATION:Santa Clara\, Santa Clara\, NM\, 88026
CATEGORIES:Outdoor,Street / Farmer's Market
ATTACH;FMTTYPE=image/jpeg:https://glenwoodlibrary.com/wp-content/uploads/2025/06/sc-mercado-060425.jpg
ORGANIZER;CN="Santa Clara Mercado":MAILTO:SantaClaraMercadoNM@gmail.com
END:VEVENT
BEGIN:VEVENT
DTSTART;TZID=America/Denver:20260204T160000
DTEND;TZID=America/Denver:20260204T180000
DTSTAMP:20260424T070831
CREATED:20250610T000935Z
LAST-MODIFIED:20250610T000935Z
UID:10005252-1770220800-1770228000@glenwoodlibrary.com
SUMMARY:Santa Clara Mercado
DESCRIPTION:
URL:https://glenwoodlibrary.com/event/santa-clara-mercado/2026-02-04/
LOCATION:Santa Clara\, Santa Clara\, NM\, 88026
CATEGORIES:Outdoor,Street / Farmer's Market
ATTACH;FMTTYPE=image/jpeg:https://glenwoodlibrary.com/wp-content/uploads/2025/06/sc-mercado-060425.jpg
ORGANIZER;CN="Santa Clara Mercado":MAILTO:SantaClaraMercadoNM@gmail.com
END:VEVENT
BEGIN:VEVENT
DTSTART;TZID=America/Denver:20260128T160000
DTEND;TZID=America/Denver:20260128T180000
DTSTAMP:20260424T070831
CREATED:20250610T000935Z
LAST-MODIFIED:20250610T000935Z
UID:10005251-1769616000-1769623200@glenwoodlibrary.com
SUMMARY:Santa Clara Mercado
DESCRIPTION:
URL:https://glenwoodlibrary.com/event/santa-clara-mercado/2026-01-28/
LOCATION:Santa Clara\, Santa Clara\, NM\, 88026
CATEGORIES:Outdoor,Street / Farmer's Market
ATTACH;FMTTYPE=image/jpeg:https://glenwoodlibrary.com/wp-content/uploads/2025/06/sc-mercado-060425.jpg
ORGANIZER;CN="Santa Clara Mercado":MAILTO:SantaClaraMercadoNM@gmail.com
END:VEVENT
BEGIN:VEVENT
DTSTART;TZID=America/Denver:20260121T160000
DTEND;TZID=America/Denver:20260121T180000
DTSTAMP:20260424T070831
CREATED:20250610T000935Z
LAST-MODIFIED:20250610T000935Z
UID:10005250-1769011200-1769018400@glenwoodlibrary.com
SUMMARY:Santa Clara Mercado
DESCRIPTION:
URL:https://glenwoodlibrary.com/event/santa-clara-mercado/2026-01-21/
LOCATION:Santa Clara\, Santa Clara\, NM\, 88026
CATEGORIES:Outdoor,Street / Farmer's Market
ATTACH;FMTTYPE=image/jpeg:https://glenwoodlibrary.com/wp-content/uploads/2025/06/sc-mercado-060425.jpg
ORGANIZER;CN="Santa Clara Mercado":MAILTO:SantaClaraMercadoNM@gmail.com
END:VEVENT
BEGIN:VEVENT
DTSTART;TZID=America/Denver:20260114T160000
DTEND;TZID=America/Denver:20260114T180000
DTSTAMP:20260424T070831
CREATED:20250610T000935Z
LAST-MODIFIED:20250610T000935Z
UID:10005249-1768406400-1768413600@glenwoodlibrary.com
SUMMARY:Santa Clara Mercado
DESCRIPTION:
URL:https://glenwoodlibrary.com/event/santa-clara-mercado/2026-01-14/
LOCATION:Santa Clara\, Santa Clara\, NM\, 88026
CATEGORIES:Outdoor,Street / Farmer's Market
ATTACH;FMTTYPE=image/jpeg:https://glenwoodlibrary.com/wp-content/uploads/2025/06/sc-mercado-060425.jpg
ORGANIZER;CN="Santa Clara Mercado":MAILTO:SantaClaraMercadoNM@gmail.com
END:VEVENT
BEGIN:VEVENT
DTSTART;TZID=America/Denver:20260107T160000
DTEND;TZID=America/Denver:20260107T180000
DTSTAMP:20260424T070831
CREATED:20250610T000935Z
LAST-MODIFIED:20250610T000935Z
UID:10005248-1767801600-1767808800@glenwoodlibrary.com
SUMMARY:Santa Clara Mercado
DESCRIPTION:
URL:https://glenwoodlibrary.com/event/santa-clara-mercado/2026-01-07/
LOCATION:Santa Clara\, Santa Clara\, NM\, 88026
CATEGORIES:Outdoor,Street / Farmer's Market
ATTACH;FMTTYPE=image/jpeg:https://glenwoodlibrary.com/wp-content/uploads/2025/06/sc-mercado-060425.jpg
ORGANIZER;CN="Santa Clara Mercado":MAILTO:SantaClaraMercadoNM@gmail.com
END:VEVENT
BEGIN:VEVENT
DTSTART;TZID=America/Denver:20251231T160000
DTEND;TZID=America/Denver:20251231T180000
DTSTAMP:20260424T070831
CREATED:20250610T000935Z
LAST-MODIFIED:20250610T000935Z
UID:10005247-1767196800-1767204000@glenwoodlibrary.com
SUMMARY:Santa Clara Mercado
DESCRIPTION:
URL:https://glenwoodlibrary.com/event/santa-clara-mercado/2025-12-31/
LOCATION:Santa Clara\, Santa Clara\, NM\, 88026
CATEGORIES:Outdoor,Street / Farmer's Market
ATTACH;FMTTYPE=image/jpeg:https://glenwoodlibrary.com/wp-content/uploads/2025/06/sc-mercado-060425.jpg
ORGANIZER;CN="Santa Clara Mercado":MAILTO:SantaClaraMercadoNM@gmail.com
END:VEVENT
BEGIN:VEVENT
DTSTART;TZID=America/Denver:20251224T160000
DTEND;TZID=America/Denver:20251224T180000
DTSTAMP:20260424T070831
CREATED:20250610T000935Z
LAST-MODIFIED:20250610T000935Z
UID:10005246-1766592000-1766599200@glenwoodlibrary.com
SUMMARY:Santa Clara Mercado
DESCRIPTION:
URL:https://glenwoodlibrary.com/event/santa-clara-mercado/2025-12-24/
LOCATION:Santa Clara\, Santa Clara\, NM\, 88026
CATEGORIES:Outdoor,Street / Farmer's Market
ATTACH;FMTTYPE=image/jpeg:https://glenwoodlibrary.com/wp-content/uploads/2025/06/sc-mercado-060425.jpg
ORGANIZER;CN="Santa Clara Mercado":MAILTO:SantaClaraMercadoNM@gmail.com
END:VEVENT
BEGIN:VEVENT
DTSTART;TZID=America/Denver:20251217T160000
DTEND;TZID=America/Denver:20251217T180000
DTSTAMP:20260424T070831
CREATED:20250610T000935Z
LAST-MODIFIED:20250610T000935Z
UID:10005245-1765987200-1765994400@glenwoodlibrary.com
SUMMARY:Santa Clara Mercado
DESCRIPTION:
URL:https://glenwoodlibrary.com/event/santa-clara-mercado/2025-12-17/
LOCATION:Santa Clara\, Santa Clara\, NM\, 88026
CATEGORIES:Outdoor,Street / Farmer's Market
ATTACH;FMTTYPE=image/jpeg:https://glenwoodlibrary.com/wp-content/uploads/2025/06/sc-mercado-060425.jpg
ORGANIZER;CN="Santa Clara Mercado":MAILTO:SantaClaraMercadoNM@gmail.com
END:VEVENT
BEGIN:VEVENT
DTSTART;TZID=America/Denver:20251210T160000
DTEND;TZID=America/Denver:20251210T180000
DTSTAMP:20260424T070831
CREATED:20250610T000935Z
LAST-MODIFIED:20250610T000935Z
UID:10005244-1765382400-1765389600@glenwoodlibrary.com
SUMMARY:Santa Clara Mercado
DESCRIPTION:
URL:https://glenwoodlibrary.com/event/santa-clara-mercado/2025-12-10/
LOCATION:Santa Clara\, Santa Clara\, NM\, 88026
CATEGORIES:Outdoor,Street / Farmer's Market
ATTACH;FMTTYPE=image/jpeg:https://glenwoodlibrary.com/wp-content/uploads/2025/06/sc-mercado-060425.jpg
ORGANIZER;CN="Santa Clara Mercado":MAILTO:SantaClaraMercadoNM@gmail.com
END:VEVENT
BEGIN:VEVENT
DTSTART;TZID=America/Denver:20251203T160000
DTEND;TZID=America/Denver:20251203T180000
DTSTAMP:20260424T070831
CREATED:20250610T000935Z
LAST-MODIFIED:20250610T000935Z
UID:10005243-1764777600-1764784800@glenwoodlibrary.com
SUMMARY:Santa Clara Mercado
DESCRIPTION:
URL:https://glenwoodlibrary.com/event/santa-clara-mercado/2025-12-03/
LOCATION:Santa Clara\, Santa Clara\, NM\, 88026
CATEGORIES:Outdoor,Street / Farmer's Market
ATTACH;FMTTYPE=image/jpeg:https://glenwoodlibrary.com/wp-content/uploads/2025/06/sc-mercado-060425.jpg
ORGANIZER;CN="Santa Clara Mercado":MAILTO:SantaClaraMercadoNM@gmail.com
END:VEVENT
BEGIN:VEVENT
DTSTART;TZID=America/Denver:20251126T160000
DTEND;TZID=America/Denver:20251126T180000
DTSTAMP:20260424T070831
CREATED:20250610T000935Z
LAST-MODIFIED:20250610T000935Z
UID:10005242-1764172800-1764180000@glenwoodlibrary.com
SUMMARY:Santa Clara Mercado
DESCRIPTION:
URL:https://glenwoodlibrary.com/event/santa-clara-mercado/2025-11-26/
LOCATION:Santa Clara\, Santa Clara\, NM\, 88026
CATEGORIES:Outdoor,Street / Farmer's Market
ATTACH;FMTTYPE=image/jpeg:https://glenwoodlibrary.com/wp-content/uploads/2025/06/sc-mercado-060425.jpg
ORGANIZER;CN="Santa Clara Mercado":MAILTO:SantaClaraMercadoNM@gmail.com
END:VEVENT
BEGIN:VEVENT
DTSTART;TZID=America/Denver:20251119T160000
DTEND;TZID=America/Denver:20251119T180000
DTSTAMP:20260424T070831
CREATED:20250610T000935Z
LAST-MODIFIED:20250610T000935Z
UID:10005241-1763568000-1763575200@glenwoodlibrary.com
SUMMARY:Santa Clara Mercado
DESCRIPTION:
URL:https://glenwoodlibrary.com/event/santa-clara-mercado/2025-11-19/
LOCATION:Santa Clara\, Santa Clara\, NM\, 88026
CATEGORIES:Outdoor,Street / Farmer's Market
ATTACH;FMTTYPE=image/jpeg:https://glenwoodlibrary.com/wp-content/uploads/2025/06/sc-mercado-060425.jpg
ORGANIZER;CN="Santa Clara Mercado":MAILTO:SantaClaraMercadoNM@gmail.com
END:VEVENT
BEGIN:VEVENT
DTSTART;TZID=America/Denver:20251112T160000
DTEND;TZID=America/Denver:20251112T180000
DTSTAMP:20260424T070831
CREATED:20250610T000935Z
LAST-MODIFIED:20250610T000935Z
UID:10005240-1762963200-1762970400@glenwoodlibrary.com
SUMMARY:Santa Clara Mercado
DESCRIPTION:
URL:https://glenwoodlibrary.com/event/santa-clara-mercado/2025-11-12/
LOCATION:Santa Clara\, Santa Clara\, NM\, 88026
CATEGORIES:Outdoor,Street / Farmer's Market
ATTACH;FMTTYPE=image/jpeg:https://glenwoodlibrary.com/wp-content/uploads/2025/06/sc-mercado-060425.jpg
ORGANIZER;CN="Santa Clara Mercado":MAILTO:SantaClaraMercadoNM@gmail.com
END:VEVENT
BEGIN:VEVENT
DTSTART;TZID=America/Denver:20251105T160000
DTEND;TZID=America/Denver:20251105T180000
DTSTAMP:20260424T070831
CREATED:20250610T000935Z
LAST-MODIFIED:20250610T000935Z
UID:10005239-1762358400-1762365600@glenwoodlibrary.com
SUMMARY:Santa Clara Mercado
DESCRIPTION:
URL:https://glenwoodlibrary.com/event/santa-clara-mercado/2025-11-05/
LOCATION:Santa Clara\, Santa Clara\, NM\, 88026
CATEGORIES:Outdoor,Street / Farmer's Market
ATTACH;FMTTYPE=image/jpeg:https://glenwoodlibrary.com/wp-content/uploads/2025/06/sc-mercado-060425.jpg
ORGANIZER;CN="Santa Clara Mercado":MAILTO:SantaClaraMercadoNM@gmail.com
END:VEVENT
BEGIN:VEVENT
DTSTART;TZID=America/Denver:20251029T160000
DTEND;TZID=America/Denver:20251029T180000
DTSTAMP:20260424T070831
CREATED:20250610T000935Z
LAST-MODIFIED:20250610T000935Z
UID:10005238-1761753600-1761760800@glenwoodlibrary.com
SUMMARY:Santa Clara Mercado
DESCRIPTION:
URL:https://glenwoodlibrary.com/event/santa-clara-mercado/2025-10-29/
LOCATION:Santa Clara\, Santa Clara\, NM\, 88026
CATEGORIES:Outdoor,Street / Farmer's Market
ATTACH;FMTTYPE=image/jpeg:https://glenwoodlibrary.com/wp-content/uploads/2025/06/sc-mercado-060425.jpg
ORGANIZER;CN="Santa Clara Mercado":MAILTO:SantaClaraMercadoNM@gmail.com
END:VEVENT
BEGIN:VEVENT
DTSTART;TZID=America/Denver:20251022T160000
DTEND;TZID=America/Denver:20251022T180000
DTSTAMP:20260424T070831
CREATED:20250610T000935Z
LAST-MODIFIED:20250610T000935Z
UID:10005237-1761148800-1761156000@glenwoodlibrary.com
SUMMARY:Santa Clara Mercado
DESCRIPTION:
URL:https://glenwoodlibrary.com/event/santa-clara-mercado/2025-10-22/
LOCATION:Santa Clara\, Santa Clara\, NM\, 88026
CATEGORIES:Outdoor,Street / Farmer's Market
ATTACH;FMTTYPE=image/jpeg:https://glenwoodlibrary.com/wp-content/uploads/2025/06/sc-mercado-060425.jpg
ORGANIZER;CN="Santa Clara Mercado":MAILTO:SantaClaraMercadoNM@gmail.com
END:VEVENT
BEGIN:VEVENT
DTSTART;TZID=America/Denver:20251015T160000
DTEND;TZID=America/Denver:20251015T180000
DTSTAMP:20260424T070831
CREATED:20250610T000935Z
LAST-MODIFIED:20250610T000935Z
UID:10005236-1760544000-1760551200@glenwoodlibrary.com
SUMMARY:Santa Clara Mercado
DESCRIPTION:
URL:https://glenwoodlibrary.com/event/santa-clara-mercado/2025-10-15/
LOCATION:Santa Clara\, Santa Clara\, NM\, 88026
CATEGORIES:Outdoor,Street / Farmer's Market
ATTACH;FMTTYPE=image/jpeg:https://glenwoodlibrary.com/wp-content/uploads/2025/06/sc-mercado-060425.jpg
ORGANIZER;CN="Santa Clara Mercado":MAILTO:SantaClaraMercadoNM@gmail.com
END:VEVENT
BEGIN:VEVENT
DTSTART;TZID=America/Denver:20251008T160000
DTEND;TZID=America/Denver:20251008T180000
DTSTAMP:20260424T070831
CREATED:20250610T000935Z
LAST-MODIFIED:20250610T000935Z
UID:10005235-1759939200-1759946400@glenwoodlibrary.com
SUMMARY:Santa Clara Mercado
DESCRIPTION:
URL:https://glenwoodlibrary.com/event/santa-clara-mercado/2025-10-08/
LOCATION:Santa Clara\, Santa Clara\, NM\, 88026
CATEGORIES:Outdoor,Street / Farmer's Market
ATTACH;FMTTYPE=image/jpeg:https://glenwoodlibrary.com/wp-content/uploads/2025/06/sc-mercado-060425.jpg
ORGANIZER;CN="Santa Clara Mercado":MAILTO:SantaClaraMercadoNM@gmail.com
END:VEVENT
BEGIN:VEVENT
DTSTART;TZID=America/Denver:20251001T160000
DTEND;TZID=America/Denver:20251001T180000
DTSTAMP:20260424T070831
CREATED:20250610T000935Z
LAST-MODIFIED:20250610T000935Z
UID:10005234-1759334400-1759341600@glenwoodlibrary.com
SUMMARY:Santa Clara Mercado
DESCRIPTION:
URL:https://glenwoodlibrary.com/event/santa-clara-mercado/2025-10-01/
LOCATION:Santa Clara\, Santa Clara\, NM\, 88026
CATEGORIES:Outdoor,Street / Farmer's Market
ATTACH;FMTTYPE=image/jpeg:https://glenwoodlibrary.com/wp-content/uploads/2025/06/sc-mercado-060425.jpg
ORGANIZER;CN="Santa Clara Mercado":MAILTO:SantaClaraMercadoNM@gmail.com
END:VEVENT
END:VCALENDAR