BEGIN:VCALENDAR
VERSION:2.0
PRODID:-// - ECPv6.15.20//NONSGML v1.0//EN
CALSCALE:GREGORIAN
METHOD:PUBLISH
X-ORIGINAL-URL:https://glenwoodlibrary.com
X-WR-CALDESC:Events for 
REFRESH-INTERVAL;VALUE=DURATION:PT1H
X-Robots-Tag:noindex
X-PUBLISHED-TTL:PT1H
BEGIN:VTIMEZONE
TZID:America/Denver
BEGIN:DAYLIGHT
TZOFFSETFROM:-0700
TZOFFSETTO:-0600
TZNAME:MDT
DTSTART:20220313T090000
END:DAYLIGHT
BEGIN:STANDARD
TZOFFSETFROM:-0600
TZOFFSETTO:-0700
TZNAME:MST
DTSTART:20221106T080000
END:STANDARD
BEGIN:DAYLIGHT
TZOFFSETFROM:-0700
TZOFFSETTO:-0600
TZNAME:MDT
DTSTART:20230312T090000
END:DAYLIGHT
BEGIN:STANDARD
TZOFFSETFROM:-0600
TZOFFSETTO:-0700
TZNAME:MST
DTSTART:20231105T080000
END:STANDARD
BEGIN:DAYLIGHT
TZOFFSETFROM:-0700
TZOFFSETTO:-0600
TZNAME:MDT
DTSTART:20240310T090000
END:DAYLIGHT
BEGIN:STANDARD
TZOFFSETFROM:-0600
TZOFFSETTO:-0700
TZNAME:MST
DTSTART:20241103T080000
END:STANDARD
BEGIN:DAYLIGHT
TZOFFSETFROM:-0700
TZOFFSETTO:-0600
TZNAME:MDT
DTSTART:20250309T090000
END:DAYLIGHT
BEGIN:STANDARD
TZOFFSETFROM:-0600
TZOFFSETTO:-0700
TZNAME:MST
DTSTART:20251102T080000
END:STANDARD
BEGIN:DAYLIGHT
TZOFFSETFROM:-0700
TZOFFSETTO:-0600
TZNAME:MDT
DTSTART:20260308T090000
END:DAYLIGHT
BEGIN:STANDARD
TZOFFSETFROM:-0600
TZOFFSETTO:-0700
TZNAME:MST
DTSTART:20261101T080000
END:STANDARD
END:VTIMEZONE
BEGIN:VEVENT
DTSTART;TZID=America/Denver:20250704T110000
DTEND;TZID=America/Denver:20250704T150000
DTSTAMP:20260422T215136
CREATED:20250610T000446Z
LAST-MODIFIED:20250610T000446Z
UID:10005216-1751626800-1751641200@glenwoodlibrary.com
SUMMARY:Ice Cream Social
DESCRIPTION:
URL:https://glenwoodlibrary.com/event/ice-cream-social/
LOCATION:Silver City Museum\, 312 West Broadway\, Silver City\, New Mexico\, 88061
CATEGORIES:Celebration,Food / Craft Fair,Holiday Event
ATTACH;FMTTYPE=image/jpeg:https://glenwoodlibrary.com/wp-content/uploads/2025/06/scm-ice-cream-social-070425.jpg
ORGANIZER;CN="Silver City Museum":MAILTO:communityengagement@silvercitymuseum.oirg
END:VEVENT
BEGIN:VEVENT
DTSTART;VALUE=DATE:20241101
DTEND;VALUE=DATE:20241103
DTSTAMP:20260422T215136
CREATED:20241007T060132Z
LAST-MODIFIED:20241007T060132Z
UID:10004063-1730419200-1730591999@glenwoodlibrary.com
SUMMARY:Día de los Muertos at the Silver City Museum
DESCRIPTION:Join us for a vibrant two-day celebration of Día de los Muertos. Experience the rich traditions\, art\, and culture of this important Mexican holiday. \nNovember 1st – Evening Procession \nTime: 5:00 PM – 7:00 PM (details to be announced)\nEvent: Evening procession and blessing of community ofrendas\nNovember 2nd – Main Celebration \nTime: 11:00 AM – 4:00 PM\nLocation: Museum Courtyard\nFeatures: Craft and food vendors. Live music performances. Parade at 3:30 PM (details to be announced)\nSpecial Guests: The Ruiz Brothers from Netzahualcóyotl\, Mexico \nWe are honored to host the Ruiz Brothers\, who are carrying on a family tradition of a rare art form deeply connected to Día de Los Muertos. Their schedule includes: \nPresentations about their art form\, tradition\, and connections to Día de Los Muertos\nDemonstrations in the courtyard\, where art pieces will be available for purchase\nRepeated presentations throughout the day\nDon’t miss this unique opportunity to experience the rich cultural traditions of Dia de los Muertos and witness the rare artistry of the Ruiz Brothers.
URL:https://glenwoodlibrary.com/event/dia-de-los-muertos-at-the-silver-city-museum/
LOCATION:Silver City\, Silver City\, NM\, 88061
CATEGORIES:Celebration,Fair / Festival,Holiday Event
ATTACH;FMTTYPE=image/jpeg:https://glenwoodlibrary.com/wp-content/uploads/2024/10/scm-DiadelosMuertos-2024.jpg
ORGANIZER;CN="Silver City Museum":MAILTO:communityengagement@silvercitymuseum.oirg
END:VEVENT
BEGIN:VEVENT
DTSTART;TZID=America/Denver:20241021T180000
DTEND;TZID=America/Denver:20241021T200000
DTSTAMP:20260422T215136
CREATED:20241007T060522Z
LAST-MODIFIED:20241007T060522Z
UID:10004064-1729533600-1729540800@glenwoodlibrary.com
SUMMARY:Silver City Museum Bingo
DESCRIPTION:
URL:https://glenwoodlibrary.com/event/silver-city-museum-bingo/
LOCATION:Silver City\, Silver City\, NM\, 88061
CATEGORIES:Bingo
ATTACH;FMTTYPE=image/jpeg:https://glenwoodlibrary.com/wp-content/uploads/2024/10/scm-bingo-102124.jpg
ORGANIZER;CN="Silver City Museum":MAILTO:communityengagement@silvercitymuseum.oirg
END:VEVENT
BEGIN:VEVENT
DTSTART;TZID=America/Denver:20241008T130000
DTEND;TZID=America/Denver:20241008T140000
DTSTAMP:20260422T215136
CREATED:20241007T060726Z
LAST-MODIFIED:20241007T060726Z
UID:10004065-1728392400-1728396000@glenwoodlibrary.com
SUMMARY:Face Painting How-To
DESCRIPTION:
URL:https://glenwoodlibrary.com/event/face-painting-how-to/
LOCATION:Silver City\, Silver City\, NM\, 88061
CATEGORIES:Art / Literature,Education
ATTACH;FMTTYPE=image/jpeg:https://glenwoodlibrary.com/wp-content/uploads/2024/10/scm-face-painting-100824.jpg
ORGANIZER;CN="Silver City Museum":MAILTO:communityengagement@silvercitymuseum.oirg
END:VEVENT
BEGIN:VEVENT
DTSTART;TZID=America/Denver:20231029T120000
DTEND;TZID=America/Denver:20231029T170000
DTSTAMP:20260422T215136
CREATED:20231020T060845Z
LAST-MODIFIED:20231020T060845Z
UID:10000032-1698580800-1698598800@glenwoodlibrary.com
SUMMARY:Dia de los Muertos
DESCRIPTION:
URL:https://glenwoodlibrary.com/event/dia-de-los-muertos/
LOCATION:Silver City\, Silver City\, NM\, 88061
ATTACH;FMTTYPE=image/jpeg:https://glenwoodlibrary.com/wp-content/uploads/2023/10/sc-dia-de-los-muertos-102923.jpg
ORGANIZER;CN="Silver City Museum":MAILTO:communityengagement@silvercitymuseum.oirg
END:VEVENT
END:VCALENDAR