BEGIN:VCALENDAR
VERSION:2.0
PRODID:-// - ECPv6.15.20//NONSGML v1.0//EN
CALSCALE:GREGORIAN
METHOD:PUBLISH
X-ORIGINAL-URL:https://glenwoodlibrary.com
X-WR-CALDESC:Events for 
REFRESH-INTERVAL;VALUE=DURATION:PT1H
X-Robots-Tag:noindex
X-PUBLISHED-TTL:PT1H
BEGIN:VTIMEZONE
TZID:America/Denver
BEGIN:DAYLIGHT
TZOFFSETFROM:-0700
TZOFFSETTO:-0600
TZNAME:MDT
DTSTART:20230312T090000
END:DAYLIGHT
BEGIN:STANDARD
TZOFFSETFROM:-0600
TZOFFSETTO:-0700
TZNAME:MST
DTSTART:20231105T080000
END:STANDARD
BEGIN:DAYLIGHT
TZOFFSETFROM:-0700
TZOFFSETTO:-0600
TZNAME:MDT
DTSTART:20240310T090000
END:DAYLIGHT
BEGIN:STANDARD
TZOFFSETFROM:-0600
TZOFFSETTO:-0700
TZNAME:MST
DTSTART:20241103T080000
END:STANDARD
BEGIN:DAYLIGHT
TZOFFSETFROM:-0700
TZOFFSETTO:-0600
TZNAME:MDT
DTSTART:20250309T090000
END:DAYLIGHT
BEGIN:STANDARD
TZOFFSETFROM:-0600
TZOFFSETTO:-0700
TZNAME:MST
DTSTART:20251102T080000
END:STANDARD
END:VTIMEZONE
BEGIN:VEVENT
DTSTART;VALUE=DATE:20240606
DTEND;VALUE=DATE:20240610
DTSTAMP:20260421T042054
CREATED:20231202T062630Z
LAST-MODIFIED:20231202T062948Z
UID:10000733-1717632000-1717977599@glenwoodlibrary.com
SUMMARY:WNMU Fiesta Latina
DESCRIPTION:
URL:https://glenwoodlibrary.com/event/wnmu-fiesta-latina/
CATEGORIES:Art / Literature,Fair / Festival
ATTACH;FMTTYPE=image/png:https://glenwoodlibrary.com/wp-content/uploads/2023/12/fiesta-latina-june2024.png
ORGANIZER;CN="WNMU":MAILTO:cultural.affairs@wnmu.edu
END:VEVENT
BEGIN:VEVENT
DTSTART;TZID=America/Denver:20240406T190000
DTEND;TZID=America/Denver:20240406T210000
DTSTAMP:20260421T042054
CREATED:20240206T050432Z
LAST-MODIFIED:20240206T050432Z
UID:10001716-1712430000-1712437200@glenwoodlibrary.com
SUMMARY:Scrap Arts Music
DESCRIPTION:WNMU – Fine Arts Center Theatre \nOriginal\, High-Octane Invention We start with SCRAP. We transform it through the ARTS of sculpture\, choreography and film. And we draw upon all we know to create an unforgettable MUSIC experience. Five athletic musicians perform with 145 mobile invented instruments — all hand-made by group leader and composer\, Gregory Kozak. The result? Unexpectedly beautiful Experimental Pop Percussion that is intricate\, playful and powerful\, and that delights the ears\, eyes and heart. Scrap Arts Music is a unique Canadian project honored to receive invitations to perform across North America and around the world for audiences from all walks of life.
URL:https://glenwoodlibrary.com/event/scrap-arts-music/
LOCATION:Silver City\, Silver City\, NM\, 88061
CATEGORIES:Art / Literature
ATTACH;FMTTYPE=image/jpeg:https://glenwoodlibrary.com/wp-content/uploads/2024/02/scrap-arts-music.jpg
ORGANIZER;CN="WNMU":MAILTO:cultural.affairs@wnmu.edu
END:VEVENT
BEGIN:VEVENT
DTSTART;TZID=America/Denver:20240305T190000
DTEND;TZID=America/Denver:20240305T210000
DTSTAMP:20260421T042054
CREATED:20240206T045620Z
LAST-MODIFIED:20240206T045809Z
UID:10001715-1709665200-1709672400@glenwoodlibrary.com
SUMMARY:The Moanin’ Frogs
DESCRIPTION:President’s Chamber Music Series @ WNMU – Light Hall Theater \nBending genres and uplifting spirits\, The Moanin’ Frogs offer an electrifying approach to chamber music. Conservatory-trained and entertainment-minded\, their dynamic and technically precise performances of classical\, ragtime\, jazz\, and pop delight fans across the world. Featuring all six saxophones from soprano to bass\, The Moanin’ Frogs are unique in today’s chamber music landscape. First prize winners of the 2018 M-Prize Chamber Arts Competition\, their passion\, quality\, variety\, instrumentation\, and focus on the audience experience set them apart.
URL:https://glenwoodlibrary.com/event/the-moanin-frogs/
LOCATION:Silver City\, Silver City\, NM\, 88061
CATEGORIES:Art / Literature
ATTACH;FMTTYPE=image/jpeg:https://glenwoodlibrary.com/wp-content/uploads/2024/02/moanin-frogs.jpg
ORGANIZER;CN="WNMU":MAILTO:cultural.affairs@wnmu.edu
END:VEVENT
END:VCALENDAR