BEGIN:VCALENDAR
VERSION:2.0
PRODID:-// - ECPv6.15.20//NONSGML v1.0//EN
CALSCALE:GREGORIAN
METHOD:PUBLISH
X-ORIGINAL-URL:https://glenwoodlibrary.com
X-WR-CALDESC:Events for 
REFRESH-INTERVAL;VALUE=DURATION:PT1H
X-Robots-Tag:noindex
X-PUBLISHED-TTL:PT1H
BEGIN:VTIMEZONE
TZID:America/Denver
BEGIN:DAYLIGHT
TZOFFSETFROM:-0700
TZOFFSETTO:-0600
TZNAME:MDT
DTSTART:20250309T090000
END:DAYLIGHT
BEGIN:STANDARD
TZOFFSETFROM:-0600
TZOFFSETTO:-0700
TZNAME:MST
DTSTART:20251102T080000
END:STANDARD
BEGIN:DAYLIGHT
TZOFFSETFROM:-0700
TZOFFSETTO:-0600
TZNAME:MDT
DTSTART:20260308T090000
END:DAYLIGHT
BEGIN:STANDARD
TZOFFSETFROM:-0600
TZOFFSETTO:-0700
TZNAME:MST
DTSTART:20261101T080000
END:STANDARD
BEGIN:DAYLIGHT
TZOFFSETFROM:-0700
TZOFFSETTO:-0600
TZNAME:MDT
DTSTART:20270314T090000
END:DAYLIGHT
BEGIN:STANDARD
TZOFFSETFROM:-0600
TZOFFSETTO:-0700
TZNAME:MST
DTSTART:20271107T080000
END:STANDARD
BEGIN:DAYLIGHT
TZOFFSETFROM:-0700
TZOFFSETTO:-0600
TZNAME:MDT
DTSTART:20280312T090000
END:DAYLIGHT
BEGIN:STANDARD
TZOFFSETFROM:-0600
TZOFFSETTO:-0700
TZNAME:MST
DTSTART:20281105T080000
END:STANDARD
END:VTIMEZONE
BEGIN:VEVENT
DTSTART;TZID=America/Denver:20261125T100000
DTEND;TZID=America/Denver:20261125T120000
DTSTAMP:20260424T023647
CREATED:20241126T080050Z
LAST-MODIFIED:20241126T080051Z
UID:10004216-1795600800-1795608000@glenwoodlibrary.com
SUMMARY:Gila Farmers Market
DESCRIPTION:
URL:https://glenwoodlibrary.com/event/gila-farmers-market-2/2026-11-25/
LOCATION:Gila Valley Community Center\, 411 Hwy 211\, Gila\, NM\, 88038
CATEGORIES:Street / Farmer's Market
ATTACH;FMTTYPE=image/jpeg:https://glenwoodlibrary.com/wp-content/uploads/2024/02/gila-valley-market-winter-hours.jpg
END:VEVENT
BEGIN:VEVENT
DTSTART;TZID=America/Denver:20261202T100000
DTEND;TZID=America/Denver:20261202T120000
DTSTAMP:20260424T023647
CREATED:20241126T080050Z
LAST-MODIFIED:20241126T080051Z
UID:10004217-1796205600-1796212800@glenwoodlibrary.com
SUMMARY:Gila Farmers Market
DESCRIPTION:
URL:https://glenwoodlibrary.com/event/gila-farmers-market-2/2026-12-02/
LOCATION:Gila Valley Community Center\, 411 Hwy 211\, Gila\, NM\, 88038
CATEGORIES:Street / Farmer's Market
ATTACH;FMTTYPE=image/jpeg:https://glenwoodlibrary.com/wp-content/uploads/2024/02/gila-valley-market-winter-hours.jpg
END:VEVENT
BEGIN:VEVENT
DTSTART;TZID=America/Denver:20261209T100000
DTEND;TZID=America/Denver:20261209T120000
DTSTAMP:20260424T023647
CREATED:20241126T080050Z
LAST-MODIFIED:20241126T080051Z
UID:10004218-1796810400-1796817600@glenwoodlibrary.com
SUMMARY:Gila Farmers Market
DESCRIPTION:
URL:https://glenwoodlibrary.com/event/gila-farmers-market-2/2026-12-09/
LOCATION:Gila Valley Community Center\, 411 Hwy 211\, Gila\, NM\, 88038
CATEGORIES:Street / Farmer's Market
ATTACH;FMTTYPE=image/jpeg:https://glenwoodlibrary.com/wp-content/uploads/2024/02/gila-valley-market-winter-hours.jpg
END:VEVENT
BEGIN:VEVENT
DTSTART;TZID=America/Denver:20261216T100000
DTEND;TZID=America/Denver:20261216T120000
DTSTAMP:20260424T023647
CREATED:20241126T080050Z
LAST-MODIFIED:20241126T080051Z
UID:10004219-1797415200-1797422400@glenwoodlibrary.com
SUMMARY:Gila Farmers Market
DESCRIPTION:
URL:https://glenwoodlibrary.com/event/gila-farmers-market-2/2026-12-16/
LOCATION:Gila Valley Community Center\, 411 Hwy 211\, Gila\, NM\, 88038
CATEGORIES:Street / Farmer's Market
ATTACH;FMTTYPE=image/jpeg:https://glenwoodlibrary.com/wp-content/uploads/2024/02/gila-valley-market-winter-hours.jpg
END:VEVENT
BEGIN:VEVENT
DTSTART;TZID=America/Denver:20261223T100000
DTEND;TZID=America/Denver:20261223T120000
DTSTAMP:20260424T023647
CREATED:20241126T080050Z
LAST-MODIFIED:20241126T080051Z
UID:10004220-1798020000-1798027200@glenwoodlibrary.com
SUMMARY:Gila Farmers Market
DESCRIPTION:
URL:https://glenwoodlibrary.com/event/gila-farmers-market-2/2026-12-23/
LOCATION:Gila Valley Community Center\, 411 Hwy 211\, Gila\, NM\, 88038
CATEGORIES:Street / Farmer's Market
ATTACH;FMTTYPE=image/jpeg:https://glenwoodlibrary.com/wp-content/uploads/2024/02/gila-valley-market-winter-hours.jpg
END:VEVENT
BEGIN:VEVENT
DTSTART;TZID=America/Denver:20261230T100000
DTEND;TZID=America/Denver:20261230T120000
DTSTAMP:20260424T023647
CREATED:20241126T080050Z
LAST-MODIFIED:20241126T080051Z
UID:10004221-1798624800-1798632000@glenwoodlibrary.com
SUMMARY:Gila Farmers Market
DESCRIPTION:
URL:https://glenwoodlibrary.com/event/gila-farmers-market-2/2026-12-30/
LOCATION:Gila Valley Community Center\, 411 Hwy 211\, Gila\, NM\, 88038
CATEGORIES:Street / Farmer's Market
ATTACH;FMTTYPE=image/jpeg:https://glenwoodlibrary.com/wp-content/uploads/2024/02/gila-valley-market-winter-hours.jpg
END:VEVENT
BEGIN:VEVENT
DTSTART;TZID=America/Denver:20270106T100000
DTEND;TZID=America/Denver:20270106T120000
DTSTAMP:20260424T023647
CREATED:20241126T080050Z
LAST-MODIFIED:20241126T080051Z
UID:10004222-1799229600-1799236800@glenwoodlibrary.com
SUMMARY:Gila Farmers Market
DESCRIPTION:
URL:https://glenwoodlibrary.com/event/gila-farmers-market-2/2027-01-06/
LOCATION:Gila Valley Community Center\, 411 Hwy 211\, Gila\, NM\, 88038
CATEGORIES:Street / Farmer's Market
ATTACH;FMTTYPE=image/jpeg:https://glenwoodlibrary.com/wp-content/uploads/2024/02/gila-valley-market-winter-hours.jpg
END:VEVENT
BEGIN:VEVENT
DTSTART;TZID=America/Denver:20270113T100000
DTEND;TZID=America/Denver:20270113T120000
DTSTAMP:20260424T023647
CREATED:20241126T080050Z
LAST-MODIFIED:20241126T080051Z
UID:10004223-1799834400-1799841600@glenwoodlibrary.com
SUMMARY:Gila Farmers Market
DESCRIPTION:
URL:https://glenwoodlibrary.com/event/gila-farmers-market-2/2027-01-13/
LOCATION:Gila Valley Community Center\, 411 Hwy 211\, Gila\, NM\, 88038
CATEGORIES:Street / Farmer's Market
ATTACH;FMTTYPE=image/jpeg:https://glenwoodlibrary.com/wp-content/uploads/2024/02/gila-valley-market-winter-hours.jpg
END:VEVENT
BEGIN:VEVENT
DTSTART;TZID=America/Denver:20270120T100000
DTEND;TZID=America/Denver:20270120T120000
DTSTAMP:20260424T023647
CREATED:20241126T080050Z
LAST-MODIFIED:20241126T080051Z
UID:10004224-1800439200-1800446400@glenwoodlibrary.com
SUMMARY:Gila Farmers Market
DESCRIPTION:
URL:https://glenwoodlibrary.com/event/gila-farmers-market-2/2027-01-20/
LOCATION:Gila Valley Community Center\, 411 Hwy 211\, Gila\, NM\, 88038
CATEGORIES:Street / Farmer's Market
ATTACH;FMTTYPE=image/jpeg:https://glenwoodlibrary.com/wp-content/uploads/2024/02/gila-valley-market-winter-hours.jpg
END:VEVENT
BEGIN:VEVENT
DTSTART;TZID=America/Denver:20270127T100000
DTEND;TZID=America/Denver:20270127T120000
DTSTAMP:20260424T023647
CREATED:20241126T080050Z
LAST-MODIFIED:20241126T080051Z
UID:10004225-1801044000-1801051200@glenwoodlibrary.com
SUMMARY:Gila Farmers Market
DESCRIPTION:
URL:https://glenwoodlibrary.com/event/gila-farmers-market-2/2027-01-27/
LOCATION:Gila Valley Community Center\, 411 Hwy 211\, Gila\, NM\, 88038
CATEGORIES:Street / Farmer's Market
ATTACH;FMTTYPE=image/jpeg:https://glenwoodlibrary.com/wp-content/uploads/2024/02/gila-valley-market-winter-hours.jpg
END:VEVENT
BEGIN:VEVENT
DTSTART;TZID=America/Denver:20270203T100000
DTEND;TZID=America/Denver:20270203T120000
DTSTAMP:20260424T023647
CREATED:20241126T080050Z
LAST-MODIFIED:20241126T080051Z
UID:10004226-1801648800-1801656000@glenwoodlibrary.com
SUMMARY:Gila Farmers Market
DESCRIPTION:
URL:https://glenwoodlibrary.com/event/gila-farmers-market-2/2027-02-03/
LOCATION:Gila Valley Community Center\, 411 Hwy 211\, Gila\, NM\, 88038
CATEGORIES:Street / Farmer's Market
ATTACH;FMTTYPE=image/jpeg:https://glenwoodlibrary.com/wp-content/uploads/2024/02/gila-valley-market-winter-hours.jpg
END:VEVENT
BEGIN:VEVENT
DTSTART;TZID=America/Denver:20270210T100000
DTEND;TZID=America/Denver:20270210T120000
DTSTAMP:20260424T023647
CREATED:20241126T080050Z
LAST-MODIFIED:20241126T080051Z
UID:10004227-1802253600-1802260800@glenwoodlibrary.com
SUMMARY:Gila Farmers Market
DESCRIPTION:
URL:https://glenwoodlibrary.com/event/gila-farmers-market-2/2027-02-10/
LOCATION:Gila Valley Community Center\, 411 Hwy 211\, Gila\, NM\, 88038
CATEGORIES:Street / Farmer's Market
ATTACH;FMTTYPE=image/jpeg:https://glenwoodlibrary.com/wp-content/uploads/2024/02/gila-valley-market-winter-hours.jpg
END:VEVENT
BEGIN:VEVENT
DTSTART;TZID=America/Denver:20270217T100000
DTEND;TZID=America/Denver:20270217T120000
DTSTAMP:20260424T023647
CREATED:20241126T080050Z
LAST-MODIFIED:20241126T080051Z
UID:10004228-1802858400-1802865600@glenwoodlibrary.com
SUMMARY:Gila Farmers Market
DESCRIPTION:
URL:https://glenwoodlibrary.com/event/gila-farmers-market-2/2027-02-17/
LOCATION:Gila Valley Community Center\, 411 Hwy 211\, Gila\, NM\, 88038
CATEGORIES:Street / Farmer's Market
ATTACH;FMTTYPE=image/jpeg:https://glenwoodlibrary.com/wp-content/uploads/2024/02/gila-valley-market-winter-hours.jpg
END:VEVENT
BEGIN:VEVENT
DTSTART;TZID=America/Denver:20270224T100000
DTEND;TZID=America/Denver:20270224T120000
DTSTAMP:20260424T023647
CREATED:20241126T080050Z
LAST-MODIFIED:20241126T080051Z
UID:10004229-1803463200-1803470400@glenwoodlibrary.com
SUMMARY:Gila Farmers Market
DESCRIPTION:
URL:https://glenwoodlibrary.com/event/gila-farmers-market-2/2027-02-24/
LOCATION:Gila Valley Community Center\, 411 Hwy 211\, Gila\, NM\, 88038
CATEGORIES:Street / Farmer's Market
ATTACH;FMTTYPE=image/jpeg:https://glenwoodlibrary.com/wp-content/uploads/2024/02/gila-valley-market-winter-hours.jpg
END:VEVENT
BEGIN:VEVENT
DTSTART;TZID=America/Denver:20270303T100000
DTEND;TZID=America/Denver:20270303T120000
DTSTAMP:20260424T023647
CREATED:20241126T080050Z
LAST-MODIFIED:20241126T080051Z
UID:10004230-1804068000-1804075200@glenwoodlibrary.com
SUMMARY:Gila Farmers Market
DESCRIPTION:
URL:https://glenwoodlibrary.com/event/gila-farmers-market-2/2027-03-03/
LOCATION:Gila Valley Community Center\, 411 Hwy 211\, Gila\, NM\, 88038
CATEGORIES:Street / Farmer's Market
ATTACH;FMTTYPE=image/jpeg:https://glenwoodlibrary.com/wp-content/uploads/2024/02/gila-valley-market-winter-hours.jpg
END:VEVENT
BEGIN:VEVENT
DTSTART;TZID=America/Denver:20270310T100000
DTEND;TZID=America/Denver:20270310T120000
DTSTAMP:20260424T023647
CREATED:20241126T080050Z
LAST-MODIFIED:20241126T080051Z
UID:10004231-1804672800-1804680000@glenwoodlibrary.com
SUMMARY:Gila Farmers Market
DESCRIPTION:
URL:https://glenwoodlibrary.com/event/gila-farmers-market-2/2027-03-10/
LOCATION:Gila Valley Community Center\, 411 Hwy 211\, Gila\, NM\, 88038
CATEGORIES:Street / Farmer's Market
ATTACH;FMTTYPE=image/jpeg:https://glenwoodlibrary.com/wp-content/uploads/2024/02/gila-valley-market-winter-hours.jpg
END:VEVENT
BEGIN:VEVENT
DTSTART;TZID=America/Denver:20270317T100000
DTEND;TZID=America/Denver:20270317T120000
DTSTAMP:20260424T023647
CREATED:20241126T080050Z
LAST-MODIFIED:20241126T080051Z
UID:10004232-1805277600-1805284800@glenwoodlibrary.com
SUMMARY:Gila Farmers Market
DESCRIPTION:
URL:https://glenwoodlibrary.com/event/gila-farmers-market-2/2027-03-17/
LOCATION:Gila Valley Community Center\, 411 Hwy 211\, Gila\, NM\, 88038
CATEGORIES:Street / Farmer's Market
ATTACH;FMTTYPE=image/jpeg:https://glenwoodlibrary.com/wp-content/uploads/2024/02/gila-valley-market-winter-hours.jpg
END:VEVENT
BEGIN:VEVENT
DTSTART;TZID=America/Denver:20270324T100000
DTEND;TZID=America/Denver:20270324T120000
DTSTAMP:20260424T023647
CREATED:20241126T080050Z
LAST-MODIFIED:20241126T080051Z
UID:10004233-1805882400-1805889600@glenwoodlibrary.com
SUMMARY:Gila Farmers Market
DESCRIPTION:
URL:https://glenwoodlibrary.com/event/gila-farmers-market-2/2027-03-24/
LOCATION:Gila Valley Community Center\, 411 Hwy 211\, Gila\, NM\, 88038
CATEGORIES:Street / Farmer's Market
ATTACH;FMTTYPE=image/jpeg:https://glenwoodlibrary.com/wp-content/uploads/2024/02/gila-valley-market-winter-hours.jpg
END:VEVENT
BEGIN:VEVENT
DTSTART;TZID=America/Denver:20270331T100000
DTEND;TZID=America/Denver:20270331T120000
DTSTAMP:20260424T023647
CREATED:20241126T080050Z
LAST-MODIFIED:20241126T080051Z
UID:10004234-1806487200-1806494400@glenwoodlibrary.com
SUMMARY:Gila Farmers Market
DESCRIPTION:
URL:https://glenwoodlibrary.com/event/gila-farmers-market-2/2027-03-31/
LOCATION:Gila Valley Community Center\, 411 Hwy 211\, Gila\, NM\, 88038
CATEGORIES:Street / Farmer's Market
ATTACH;FMTTYPE=image/jpeg:https://glenwoodlibrary.com/wp-content/uploads/2024/02/gila-valley-market-winter-hours.jpg
END:VEVENT
BEGIN:VEVENT
DTSTART;TZID=America/Denver:20270407T100000
DTEND;TZID=America/Denver:20270407T120000
DTSTAMP:20260424T023647
CREATED:20241126T080050Z
LAST-MODIFIED:20241126T080051Z
UID:10004235-1807092000-1807099200@glenwoodlibrary.com
SUMMARY:Gila Farmers Market
DESCRIPTION:
URL:https://glenwoodlibrary.com/event/gila-farmers-market-2/2027-04-07/
LOCATION:Gila Valley Community Center\, 411 Hwy 211\, Gila\, NM\, 88038
CATEGORIES:Street / Farmer's Market
ATTACH;FMTTYPE=image/jpeg:https://glenwoodlibrary.com/wp-content/uploads/2024/02/gila-valley-market-winter-hours.jpg
END:VEVENT
BEGIN:VEVENT
DTSTART;TZID=America/Denver:20270414T100000
DTEND;TZID=America/Denver:20270414T120000
DTSTAMP:20260424T023647
CREATED:20241126T080050Z
LAST-MODIFIED:20241126T080051Z
UID:10004236-1807696800-1807704000@glenwoodlibrary.com
SUMMARY:Gila Farmers Market
DESCRIPTION:
URL:https://glenwoodlibrary.com/event/gila-farmers-market-2/2027-04-14/
LOCATION:Gila Valley Community Center\, 411 Hwy 211\, Gila\, NM\, 88038
CATEGORIES:Street / Farmer's Market
ATTACH;FMTTYPE=image/jpeg:https://glenwoodlibrary.com/wp-content/uploads/2024/02/gila-valley-market-winter-hours.jpg
END:VEVENT
BEGIN:VEVENT
DTSTART;TZID=America/Denver:20270421T100000
DTEND;TZID=America/Denver:20270421T120000
DTSTAMP:20260424T023647
CREATED:20241126T080050Z
LAST-MODIFIED:20241126T080051Z
UID:10004237-1808301600-1808308800@glenwoodlibrary.com
SUMMARY:Gila Farmers Market
DESCRIPTION:
URL:https://glenwoodlibrary.com/event/gila-farmers-market-2/2027-04-21/
LOCATION:Gila Valley Community Center\, 411 Hwy 211\, Gila\, NM\, 88038
CATEGORIES:Street / Farmer's Market
ATTACH;FMTTYPE=image/jpeg:https://glenwoodlibrary.com/wp-content/uploads/2024/02/gila-valley-market-winter-hours.jpg
END:VEVENT
BEGIN:VEVENT
DTSTART;TZID=America/Denver:20270428T100000
DTEND;TZID=America/Denver:20270428T120000
DTSTAMP:20260424T023647
CREATED:20241126T080050Z
LAST-MODIFIED:20241126T080051Z
UID:10004238-1808906400-1808913600@glenwoodlibrary.com
SUMMARY:Gila Farmers Market
DESCRIPTION:
URL:https://glenwoodlibrary.com/event/gila-farmers-market-2/2027-04-28/
LOCATION:Gila Valley Community Center\, 411 Hwy 211\, Gila\, NM\, 88038
CATEGORIES:Street / Farmer's Market
ATTACH;FMTTYPE=image/jpeg:https://glenwoodlibrary.com/wp-content/uploads/2024/02/gila-valley-market-winter-hours.jpg
END:VEVENT
BEGIN:VEVENT
DTSTART;TZID=America/Denver:20270505T100000
DTEND;TZID=America/Denver:20270505T120000
DTSTAMP:20260424T023647
CREATED:20241126T080050Z
LAST-MODIFIED:20241126T080051Z
UID:10004239-1809511200-1809518400@glenwoodlibrary.com
SUMMARY:Gila Farmers Market
DESCRIPTION:
URL:https://glenwoodlibrary.com/event/gila-farmers-market-2/2027-05-05/
LOCATION:Gila Valley Community Center\, 411 Hwy 211\, Gila\, NM\, 88038
CATEGORIES:Street / Farmer's Market
ATTACH;FMTTYPE=image/jpeg:https://glenwoodlibrary.com/wp-content/uploads/2024/02/gila-valley-market-winter-hours.jpg
END:VEVENT
BEGIN:VEVENT
DTSTART;TZID=America/Denver:20270512T100000
DTEND;TZID=America/Denver:20270512T120000
DTSTAMP:20260424T023647
CREATED:20241126T080050Z
LAST-MODIFIED:20241126T080051Z
UID:10004240-1810116000-1810123200@glenwoodlibrary.com
SUMMARY:Gila Farmers Market
DESCRIPTION:
URL:https://glenwoodlibrary.com/event/gila-farmers-market-2/2027-05-12/
LOCATION:Gila Valley Community Center\, 411 Hwy 211\, Gila\, NM\, 88038
CATEGORIES:Street / Farmer's Market
ATTACH;FMTTYPE=image/jpeg:https://glenwoodlibrary.com/wp-content/uploads/2024/02/gila-valley-market-winter-hours.jpg
END:VEVENT
BEGIN:VEVENT
DTSTART;TZID=America/Denver:20270519T100000
DTEND;TZID=America/Denver:20270519T120000
DTSTAMP:20260424T023647
CREATED:20241126T080050Z
LAST-MODIFIED:20241126T080051Z
UID:10004241-1810720800-1810728000@glenwoodlibrary.com
SUMMARY:Gila Farmers Market
DESCRIPTION:
URL:https://glenwoodlibrary.com/event/gila-farmers-market-2/2027-05-19/
LOCATION:Gila Valley Community Center\, 411 Hwy 211\, Gila\, NM\, 88038
CATEGORIES:Street / Farmer's Market
ATTACH;FMTTYPE=image/jpeg:https://glenwoodlibrary.com/wp-content/uploads/2024/02/gila-valley-market-winter-hours.jpg
END:VEVENT
BEGIN:VEVENT
DTSTART;TZID=America/Denver:20270526T100000
DTEND;TZID=America/Denver:20270526T120000
DTSTAMP:20260424T023647
CREATED:20241126T080050Z
LAST-MODIFIED:20241126T080051Z
UID:10004242-1811325600-1811332800@glenwoodlibrary.com
SUMMARY:Gila Farmers Market
DESCRIPTION:
URL:https://glenwoodlibrary.com/event/gila-farmers-market-2/2027-05-26/
LOCATION:Gila Valley Community Center\, 411 Hwy 211\, Gila\, NM\, 88038
CATEGORIES:Street / Farmer's Market
ATTACH;FMTTYPE=image/jpeg:https://glenwoodlibrary.com/wp-content/uploads/2024/02/gila-valley-market-winter-hours.jpg
END:VEVENT
BEGIN:VEVENT
DTSTART;TZID=America/Denver:20270602T100000
DTEND;TZID=America/Denver:20270602T120000
DTSTAMP:20260424T023647
CREATED:20241126T080050Z
LAST-MODIFIED:20241126T080051Z
UID:10004243-1811930400-1811937600@glenwoodlibrary.com
SUMMARY:Gila Farmers Market
DESCRIPTION:
URL:https://glenwoodlibrary.com/event/gila-farmers-market-2/2027-06-02/
LOCATION:Gila Valley Community Center\, 411 Hwy 211\, Gila\, NM\, 88038
CATEGORIES:Street / Farmer's Market
ATTACH;FMTTYPE=image/jpeg:https://glenwoodlibrary.com/wp-content/uploads/2024/02/gila-valley-market-winter-hours.jpg
END:VEVENT
BEGIN:VEVENT
DTSTART;TZID=America/Denver:20270609T100000
DTEND;TZID=America/Denver:20270609T120000
DTSTAMP:20260424T023647
CREATED:20241126T080050Z
LAST-MODIFIED:20241126T080051Z
UID:10004244-1812535200-1812542400@glenwoodlibrary.com
SUMMARY:Gila Farmers Market
DESCRIPTION:
URL:https://glenwoodlibrary.com/event/gila-farmers-market-2/2027-06-09/
LOCATION:Gila Valley Community Center\, 411 Hwy 211\, Gila\, NM\, 88038
CATEGORIES:Street / Farmer's Market
ATTACH;FMTTYPE=image/jpeg:https://glenwoodlibrary.com/wp-content/uploads/2024/02/gila-valley-market-winter-hours.jpg
END:VEVENT
BEGIN:VEVENT
DTSTART;TZID=America/Denver:20270616T100000
DTEND;TZID=America/Denver:20270616T120000
DTSTAMP:20260424T023647
CREATED:20241126T080050Z
LAST-MODIFIED:20241126T080051Z
UID:10004245-1813140000-1813147200@glenwoodlibrary.com
SUMMARY:Gila Farmers Market
DESCRIPTION:
URL:https://glenwoodlibrary.com/event/gila-farmers-market-2/2027-06-16/
LOCATION:Gila Valley Community Center\, 411 Hwy 211\, Gila\, NM\, 88038
CATEGORIES:Street / Farmer's Market
ATTACH;FMTTYPE=image/jpeg:https://glenwoodlibrary.com/wp-content/uploads/2024/02/gila-valley-market-winter-hours.jpg
END:VEVENT
END:VCALENDAR