BEGIN:VCALENDAR
VERSION:2.0
PRODID:-// - ECPv6.15.20//NONSGML v1.0//EN
CALSCALE:GREGORIAN
METHOD:PUBLISH
X-ORIGINAL-URL:https://glenwoodlibrary.com
X-WR-CALDESC:Events for 
REFRESH-INTERVAL;VALUE=DURATION:PT1H
X-Robots-Tag:noindex
X-PUBLISHED-TTL:PT1H
BEGIN:VTIMEZONE
TZID:America/Denver
BEGIN:DAYLIGHT
TZOFFSETFROM:-0700
TZOFFSETTO:-0600
TZNAME:MDT
DTSTART:20260308T090000
END:DAYLIGHT
BEGIN:STANDARD
TZOFFSETFROM:-0600
TZOFFSETTO:-0700
TZNAME:MST
DTSTART:20261101T080000
END:STANDARD
BEGIN:DAYLIGHT
TZOFFSETFROM:-0700
TZOFFSETTO:-0600
TZNAME:MDT
DTSTART:20270314T090000
END:DAYLIGHT
BEGIN:STANDARD
TZOFFSETFROM:-0600
TZOFFSETTO:-0700
TZNAME:MST
DTSTART:20271107T080000
END:STANDARD
BEGIN:DAYLIGHT
TZOFFSETFROM:-0700
TZOFFSETTO:-0600
TZNAME:MDT
DTSTART:20280312T090000
END:DAYLIGHT
BEGIN:STANDARD
TZOFFSETFROM:-0600
TZOFFSETTO:-0700
TZNAME:MST
DTSTART:20281105T080000
END:STANDARD
BEGIN:DAYLIGHT
TZOFFSETFROM:-0700
TZOFFSETTO:-0600
TZNAME:MDT
DTSTART:20290311T090000
END:DAYLIGHT
BEGIN:STANDARD
TZOFFSETFROM:-0600
TZOFFSETTO:-0700
TZNAME:MST
DTSTART:20291104T080000
END:STANDARD
BEGIN:DAYLIGHT
TZOFFSETFROM:-0700
TZOFFSETTO:-0600
TZNAME:MDT
DTSTART:20300310T090000
END:DAYLIGHT
BEGIN:STANDARD
TZOFFSETFROM:-0600
TZOFFSETTO:-0700
TZNAME:MST
DTSTART:20301103T080000
END:STANDARD
END:VTIMEZONE
BEGIN:VEVENT
DTSTART;TZID=America/Denver:20270316T120000
DTEND;TZID=America/Denver:20270316T140000
DTSTAMP:20260421T163629
CREATED:20240207T071800Z
LAST-MODIFIED:20240207T071800Z
UID:10001804-1805198400-1805205600@glenwoodlibrary.com
SUMMARY:Cliff/Gila Food Pantry
DESCRIPTION:Location\nCliff Fairground Building \nAvailable for residents in these areas\n88028\, 88038\, 88051\, 88055 \nFood distribution is a drive-thru.  Please bring your pantry ID card or bring a picture ID and a separate proof of physical address.
URL:https://glenwoodlibrary.com/event/cliff-gila-food-pantry/2027-03-16/
LOCATION:Grant County Fairgrounds\, 16 Arena Road\, Cliff\, New Mexico\, 88038
CATEGORIES:Community Service
ATTACH;FMTTYPE=image/jpeg:https://glenwoodlibrary.com/wp-content/uploads/2024/01/food-program.jpg
END:VEVENT
BEGIN:VEVENT
DTSTART;TZID=America/Denver:20270420T120000
DTEND;TZID=America/Denver:20270420T140000
DTSTAMP:20260421T163629
CREATED:20240207T071800Z
LAST-MODIFIED:20240207T071800Z
UID:10001805-1808222400-1808229600@glenwoodlibrary.com
SUMMARY:Cliff/Gila Food Pantry
DESCRIPTION:Location\nCliff Fairground Building \nAvailable for residents in these areas\n88028\, 88038\, 88051\, 88055 \nFood distribution is a drive-thru.  Please bring your pantry ID card or bring a picture ID and a separate proof of physical address.
URL:https://glenwoodlibrary.com/event/cliff-gila-food-pantry/2027-04-20/
LOCATION:Grant County Fairgrounds\, 16 Arena Road\, Cliff\, New Mexico\, 88038
CATEGORIES:Community Service
ATTACH;FMTTYPE=image/jpeg:https://glenwoodlibrary.com/wp-content/uploads/2024/01/food-program.jpg
END:VEVENT
BEGIN:VEVENT
DTSTART;TZID=America/Denver:20270518T120000
DTEND;TZID=America/Denver:20270518T140000
DTSTAMP:20260421T163629
CREATED:20240207T071800Z
LAST-MODIFIED:20240207T071800Z
UID:10001806-1810641600-1810648800@glenwoodlibrary.com
SUMMARY:Cliff/Gila Food Pantry
DESCRIPTION:Location\nCliff Fairground Building \nAvailable for residents in these areas\n88028\, 88038\, 88051\, 88055 \nFood distribution is a drive-thru.  Please bring your pantry ID card or bring a picture ID and a separate proof of physical address.
URL:https://glenwoodlibrary.com/event/cliff-gila-food-pantry/2027-05-18/
LOCATION:Grant County Fairgrounds\, 16 Arena Road\, Cliff\, New Mexico\, 88038
CATEGORIES:Community Service
ATTACH;FMTTYPE=image/jpeg:https://glenwoodlibrary.com/wp-content/uploads/2024/01/food-program.jpg
END:VEVENT
BEGIN:VEVENT
DTSTART;TZID=America/Denver:20270615T120000
DTEND;TZID=America/Denver:20270615T140000
DTSTAMP:20260421T163629
CREATED:20240207T071800Z
LAST-MODIFIED:20240207T071800Z
UID:10001807-1813060800-1813068000@glenwoodlibrary.com
SUMMARY:Cliff/Gila Food Pantry
DESCRIPTION:Location\nCliff Fairground Building \nAvailable for residents in these areas\n88028\, 88038\, 88051\, 88055 \nFood distribution is a drive-thru.  Please bring your pantry ID card or bring a picture ID and a separate proof of physical address.
URL:https://glenwoodlibrary.com/event/cliff-gila-food-pantry/2027-06-15/
LOCATION:Grant County Fairgrounds\, 16 Arena Road\, Cliff\, New Mexico\, 88038
CATEGORIES:Community Service
ATTACH;FMTTYPE=image/jpeg:https://glenwoodlibrary.com/wp-content/uploads/2024/01/food-program.jpg
END:VEVENT
BEGIN:VEVENT
DTSTART;TZID=America/Denver:20270720T120000
DTEND;TZID=America/Denver:20270720T140000
DTSTAMP:20260421T163629
CREATED:20240207T071800Z
LAST-MODIFIED:20240207T071800Z
UID:10001808-1816084800-1816092000@glenwoodlibrary.com
SUMMARY:Cliff/Gila Food Pantry
DESCRIPTION:Location\nCliff Fairground Building \nAvailable for residents in these areas\n88028\, 88038\, 88051\, 88055 \nFood distribution is a drive-thru.  Please bring your pantry ID card or bring a picture ID and a separate proof of physical address.
URL:https://glenwoodlibrary.com/event/cliff-gila-food-pantry/2027-07-20/
LOCATION:Grant County Fairgrounds\, 16 Arena Road\, Cliff\, New Mexico\, 88038
CATEGORIES:Community Service
ATTACH;FMTTYPE=image/jpeg:https://glenwoodlibrary.com/wp-content/uploads/2024/01/food-program.jpg
END:VEVENT
BEGIN:VEVENT
DTSTART;TZID=America/Denver:20270817T120000
DTEND;TZID=America/Denver:20270817T140000
DTSTAMP:20260421T163629
CREATED:20240207T071800Z
LAST-MODIFIED:20240207T071800Z
UID:10001809-1818504000-1818511200@glenwoodlibrary.com
SUMMARY:Cliff/Gila Food Pantry
DESCRIPTION:Location\nCliff Fairground Building \nAvailable for residents in these areas\n88028\, 88038\, 88051\, 88055 \nFood distribution is a drive-thru.  Please bring your pantry ID card or bring a picture ID and a separate proof of physical address.
URL:https://glenwoodlibrary.com/event/cliff-gila-food-pantry/2027-08-17/
LOCATION:Grant County Fairgrounds\, 16 Arena Road\, Cliff\, New Mexico\, 88038
CATEGORIES:Community Service
ATTACH;FMTTYPE=image/jpeg:https://glenwoodlibrary.com/wp-content/uploads/2024/01/food-program.jpg
END:VEVENT
BEGIN:VEVENT
DTSTART;TZID=America/Denver:20270921T120000
DTEND;TZID=America/Denver:20270921T140000
DTSTAMP:20260421T163629
CREATED:20240207T071800Z
LAST-MODIFIED:20240207T071800Z
UID:10001810-1821528000-1821535200@glenwoodlibrary.com
SUMMARY:Cliff/Gila Food Pantry
DESCRIPTION:Location\nCliff Fairground Building \nAvailable for residents in these areas\n88028\, 88038\, 88051\, 88055 \nFood distribution is a drive-thru.  Please bring your pantry ID card or bring a picture ID and a separate proof of physical address.
URL:https://glenwoodlibrary.com/event/cliff-gila-food-pantry/2027-09-21/
LOCATION:Grant County Fairgrounds\, 16 Arena Road\, Cliff\, New Mexico\, 88038
CATEGORIES:Community Service
ATTACH;FMTTYPE=image/jpeg:https://glenwoodlibrary.com/wp-content/uploads/2024/01/food-program.jpg
END:VEVENT
BEGIN:VEVENT
DTSTART;TZID=America/Denver:20271019T120000
DTEND;TZID=America/Denver:20271019T140000
DTSTAMP:20260421T163629
CREATED:20240207T071800Z
LAST-MODIFIED:20240207T071800Z
UID:10001811-1823947200-1823954400@glenwoodlibrary.com
SUMMARY:Cliff/Gila Food Pantry
DESCRIPTION:Location\nCliff Fairground Building \nAvailable for residents in these areas\n88028\, 88038\, 88051\, 88055 \nFood distribution is a drive-thru.  Please bring your pantry ID card or bring a picture ID and a separate proof of physical address.
URL:https://glenwoodlibrary.com/event/cliff-gila-food-pantry/2027-10-19/
LOCATION:Grant County Fairgrounds\, 16 Arena Road\, Cliff\, New Mexico\, 88038
CATEGORIES:Community Service
ATTACH;FMTTYPE=image/jpeg:https://glenwoodlibrary.com/wp-content/uploads/2024/01/food-program.jpg
END:VEVENT
BEGIN:VEVENT
DTSTART;TZID=America/Denver:20271116T120000
DTEND;TZID=America/Denver:20271116T140000
DTSTAMP:20260421T163629
CREATED:20240207T071800Z
LAST-MODIFIED:20240207T071800Z
UID:10001812-1826366400-1826373600@glenwoodlibrary.com
SUMMARY:Cliff/Gila Food Pantry
DESCRIPTION:Location\nCliff Fairground Building \nAvailable for residents in these areas\n88028\, 88038\, 88051\, 88055 \nFood distribution is a drive-thru.  Please bring your pantry ID card or bring a picture ID and a separate proof of physical address.
URL:https://glenwoodlibrary.com/event/cliff-gila-food-pantry/2027-11-16/
LOCATION:Grant County Fairgrounds\, 16 Arena Road\, Cliff\, New Mexico\, 88038
CATEGORIES:Community Service
ATTACH;FMTTYPE=image/jpeg:https://glenwoodlibrary.com/wp-content/uploads/2024/01/food-program.jpg
END:VEVENT
BEGIN:VEVENT
DTSTART;TZID=America/Denver:20271221T120000
DTEND;TZID=America/Denver:20271221T140000
DTSTAMP:20260421T163629
CREATED:20240207T071800Z
LAST-MODIFIED:20240207T071800Z
UID:10001813-1829390400-1829397600@glenwoodlibrary.com
SUMMARY:Cliff/Gila Food Pantry
DESCRIPTION:Location\nCliff Fairground Building \nAvailable for residents in these areas\n88028\, 88038\, 88051\, 88055 \nFood distribution is a drive-thru.  Please bring your pantry ID card or bring a picture ID and a separate proof of physical address.
URL:https://glenwoodlibrary.com/event/cliff-gila-food-pantry/2027-12-21/
LOCATION:Grant County Fairgrounds\, 16 Arena Road\, Cliff\, New Mexico\, 88038
CATEGORIES:Community Service
ATTACH;FMTTYPE=image/jpeg:https://glenwoodlibrary.com/wp-content/uploads/2024/01/food-program.jpg
END:VEVENT
BEGIN:VEVENT
DTSTART;TZID=America/Denver:20280118T120000
DTEND;TZID=America/Denver:20280118T140000
DTSTAMP:20260421T163629
CREATED:20240207T071800Z
LAST-MODIFIED:20240207T071800Z
UID:10001814-1831809600-1831816800@glenwoodlibrary.com
SUMMARY:Cliff/Gila Food Pantry
DESCRIPTION:Location\nCliff Fairground Building \nAvailable for residents in these areas\n88028\, 88038\, 88051\, 88055 \nFood distribution is a drive-thru.  Please bring your pantry ID card or bring a picture ID and a separate proof of physical address.
URL:https://glenwoodlibrary.com/event/cliff-gila-food-pantry/2028-01-18/
LOCATION:Grant County Fairgrounds\, 16 Arena Road\, Cliff\, New Mexico\, 88038
CATEGORIES:Community Service
ATTACH;FMTTYPE=image/jpeg:https://glenwoodlibrary.com/wp-content/uploads/2024/01/food-program.jpg
END:VEVENT
BEGIN:VEVENT
DTSTART;TZID=America/Denver:20280215T120000
DTEND;TZID=America/Denver:20280215T140000
DTSTAMP:20260421T163629
CREATED:20240207T071800Z
LAST-MODIFIED:20240207T071800Z
UID:10001815-1834228800-1834236000@glenwoodlibrary.com
SUMMARY:Cliff/Gila Food Pantry
DESCRIPTION:Location\nCliff Fairground Building \nAvailable for residents in these areas\n88028\, 88038\, 88051\, 88055 \nFood distribution is a drive-thru.  Please bring your pantry ID card or bring a picture ID and a separate proof of physical address.
URL:https://glenwoodlibrary.com/event/cliff-gila-food-pantry/2028-02-15/
LOCATION:Grant County Fairgrounds\, 16 Arena Road\, Cliff\, New Mexico\, 88038
CATEGORIES:Community Service
ATTACH;FMTTYPE=image/jpeg:https://glenwoodlibrary.com/wp-content/uploads/2024/01/food-program.jpg
END:VEVENT
BEGIN:VEVENT
DTSTART;TZID=America/Denver:20280321T120000
DTEND;TZID=America/Denver:20280321T140000
DTSTAMP:20260421T163629
CREATED:20240207T071800Z
LAST-MODIFIED:20240207T071800Z
UID:10001816-1837252800-1837260000@glenwoodlibrary.com
SUMMARY:Cliff/Gila Food Pantry
DESCRIPTION:Location\nCliff Fairground Building \nAvailable for residents in these areas\n88028\, 88038\, 88051\, 88055 \nFood distribution is a drive-thru.  Please bring your pantry ID card or bring a picture ID and a separate proof of physical address.
URL:https://glenwoodlibrary.com/event/cliff-gila-food-pantry/2028-03-21/
LOCATION:Grant County Fairgrounds\, 16 Arena Road\, Cliff\, New Mexico\, 88038
CATEGORIES:Community Service
ATTACH;FMTTYPE=image/jpeg:https://glenwoodlibrary.com/wp-content/uploads/2024/01/food-program.jpg
END:VEVENT
BEGIN:VEVENT
DTSTART;TZID=America/Denver:20280418T120000
DTEND;TZID=America/Denver:20280418T140000
DTSTAMP:20260421T163629
CREATED:20240207T071800Z
LAST-MODIFIED:20240207T071800Z
UID:10001817-1839672000-1839679200@glenwoodlibrary.com
SUMMARY:Cliff/Gila Food Pantry
DESCRIPTION:Location\nCliff Fairground Building \nAvailable for residents in these areas\n88028\, 88038\, 88051\, 88055 \nFood distribution is a drive-thru.  Please bring your pantry ID card or bring a picture ID and a separate proof of physical address.
URL:https://glenwoodlibrary.com/event/cliff-gila-food-pantry/2028-04-18/
LOCATION:Grant County Fairgrounds\, 16 Arena Road\, Cliff\, New Mexico\, 88038
CATEGORIES:Community Service
ATTACH;FMTTYPE=image/jpeg:https://glenwoodlibrary.com/wp-content/uploads/2024/01/food-program.jpg
END:VEVENT
BEGIN:VEVENT
DTSTART;TZID=America/Denver:20280516T120000
DTEND;TZID=America/Denver:20280516T140000
DTSTAMP:20260421T163629
CREATED:20240207T071800Z
LAST-MODIFIED:20240207T071800Z
UID:10001818-1842091200-1842098400@glenwoodlibrary.com
SUMMARY:Cliff/Gila Food Pantry
DESCRIPTION:Location\nCliff Fairground Building \nAvailable for residents in these areas\n88028\, 88038\, 88051\, 88055 \nFood distribution is a drive-thru.  Please bring your pantry ID card or bring a picture ID and a separate proof of physical address.
URL:https://glenwoodlibrary.com/event/cliff-gila-food-pantry/2028-05-16/
LOCATION:Grant County Fairgrounds\, 16 Arena Road\, Cliff\, New Mexico\, 88038
CATEGORIES:Community Service
ATTACH;FMTTYPE=image/jpeg:https://glenwoodlibrary.com/wp-content/uploads/2024/01/food-program.jpg
END:VEVENT
BEGIN:VEVENT
DTSTART;TZID=America/Denver:20280620T120000
DTEND;TZID=America/Denver:20280620T140000
DTSTAMP:20260421T163629
CREATED:20240207T071800Z
LAST-MODIFIED:20240207T071800Z
UID:10001819-1845115200-1845122400@glenwoodlibrary.com
SUMMARY:Cliff/Gila Food Pantry
DESCRIPTION:Location\nCliff Fairground Building \nAvailable for residents in these areas\n88028\, 88038\, 88051\, 88055 \nFood distribution is a drive-thru.  Please bring your pantry ID card or bring a picture ID and a separate proof of physical address.
URL:https://glenwoodlibrary.com/event/cliff-gila-food-pantry/2028-06-20/
LOCATION:Grant County Fairgrounds\, 16 Arena Road\, Cliff\, New Mexico\, 88038
CATEGORIES:Community Service
ATTACH;FMTTYPE=image/jpeg:https://glenwoodlibrary.com/wp-content/uploads/2024/01/food-program.jpg
END:VEVENT
BEGIN:VEVENT
DTSTART;TZID=America/Denver:20280718T120000
DTEND;TZID=America/Denver:20280718T140000
DTSTAMP:20260421T163629
CREATED:20240207T071800Z
LAST-MODIFIED:20240207T071800Z
UID:10001820-1847534400-1847541600@glenwoodlibrary.com
SUMMARY:Cliff/Gila Food Pantry
DESCRIPTION:Location\nCliff Fairground Building \nAvailable for residents in these areas\n88028\, 88038\, 88051\, 88055 \nFood distribution is a drive-thru.  Please bring your pantry ID card or bring a picture ID and a separate proof of physical address.
URL:https://glenwoodlibrary.com/event/cliff-gila-food-pantry/2028-07-18/
LOCATION:Grant County Fairgrounds\, 16 Arena Road\, Cliff\, New Mexico\, 88038
CATEGORIES:Community Service
ATTACH;FMTTYPE=image/jpeg:https://glenwoodlibrary.com/wp-content/uploads/2024/01/food-program.jpg
END:VEVENT
BEGIN:VEVENT
DTSTART;TZID=America/Denver:20280815T120000
DTEND;TZID=America/Denver:20280815T140000
DTSTAMP:20260421T163629
CREATED:20240207T071800Z
LAST-MODIFIED:20240207T071800Z
UID:10001821-1849953600-1849960800@glenwoodlibrary.com
SUMMARY:Cliff/Gila Food Pantry
DESCRIPTION:Location\nCliff Fairground Building \nAvailable for residents in these areas\n88028\, 88038\, 88051\, 88055 \nFood distribution is a drive-thru.  Please bring your pantry ID card or bring a picture ID and a separate proof of physical address.
URL:https://glenwoodlibrary.com/event/cliff-gila-food-pantry/2028-08-15/
LOCATION:Grant County Fairgrounds\, 16 Arena Road\, Cliff\, New Mexico\, 88038
CATEGORIES:Community Service
ATTACH;FMTTYPE=image/jpeg:https://glenwoodlibrary.com/wp-content/uploads/2024/01/food-program.jpg
END:VEVENT
BEGIN:VEVENT
DTSTART;TZID=America/Denver:20280919T120000
DTEND;TZID=America/Denver:20280919T140000
DTSTAMP:20260421T163629
CREATED:20240207T071800Z
LAST-MODIFIED:20240207T071800Z
UID:10001822-1852977600-1852984800@glenwoodlibrary.com
SUMMARY:Cliff/Gila Food Pantry
DESCRIPTION:Location\nCliff Fairground Building \nAvailable for residents in these areas\n88028\, 88038\, 88051\, 88055 \nFood distribution is a drive-thru.  Please bring your pantry ID card or bring a picture ID and a separate proof of physical address.
URL:https://glenwoodlibrary.com/event/cliff-gila-food-pantry/2028-09-19/
LOCATION:Grant County Fairgrounds\, 16 Arena Road\, Cliff\, New Mexico\, 88038
CATEGORIES:Community Service
ATTACH;FMTTYPE=image/jpeg:https://glenwoodlibrary.com/wp-content/uploads/2024/01/food-program.jpg
END:VEVENT
BEGIN:VEVENT
DTSTART;TZID=America/Denver:20281017T120000
DTEND;TZID=America/Denver:20281017T140000
DTSTAMP:20260421T163629
CREATED:20240207T071800Z
LAST-MODIFIED:20240207T071800Z
UID:10001823-1855396800-1855404000@glenwoodlibrary.com
SUMMARY:Cliff/Gila Food Pantry
DESCRIPTION:Location\nCliff Fairground Building \nAvailable for residents in these areas\n88028\, 88038\, 88051\, 88055 \nFood distribution is a drive-thru.  Please bring your pantry ID card or bring a picture ID and a separate proof of physical address.
URL:https://glenwoodlibrary.com/event/cliff-gila-food-pantry/2028-10-17/
LOCATION:Grant County Fairgrounds\, 16 Arena Road\, Cliff\, New Mexico\, 88038
CATEGORIES:Community Service
ATTACH;FMTTYPE=image/jpeg:https://glenwoodlibrary.com/wp-content/uploads/2024/01/food-program.jpg
END:VEVENT
BEGIN:VEVENT
DTSTART;TZID=America/Denver:20281121T120000
DTEND;TZID=America/Denver:20281121T140000
DTSTAMP:20260421T163629
CREATED:20240207T071800Z
LAST-MODIFIED:20240207T071800Z
UID:10001824-1858420800-1858428000@glenwoodlibrary.com
SUMMARY:Cliff/Gila Food Pantry
DESCRIPTION:Location\nCliff Fairground Building \nAvailable for residents in these areas\n88028\, 88038\, 88051\, 88055 \nFood distribution is a drive-thru.  Please bring your pantry ID card or bring a picture ID and a separate proof of physical address.
URL:https://glenwoodlibrary.com/event/cliff-gila-food-pantry/2028-11-21/
LOCATION:Grant County Fairgrounds\, 16 Arena Road\, Cliff\, New Mexico\, 88038
CATEGORIES:Community Service
ATTACH;FMTTYPE=image/jpeg:https://glenwoodlibrary.com/wp-content/uploads/2024/01/food-program.jpg
END:VEVENT
BEGIN:VEVENT
DTSTART;TZID=America/Denver:20281219T120000
DTEND;TZID=America/Denver:20281219T140000
DTSTAMP:20260421T163629
CREATED:20240207T071800Z
LAST-MODIFIED:20240207T071800Z
UID:10001825-1860840000-1860847200@glenwoodlibrary.com
SUMMARY:Cliff/Gila Food Pantry
DESCRIPTION:Location\nCliff Fairground Building \nAvailable for residents in these areas\n88028\, 88038\, 88051\, 88055 \nFood distribution is a drive-thru.  Please bring your pantry ID card or bring a picture ID and a separate proof of physical address.
URL:https://glenwoodlibrary.com/event/cliff-gila-food-pantry/2028-12-19/
LOCATION:Grant County Fairgrounds\, 16 Arena Road\, Cliff\, New Mexico\, 88038
CATEGORIES:Community Service
ATTACH;FMTTYPE=image/jpeg:https://glenwoodlibrary.com/wp-content/uploads/2024/01/food-program.jpg
END:VEVENT
BEGIN:VEVENT
DTSTART;TZID=America/Denver:20290116T120000
DTEND;TZID=America/Denver:20290116T140000
DTSTAMP:20260421T163629
CREATED:20240207T071800Z
LAST-MODIFIED:20240207T071800Z
UID:10001826-1863259200-1863266400@glenwoodlibrary.com
SUMMARY:Cliff/Gila Food Pantry
DESCRIPTION:Location\nCliff Fairground Building \nAvailable for residents in these areas\n88028\, 88038\, 88051\, 88055 \nFood distribution is a drive-thru.  Please bring your pantry ID card or bring a picture ID and a separate proof of physical address.
URL:https://glenwoodlibrary.com/event/cliff-gila-food-pantry/2029-01-16/
LOCATION:Grant County Fairgrounds\, 16 Arena Road\, Cliff\, New Mexico\, 88038
CATEGORIES:Community Service
ATTACH;FMTTYPE=image/jpeg:https://glenwoodlibrary.com/wp-content/uploads/2024/01/food-program.jpg
END:VEVENT
END:VCALENDAR