BEGIN:VCALENDAR
VERSION:2.0
PRODID:-// - ECPv6.15.20//NONSGML v1.0//EN
CALSCALE:GREGORIAN
METHOD:PUBLISH
X-ORIGINAL-URL:https://glenwoodlibrary.com
X-WR-CALDESC:Events for 
REFRESH-INTERVAL;VALUE=DURATION:PT1H
X-Robots-Tag:noindex
X-PUBLISHED-TTL:PT1H
BEGIN:VTIMEZONE
TZID:America/Denver
BEGIN:DAYLIGHT
TZOFFSETFROM:-0700
TZOFFSETTO:-0600
TZNAME:MDT
DTSTART:20240310T090000
END:DAYLIGHT
BEGIN:STANDARD
TZOFFSETFROM:-0600
TZOFFSETTO:-0700
TZNAME:MST
DTSTART:20241103T080000
END:STANDARD
BEGIN:DAYLIGHT
TZOFFSETFROM:-0700
TZOFFSETTO:-0600
TZNAME:MDT
DTSTART:20250309T090000
END:DAYLIGHT
BEGIN:STANDARD
TZOFFSETFROM:-0600
TZOFFSETTO:-0700
TZNAME:MST
DTSTART:20251102T080000
END:STANDARD
BEGIN:DAYLIGHT
TZOFFSETFROM:-0700
TZOFFSETTO:-0600
TZNAME:MDT
DTSTART:20260308T090000
END:DAYLIGHT
BEGIN:STANDARD
TZOFFSETFROM:-0600
TZOFFSETTO:-0700
TZNAME:MST
DTSTART:20261101T080000
END:STANDARD
BEGIN:DAYLIGHT
TZOFFSETFROM:-0700
TZOFFSETTO:-0600
TZNAME:MDT
DTSTART:20270314T090000
END:DAYLIGHT
BEGIN:STANDARD
TZOFFSETFROM:-0600
TZOFFSETTO:-0700
TZNAME:MST
DTSTART:20271107T080000
END:STANDARD
END:VTIMEZONE
BEGIN:VEVENT
DTSTART;TZID=America/Denver:20260408T090000
DTEND;TZID=America/Denver:20260408T160000
DTSTAMP:20260424T022719
CREATED:20240820T022622Z
LAST-MODIFIED:20240820T022622Z
UID:10002430-1775638800-1775664000@glenwoodlibrary.com
SUMMARY:Catron County Commission Meeting
DESCRIPTION:Where:\nFire Administration Building\n3 Mountaineer Road\nReserve  NM  87830 \nContact Name:\nKelly Schilleman \nContact Phone:\n575-533-6423
URL:https://glenwoodlibrary.com/event/catron-county-commission-meeting-2/2026-04-08/
LOCATION:Reserve\, Reserve\, NM\, 87830
CATEGORIES:Meeting
ATTACH;FMTTYPE=image/png:https://glenwoodlibrary.com/wp-content/uploads/2024/08/catron-county-logo.png
ORGANIZER;CN="Catron County":MAILTO:dusty.choate@catroncountynm.gov
END:VEVENT
BEGIN:VEVENT
DTSTART;TZID=America/Denver:20260405T130000
DTEND;TZID=America/Denver:20260405T143000
DTSTAMP:20260424T022719
CREATED:20260403T235517Z
LAST-MODIFIED:20260403T235517Z
UID:10007852-1775394000-1775399400@glenwoodlibrary.com
SUMMARY:Reserve Egg Hunt
DESCRIPTION:
URL:https://glenwoodlibrary.com/event/reserve-egg-hunt/
LOCATION:Reserve\, Reserve\, NM\, 87830
CATEGORIES:Celebration,Holiday Event,Kids
ATTACH;FMTTYPE=image/jpeg:https://glenwoodlibrary.com/wp-content/uploads/2026/04/reserve-egg-hunt-040526.jpg
END:VEVENT
BEGIN:VEVENT
DTSTART;TZID=America/Denver:20260314T090000
DTEND;TZID=America/Denver:20260314T140000
DTSTAMP:20260424T022719
CREATED:20241006T052201Z
LAST-MODIFIED:20241006T052356Z
UID:10004009-1773478800-1773496800@glenwoodlibrary.com
SUMMARY:Mobile Farmers Market
DESCRIPTION:
URL:https://glenwoodlibrary.com/event/mobile-farmers-market/2026-03-14/
LOCATION:Reserve\, Reserve\, NM\, 87830
CATEGORIES:Community Service
ATTACH;FMTTYPE=image/jpeg:https://glenwoodlibrary.com/wp-content/uploads/2024/10/mobile-farmers-market.jpeg
ORGANIZER;CN="Frontier Food Hub":MAILTO:foodhub@frontierus.org
END:VEVENT
BEGIN:VEVENT
DTSTART;TZID=America/Denver:20260311T090000
DTEND;TZID=America/Denver:20260311T160000
DTSTAMP:20260424T022719
CREATED:20240820T022622Z
LAST-MODIFIED:20240820T022622Z
UID:10002429-1773219600-1773244800@glenwoodlibrary.com
SUMMARY:Catron County Commission Meeting
DESCRIPTION:Where:\nFire Administration Building\n3 Mountaineer Road\nReserve  NM  87830 \nContact Name:\nKelly Schilleman \nContact Phone:\n575-533-6423
URL:https://glenwoodlibrary.com/event/catron-county-commission-meeting-2/2026-03-11/
LOCATION:Reserve\, Reserve\, NM\, 87830
CATEGORIES:Meeting
ATTACH;FMTTYPE=image/png:https://glenwoodlibrary.com/wp-content/uploads/2024/08/catron-county-logo.png
ORGANIZER;CN="Catron County":MAILTO:dusty.choate@catroncountynm.gov
END:VEVENT
BEGIN:VEVENT
DTSTART;TZID=America/Denver:20260214T090000
DTEND;TZID=America/Denver:20260214T140000
DTSTAMP:20260424T022719
CREATED:20241006T052201Z
LAST-MODIFIED:20241006T052356Z
UID:10004008-1771059600-1771077600@glenwoodlibrary.com
SUMMARY:Mobile Farmers Market
DESCRIPTION:
URL:https://glenwoodlibrary.com/event/mobile-farmers-market/2026-02-14/
LOCATION:Reserve\, Reserve\, NM\, 87830
CATEGORIES:Community Service
ATTACH;FMTTYPE=image/jpeg:https://glenwoodlibrary.com/wp-content/uploads/2024/10/mobile-farmers-market.jpeg
ORGANIZER;CN="Frontier Food Hub":MAILTO:foodhub@frontierus.org
END:VEVENT
BEGIN:VEVENT
DTSTART;TZID=America/Denver:20260211T090000
DTEND;TZID=America/Denver:20260211T160000
DTSTAMP:20260424T022719
CREATED:20240820T022622Z
LAST-MODIFIED:20240820T022622Z
UID:10002428-1770800400-1770825600@glenwoodlibrary.com
SUMMARY:Catron County Commission Meeting
DESCRIPTION:Where:\nFire Administration Building\n3 Mountaineer Road\nReserve  NM  87830 \nContact Name:\nKelly Schilleman \nContact Phone:\n575-533-6423
URL:https://glenwoodlibrary.com/event/catron-county-commission-meeting-2/2026-02-11/
LOCATION:Reserve\, Reserve\, NM\, 87830
CATEGORIES:Meeting
ATTACH;FMTTYPE=image/png:https://glenwoodlibrary.com/wp-content/uploads/2024/08/catron-county-logo.png
ORGANIZER;CN="Catron County":MAILTO:dusty.choate@catroncountynm.gov
END:VEVENT
BEGIN:VEVENT
DTSTART;TZID=America/Denver:20260114T090000
DTEND;TZID=America/Denver:20260114T160000
DTSTAMP:20260424T022719
CREATED:20240820T022622Z
LAST-MODIFIED:20240820T022622Z
UID:10002427-1768381200-1768406400@glenwoodlibrary.com
SUMMARY:Catron County Commission Meeting
DESCRIPTION:Where:\nFire Administration Building\n3 Mountaineer Road\nReserve  NM  87830 \nContact Name:\nKelly Schilleman \nContact Phone:\n575-533-6423
URL:https://glenwoodlibrary.com/event/catron-county-commission-meeting-2/2026-01-14/
LOCATION:Reserve\, Reserve\, NM\, 87830
CATEGORIES:Meeting
ATTACH;FMTTYPE=image/png:https://glenwoodlibrary.com/wp-content/uploads/2024/08/catron-county-logo.png
ORGANIZER;CN="Catron County":MAILTO:dusty.choate@catroncountynm.gov
END:VEVENT
BEGIN:VEVENT
DTSTART;TZID=America/Denver:20260110T090000
DTEND;TZID=America/Denver:20260110T140000
DTSTAMP:20260424T022719
CREATED:20241006T052201Z
LAST-MODIFIED:20241006T052356Z
UID:10004007-1768035600-1768053600@glenwoodlibrary.com
SUMMARY:Mobile Farmers Market
DESCRIPTION:
URL:https://glenwoodlibrary.com/event/mobile-farmers-market/2026-01-10/
LOCATION:Reserve\, Reserve\, NM\, 87830
CATEGORIES:Community Service
ATTACH;FMTTYPE=image/jpeg:https://glenwoodlibrary.com/wp-content/uploads/2024/10/mobile-farmers-market.jpeg
ORGANIZER;CN="Frontier Food Hub":MAILTO:foodhub@frontierus.org
END:VEVENT
BEGIN:VEVENT
DTSTART;TZID=America/Denver:20251213T090000
DTEND;TZID=America/Denver:20251213T140000
DTSTAMP:20260424T022719
CREATED:20241006T052201Z
LAST-MODIFIED:20241006T052356Z
UID:10004006-1765616400-1765634400@glenwoodlibrary.com
SUMMARY:Mobile Farmers Market
DESCRIPTION:
URL:https://glenwoodlibrary.com/event/mobile-farmers-market/2025-12-13/
LOCATION:Reserve\, Reserve\, NM\, 87830
CATEGORIES:Community Service
ATTACH;FMTTYPE=image/jpeg:https://glenwoodlibrary.com/wp-content/uploads/2024/10/mobile-farmers-market.jpeg
ORGANIZER;CN="Frontier Food Hub":MAILTO:foodhub@frontierus.org
END:VEVENT
BEGIN:VEVENT
DTSTART;TZID=America/Denver:20251210T090000
DTEND;TZID=America/Denver:20251210T160000
DTSTAMP:20260424T022719
CREATED:20240820T022622Z
LAST-MODIFIED:20240820T022622Z
UID:10002426-1765357200-1765382400@glenwoodlibrary.com
SUMMARY:Catron County Commission Meeting
DESCRIPTION:Where:\nFire Administration Building\n3 Mountaineer Road\nReserve  NM  87830 \nContact Name:\nKelly Schilleman \nContact Phone:\n575-533-6423
URL:https://glenwoodlibrary.com/event/catron-county-commission-meeting-2/2025-12-10/
LOCATION:Reserve\, Reserve\, NM\, 87830
CATEGORIES:Meeting
ATTACH;FMTTYPE=image/png:https://glenwoodlibrary.com/wp-content/uploads/2024/08/catron-county-logo.png
ORGANIZER;CN="Catron County":MAILTO:dusty.choate@catroncountynm.gov
END:VEVENT
BEGIN:VEVENT
DTSTART;TZID=America/Denver:20251205T080000
DTEND;TZID=America/Denver:20251205T170000
DTSTAMP:20260424T022719
CREATED:20240206T063337Z
LAST-MODIFIED:20240206T063337Z
UID:10001752-1764921600-1764954000@glenwoodlibrary.com
SUMMARY:Reserve Senior Food Bank
DESCRIPTION:Fairground Building
URL:https://glenwoodlibrary.com/event/reserve-senior-food-bank/2025-12-05/
LOCATION:Reserve\, Reserve\, NM\, 87830
CATEGORIES:Community Service
ATTACH;FMTTYPE=image/jpeg:https://glenwoodlibrary.com/wp-content/uploads/2024/01/food-program.jpg
END:VEVENT
BEGIN:VEVENT
DTSTART;TZID=America/Denver:20251112T090000
DTEND;TZID=America/Denver:20251112T160000
DTSTAMP:20260424T022719
CREATED:20240820T022622Z
LAST-MODIFIED:20240820T022622Z
UID:10002425-1762938000-1762963200@glenwoodlibrary.com
SUMMARY:Catron County Commission Meeting
DESCRIPTION:Where:\nFire Administration Building\n3 Mountaineer Road\nReserve  NM  87830 \nContact Name:\nKelly Schilleman \nContact Phone:\n575-533-6423
URL:https://glenwoodlibrary.com/event/catron-county-commission-meeting-2/2025-11-12/
LOCATION:Reserve\, Reserve\, NM\, 87830
CATEGORIES:Meeting
ATTACH;FMTTYPE=image/png:https://glenwoodlibrary.com/wp-content/uploads/2024/08/catron-county-logo.png
ORGANIZER;CN="Catron County":MAILTO:dusty.choate@catroncountynm.gov
END:VEVENT
BEGIN:VEVENT
DTSTART;TZID=America/Denver:20251108T090000
DTEND;TZID=America/Denver:20251108T140000
DTSTAMP:20260424T022719
CREATED:20241006T052201Z
LAST-MODIFIED:20241006T052356Z
UID:10004005-1762592400-1762610400@glenwoodlibrary.com
SUMMARY:Mobile Farmers Market
DESCRIPTION:
URL:https://glenwoodlibrary.com/event/mobile-farmers-market/2025-11-08/
LOCATION:Reserve\, Reserve\, NM\, 87830
CATEGORIES:Community Service
ATTACH;FMTTYPE=image/jpeg:https://glenwoodlibrary.com/wp-content/uploads/2024/10/mobile-farmers-market.jpeg
ORGANIZER;CN="Frontier Food Hub":MAILTO:foodhub@frontierus.org
END:VEVENT
BEGIN:VEVENT
DTSTART;TZID=America/Denver:20251107T080000
DTEND;TZID=America/Denver:20251107T170000
DTSTAMP:20260424T022719
CREATED:20240206T063337Z
LAST-MODIFIED:20240206T063337Z
UID:10001751-1762502400-1762534800@glenwoodlibrary.com
SUMMARY:Reserve Senior Food Bank
DESCRIPTION:Fairground Building
URL:https://glenwoodlibrary.com/event/reserve-senior-food-bank/2025-11-07/
LOCATION:Reserve\, Reserve\, NM\, 87830
CATEGORIES:Community Service
ATTACH;FMTTYPE=image/jpeg:https://glenwoodlibrary.com/wp-content/uploads/2024/01/food-program.jpg
END:VEVENT
BEGIN:VEVENT
DTSTART;TZID=America/Denver:20251031T160000
DTEND;TZID=America/Denver:20251031T200000
DTSTAMP:20260424T022719
CREATED:20260403T224934Z
LAST-MODIFIED:20260403T224934Z
UID:10007840-1761926400-1761940800@glenwoodlibrary.com
SUMMARY:Reserve Trunk or Treat
DESCRIPTION:
URL:https://glenwoodlibrary.com/event/reserve-trunk-or-treat/
LOCATION:Reserve\, Reserve\, NM\, 87830
CATEGORIES:Celebration,Holiday Event
ATTACH;FMTTYPE=image/jpeg:https://glenwoodlibrary.com/wp-content/uploads/2026/04/reserve-halloween-103125.jpg
ORGANIZER;CN="Amplified Therapy":MAILTO:info@amplifiedtherapy.com
END:VEVENT
BEGIN:VEVENT
DTSTART;TZID=America/Denver:20251011T090000
DTEND;TZID=America/Denver:20251011T140000
DTSTAMP:20260424T022719
CREATED:20241006T052201Z
LAST-MODIFIED:20241006T052356Z
UID:10004004-1760173200-1760191200@glenwoodlibrary.com
SUMMARY:Mobile Farmers Market
DESCRIPTION:
URL:https://glenwoodlibrary.com/event/mobile-farmers-market/2025-10-11/
LOCATION:Reserve\, Reserve\, NM\, 87830
CATEGORIES:Community Service
ATTACH;FMTTYPE=image/jpeg:https://glenwoodlibrary.com/wp-content/uploads/2024/10/mobile-farmers-market.jpeg
ORGANIZER;CN="Frontier Food Hub":MAILTO:foodhub@frontierus.org
END:VEVENT
BEGIN:VEVENT
DTSTART;TZID=America/Denver:20251008T090000
DTEND;TZID=America/Denver:20251008T160000
DTSTAMP:20260424T022719
CREATED:20240820T022622Z
LAST-MODIFIED:20240820T022622Z
UID:10002424-1759914000-1759939200@glenwoodlibrary.com
SUMMARY:Catron County Commission Meeting
DESCRIPTION:Where:\nFire Administration Building\n3 Mountaineer Road\nReserve  NM  87830 \nContact Name:\nKelly Schilleman \nContact Phone:\n575-533-6423
URL:https://glenwoodlibrary.com/event/catron-county-commission-meeting-2/2025-10-08/
LOCATION:Reserve\, Reserve\, NM\, 87830
CATEGORIES:Meeting
ATTACH;FMTTYPE=image/png:https://glenwoodlibrary.com/wp-content/uploads/2024/08/catron-county-logo.png
ORGANIZER;CN="Catron County":MAILTO:dusty.choate@catroncountynm.gov
END:VEVENT
BEGIN:VEVENT
DTSTART;TZID=America/Denver:20251003T080000
DTEND;TZID=America/Denver:20251003T170000
DTSTAMP:20260424T022719
CREATED:20240206T063337Z
LAST-MODIFIED:20240206T063337Z
UID:10001750-1759478400-1759510800@glenwoodlibrary.com
SUMMARY:Reserve Senior Food Bank
DESCRIPTION:Fairground Building
URL:https://glenwoodlibrary.com/event/reserve-senior-food-bank/2025-10-03/
LOCATION:Reserve\, Reserve\, NM\, 87830
CATEGORIES:Community Service
ATTACH;FMTTYPE=image/jpeg:https://glenwoodlibrary.com/wp-content/uploads/2024/01/food-program.jpg
END:VEVENT
BEGIN:VEVENT
DTSTART;TZID=America/Denver:20250913T090000
DTEND;TZID=America/Denver:20250913T140000
DTSTAMP:20260424T022719
CREATED:20241006T052201Z
LAST-MODIFIED:20241006T052356Z
UID:10004003-1757754000-1757772000@glenwoodlibrary.com
SUMMARY:Mobile Farmers Market
DESCRIPTION:
URL:https://glenwoodlibrary.com/event/mobile-farmers-market/2025-09-13/
LOCATION:Reserve\, Reserve\, NM\, 87830
CATEGORIES:Community Service
ATTACH;FMTTYPE=image/jpeg:https://glenwoodlibrary.com/wp-content/uploads/2024/10/mobile-farmers-market.jpeg
ORGANIZER;CN="Frontier Food Hub":MAILTO:foodhub@frontierus.org
END:VEVENT
BEGIN:VEVENT
DTSTART;TZID=America/Denver:20250910T090000
DTEND;TZID=America/Denver:20250910T160000
DTSTAMP:20260424T022719
CREATED:20240820T022622Z
LAST-MODIFIED:20240820T022622Z
UID:10002423-1757494800-1757520000@glenwoodlibrary.com
SUMMARY:Catron County Commission Meeting
DESCRIPTION:Where:\nFire Administration Building\n3 Mountaineer Road\nReserve  NM  87830 \nContact Name:\nKelly Schilleman \nContact Phone:\n575-533-6423
URL:https://glenwoodlibrary.com/event/catron-county-commission-meeting-2/2025-09-10/
LOCATION:Reserve\, Reserve\, NM\, 87830
CATEGORIES:Meeting
ATTACH;FMTTYPE=image/png:https://glenwoodlibrary.com/wp-content/uploads/2024/08/catron-county-logo.png
ORGANIZER;CN="Catron County":MAILTO:dusty.choate@catroncountynm.gov
END:VEVENT
BEGIN:VEVENT
DTSTART;TZID=America/Denver:20250905T080000
DTEND;TZID=America/Denver:20250905T170000
DTSTAMP:20260424T022719
CREATED:20240206T063337Z
LAST-MODIFIED:20240206T063337Z
UID:10001749-1757059200-1757091600@glenwoodlibrary.com
SUMMARY:Reserve Senior Food Bank
DESCRIPTION:Fairground Building
URL:https://glenwoodlibrary.com/event/reserve-senior-food-bank/2025-09-05/
LOCATION:Reserve\, Reserve\, NM\, 87830
CATEGORIES:Community Service
ATTACH;FMTTYPE=image/jpeg:https://glenwoodlibrary.com/wp-content/uploads/2024/01/food-program.jpg
END:VEVENT
BEGIN:VEVENT
DTSTART;TZID=America/Denver:20250813T090000
DTEND;TZID=America/Denver:20250813T160000
DTSTAMP:20260424T022719
CREATED:20240820T022622Z
LAST-MODIFIED:20240820T022622Z
UID:10002422-1755075600-1755100800@glenwoodlibrary.com
SUMMARY:Catron County Commission Meeting
DESCRIPTION:Where:\nFire Administration Building\n3 Mountaineer Road\nReserve  NM  87830 \nContact Name:\nKelly Schilleman \nContact Phone:\n575-533-6423
URL:https://glenwoodlibrary.com/event/catron-county-commission-meeting-2/2025-08-13/
LOCATION:Reserve\, Reserve\, NM\, 87830
CATEGORIES:Meeting
ATTACH;FMTTYPE=image/png:https://glenwoodlibrary.com/wp-content/uploads/2024/08/catron-county-logo.png
ORGANIZER;CN="Catron County":MAILTO:dusty.choate@catroncountynm.gov
END:VEVENT
BEGIN:VEVENT
DTSTART;TZID=America/Denver:20250809T090000
DTEND;TZID=America/Denver:20250809T140000
DTSTAMP:20260424T022719
CREATED:20241006T052201Z
LAST-MODIFIED:20241006T052356Z
UID:10004002-1754730000-1754748000@glenwoodlibrary.com
SUMMARY:Mobile Farmers Market
DESCRIPTION:
URL:https://glenwoodlibrary.com/event/mobile-farmers-market/2025-08-09/
LOCATION:Reserve\, Reserve\, NM\, 87830
CATEGORIES:Community Service
ATTACH;FMTTYPE=image/jpeg:https://glenwoodlibrary.com/wp-content/uploads/2024/10/mobile-farmers-market.jpeg
ORGANIZER;CN="Frontier Food Hub":MAILTO:foodhub@frontierus.org
END:VEVENT
BEGIN:VEVENT
DTSTART;TZID=America/Denver:20250801T080000
DTEND;TZID=America/Denver:20250801T170000
DTSTAMP:20260424T022719
CREATED:20240206T063337Z
LAST-MODIFIED:20240206T063337Z
UID:10001748-1754035200-1754067600@glenwoodlibrary.com
SUMMARY:Reserve Senior Food Bank
DESCRIPTION:Fairground Building
URL:https://glenwoodlibrary.com/event/reserve-senior-food-bank/2025-08-01/
LOCATION:Reserve\, Reserve\, NM\, 87830
CATEGORIES:Community Service
ATTACH;FMTTYPE=image/jpeg:https://glenwoodlibrary.com/wp-content/uploads/2024/01/food-program.jpg
END:VEVENT
BEGIN:VEVENT
DTSTART;TZID=America/Denver:20250712T090000
DTEND;TZID=America/Denver:20250712T140000
DTSTAMP:20260424T022719
CREATED:20241006T052201Z
LAST-MODIFIED:20241006T052356Z
UID:10004001-1752310800-1752328800@glenwoodlibrary.com
SUMMARY:Mobile Farmers Market
DESCRIPTION:
URL:https://glenwoodlibrary.com/event/mobile-farmers-market/2025-07-12/
LOCATION:Reserve\, Reserve\, NM\, 87830
CATEGORIES:Community Service
ATTACH;FMTTYPE=image/jpeg:https://glenwoodlibrary.com/wp-content/uploads/2024/10/mobile-farmers-market.jpeg
ORGANIZER;CN="Frontier Food Hub":MAILTO:foodhub@frontierus.org
END:VEVENT
BEGIN:VEVENT
DTSTART;TZID=America/Denver:20250709T090000
DTEND;TZID=America/Denver:20250709T160000
DTSTAMP:20260424T022719
CREATED:20240820T022622Z
LAST-MODIFIED:20240820T022622Z
UID:10002421-1752051600-1752076800@glenwoodlibrary.com
SUMMARY:Catron County Commission Meeting
DESCRIPTION:Where:\nFire Administration Building\n3 Mountaineer Road\nReserve  NM  87830 \nContact Name:\nKelly Schilleman \nContact Phone:\n575-533-6423
URL:https://glenwoodlibrary.com/event/catron-county-commission-meeting-2/2025-07-09/
LOCATION:Reserve\, Reserve\, NM\, 87830
CATEGORIES:Meeting
ATTACH;FMTTYPE=image/png:https://glenwoodlibrary.com/wp-content/uploads/2024/08/catron-county-logo.png
ORGANIZER;CN="Catron County":MAILTO:dusty.choate@catroncountynm.gov
END:VEVENT
BEGIN:VEVENT
DTSTART;TZID=America/Denver:20250704T080000
DTEND;TZID=America/Denver:20250704T170000
DTSTAMP:20260424T022719
CREATED:20240206T063337Z
LAST-MODIFIED:20240206T063337Z
UID:10001747-1751616000-1751648400@glenwoodlibrary.com
SUMMARY:Reserve Senior Food Bank
DESCRIPTION:Fairground Building
URL:https://glenwoodlibrary.com/event/reserve-senior-food-bank/2025-07-04/
LOCATION:Reserve\, Reserve\, NM\, 87830
CATEGORIES:Community Service
ATTACH;FMTTYPE=image/jpeg:https://glenwoodlibrary.com/wp-content/uploads/2024/01/food-program.jpg
END:VEVENT
BEGIN:VEVENT
DTSTART;TZID=America/Denver:20250614T090000
DTEND;TZID=America/Denver:20250614T140000
DTSTAMP:20260424T022719
CREATED:20241006T052201Z
LAST-MODIFIED:20241006T052356Z
UID:10004000-1749891600-1749909600@glenwoodlibrary.com
SUMMARY:Mobile Farmers Market
DESCRIPTION:
URL:https://glenwoodlibrary.com/event/mobile-farmers-market/2025-06-14/
LOCATION:Reserve\, Reserve\, NM\, 87830
CATEGORIES:Community Service
ATTACH;FMTTYPE=image/jpeg:https://glenwoodlibrary.com/wp-content/uploads/2024/10/mobile-farmers-market.jpeg
ORGANIZER;CN="Frontier Food Hub":MAILTO:foodhub@frontierus.org
END:VEVENT
BEGIN:VEVENT
DTSTART;TZID=America/Denver:20250611T090000
DTEND;TZID=America/Denver:20250611T160000
DTSTAMP:20260424T022719
CREATED:20240820T022622Z
LAST-MODIFIED:20240820T022622Z
UID:10002420-1749632400-1749657600@glenwoodlibrary.com
SUMMARY:Catron County Commission Meeting
DESCRIPTION:Where:\nFire Administration Building\n3 Mountaineer Road\nReserve  NM  87830 \nContact Name:\nKelly Schilleman \nContact Phone:\n575-533-6423
URL:https://glenwoodlibrary.com/event/catron-county-commission-meeting-2/2025-06-11/
LOCATION:Reserve\, Reserve\, NM\, 87830
CATEGORIES:Meeting
ATTACH;FMTTYPE=image/png:https://glenwoodlibrary.com/wp-content/uploads/2024/08/catron-county-logo.png
ORGANIZER;CN="Catron County":MAILTO:dusty.choate@catroncountynm.gov
END:VEVENT
BEGIN:VEVENT
DTSTART;TZID=America/Denver:20250606T080000
DTEND;TZID=America/Denver:20250606T170000
DTSTAMP:20260424T022719
CREATED:20240206T063337Z
LAST-MODIFIED:20240206T063337Z
UID:10001746-1749196800-1749229200@glenwoodlibrary.com
SUMMARY:Reserve Senior Food Bank
DESCRIPTION:Fairground Building
URL:https://glenwoodlibrary.com/event/reserve-senior-food-bank/2025-06-06/
LOCATION:Reserve\, Reserve\, NM\, 87830
CATEGORIES:Community Service
ATTACH;FMTTYPE=image/jpeg:https://glenwoodlibrary.com/wp-content/uploads/2024/01/food-program.jpg
END:VEVENT
END:VCALENDAR