BEGIN:VCALENDAR
VERSION:2.0
PRODID:-// - ECPv6.15.20//NONSGML v1.0//EN
CALSCALE:GREGORIAN
METHOD:PUBLISH
X-ORIGINAL-URL:https://glenwoodlibrary.com
X-WR-CALDESC:Events for 
REFRESH-INTERVAL;VALUE=DURATION:PT1H
X-Robots-Tag:noindex
X-PUBLISHED-TTL:PT1H
BEGIN:VTIMEZONE
TZID:America/Denver
BEGIN:DAYLIGHT
TZOFFSETFROM:-0700
TZOFFSETTO:-0600
TZNAME:MDT
DTSTART:20230312T090000
END:DAYLIGHT
BEGIN:STANDARD
TZOFFSETFROM:-0600
TZOFFSETTO:-0700
TZNAME:MST
DTSTART:20231105T080000
END:STANDARD
BEGIN:DAYLIGHT
TZOFFSETFROM:-0700
TZOFFSETTO:-0600
TZNAME:MDT
DTSTART:20240310T090000
END:DAYLIGHT
BEGIN:STANDARD
TZOFFSETFROM:-0600
TZOFFSETTO:-0700
TZNAME:MST
DTSTART:20241103T080000
END:STANDARD
BEGIN:DAYLIGHT
TZOFFSETFROM:-0700
TZOFFSETTO:-0600
TZNAME:MDT
DTSTART:20250309T090000
END:DAYLIGHT
BEGIN:STANDARD
TZOFFSETFROM:-0600
TZOFFSETTO:-0700
TZNAME:MST
DTSTART:20251102T080000
END:STANDARD
BEGIN:DAYLIGHT
TZOFFSETFROM:-0700
TZOFFSETTO:-0600
TZNAME:MDT
DTSTART:20260308T090000
END:DAYLIGHT
BEGIN:STANDARD
TZOFFSETFROM:-0600
TZOFFSETTO:-0700
TZNAME:MST
DTSTART:20261101T080000
END:STANDARD
BEGIN:DAYLIGHT
TZOFFSETFROM:-0700
TZOFFSETTO:-0600
TZNAME:MDT
DTSTART:20270314T090000
END:DAYLIGHT
BEGIN:STANDARD
TZOFFSETFROM:-0600
TZOFFSETTO:-0700
TZNAME:MST
DTSTART:20271107T080000
END:STANDARD
END:VTIMEZONE
BEGIN:VEVENT
DTSTART;TZID=America/Denver:20260417T170000
DTEND;TZID=America/Denver:20260417T210000
DTSTAMP:20260425T052529
CREATED:20260401T180605Z
LAST-MODIFIED:20260401T180605Z
UID:10006272-1776445200-1776459600@glenwoodlibrary.com
SUMMARY:Heart of the Gila Film Screening
DESCRIPTION:Meet & Greet 5pm\nMovie 7pm
URL:https://glenwoodlibrary.com/event/heart-of-the-gila-film-screening/
LOCATION:Whiskey Creek Zocalo\, 11786 Hwy 180 East\, Silver City\, New Mexico\, 88061
CATEGORIES:Community Service,Entertainment,Fundraiser,Movie / Theater
ATTACH;FMTTYPE=image/jpeg:https://glenwoodlibrary.com/wp-content/uploads/2026/04/gila-film-screen-041726.jpg
ORGANIZER;CN="Heart of the Gila":MAILTO:heartofthegila@gmail.com
END:VEVENT
BEGIN:VEVENT
DTSTART;TZID=America/Denver:20260415T180000
DTEND;TZID=America/Denver:20260415T210000
DTSTAMP:20260425T052529
CREATED:20260401T182805Z
LAST-MODIFIED:20260401T182805Z
UID:10006274-1776276000-1776286800@glenwoodlibrary.com
SUMMARY:Bones of JR Jones
DESCRIPTION:
URL:https://glenwoodlibrary.com/event/bones-of-jr-jones/
LOCATION:Whiskey Creek Zocalo\, 11786 Hwy 180 East\, Silver City\, New Mexico\, 88061
CATEGORIES:Music / Dance
ATTACH;FMTTYPE=image/jpeg:https://glenwoodlibrary.com/wp-content/uploads/2026/04/wcz-jones-041526.jpg
END:VEVENT
BEGIN:VEVENT
DTSTART;TZID=America/Denver:20260405T190000
DTEND;TZID=America/Denver:20260405T220000
DTSTAMP:20260425T052529
CREATED:20260401T182033Z
LAST-MODIFIED:20260401T182033Z
UID:10006273-1775415600-1775426400@glenwoodlibrary.com
SUMMARY:Psychedelic Easter Bash - Dead Meadow
DESCRIPTION:
URL:https://glenwoodlibrary.com/event/psychedelic-easter-bash-dead-meadow/
LOCATION:Whiskey Creek Zocalo\, 11786 Hwy 180 East\, Silver City\, New Mexico\, 88061
CATEGORIES:Music / Dance
ATTACH;FMTTYPE=image/jpeg:https://glenwoodlibrary.com/wp-content/uploads/2026/04/wcz-dead-meadow-040526.jpg
END:VEVENT
BEGIN:VEVENT
DTSTART;TZID=America/Denver:20260326T183000
DTEND;TZID=America/Denver:20260326T213000
DTSTAMP:20260425T052529
CREATED:20240820T153925Z
LAST-MODIFIED:20240820T153925Z
UID:10002496-1774549800-1774560600@glenwoodlibrary.com
SUMMARY:Songwriter’s Showcase
DESCRIPTION:Sign up @ 6:00pm\, must sign up in person\nCome showcase songs you’ve been working on.  Each participating writer will get the chance to play three original songs.
URL:https://glenwoodlibrary.com/event/songwriters-showcase-3/2026-03-26/
LOCATION:Whiskey Creek Zocalo\, 11786 Hwy 180 East\, Silver City\, New Mexico\, 88061
CATEGORIES:Music / Dance
ATTACH;FMTTYPE=image/jpeg:https://glenwoodlibrary.com/wp-content/uploads/2024/08/wcz-logo.jpg
END:VEVENT
BEGIN:VEVENT
DTSTART;TZID=America/Denver:20260226T183000
DTEND;TZID=America/Denver:20260226T213000
DTSTAMP:20260425T052529
CREATED:20240820T153925Z
LAST-MODIFIED:20240820T153925Z
UID:10002495-1772130600-1772141400@glenwoodlibrary.com
SUMMARY:Songwriter’s Showcase
DESCRIPTION:Sign up @ 6:00pm\, must sign up in person\nCome showcase songs you’ve been working on.  Each participating writer will get the chance to play three original songs.
URL:https://glenwoodlibrary.com/event/songwriters-showcase-3/2026-02-26/
LOCATION:Whiskey Creek Zocalo\, 11786 Hwy 180 East\, Silver City\, New Mexico\, 88061
CATEGORIES:Music / Dance
ATTACH;FMTTYPE=image/jpeg:https://glenwoodlibrary.com/wp-content/uploads/2024/08/wcz-logo.jpg
END:VEVENT
BEGIN:VEVENT
DTSTART;TZID=America/Denver:20260129T183000
DTEND;TZID=America/Denver:20260129T213000
DTSTAMP:20260425T052529
CREATED:20240820T153925Z
LAST-MODIFIED:20240820T153925Z
UID:10002494-1769711400-1769722200@glenwoodlibrary.com
SUMMARY:Songwriter’s Showcase
DESCRIPTION:Sign up @ 6:00pm\, must sign up in person\nCome showcase songs you’ve been working on.  Each participating writer will get the chance to play three original songs.
URL:https://glenwoodlibrary.com/event/songwriters-showcase-3/2026-01-29/
LOCATION:Whiskey Creek Zocalo\, 11786 Hwy 180 East\, Silver City\, New Mexico\, 88061
CATEGORIES:Music / Dance
ATTACH;FMTTYPE=image/jpeg:https://glenwoodlibrary.com/wp-content/uploads/2024/08/wcz-logo.jpg
END:VEVENT
BEGIN:VEVENT
DTSTART;TZID=America/Denver:20251127T183000
DTEND;TZID=America/Denver:20251127T213000
DTSTAMP:20260425T052529
CREATED:20240820T153925Z
LAST-MODIFIED:20240820T153925Z
UID:10002492-1764268200-1764279000@glenwoodlibrary.com
SUMMARY:Songwriter’s Showcase
DESCRIPTION:Sign up @ 6:00pm\, must sign up in person\nCome showcase songs you’ve been working on.  Each participating writer will get the chance to play three original songs.
URL:https://glenwoodlibrary.com/event/songwriters-showcase-3/2025-11-27/
LOCATION:Whiskey Creek Zocalo\, 11786 Hwy 180 East\, Silver City\, New Mexico\, 88061
CATEGORIES:Music / Dance
ATTACH;FMTTYPE=image/jpeg:https://glenwoodlibrary.com/wp-content/uploads/2024/08/wcz-logo.jpg
END:VEVENT
BEGIN:VEVENT
DTSTART;TZID=America/Denver:20251030T183000
DTEND;TZID=America/Denver:20251030T213000
DTSTAMP:20260425T052529
CREATED:20240820T153925Z
LAST-MODIFIED:20240820T153925Z
UID:10002491-1761849000-1761859800@glenwoodlibrary.com
SUMMARY:Songwriter’s Showcase
DESCRIPTION:Sign up @ 6:00pm\, must sign up in person\nCome showcase songs you’ve been working on.  Each participating writer will get the chance to play three original songs.
URL:https://glenwoodlibrary.com/event/songwriters-showcase-3/2025-10-30/
LOCATION:Whiskey Creek Zocalo\, 11786 Hwy 180 East\, Silver City\, New Mexico\, 88061
CATEGORIES:Music / Dance
ATTACH;FMTTYPE=image/jpeg:https://glenwoodlibrary.com/wp-content/uploads/2024/08/wcz-logo.jpg
END:VEVENT
BEGIN:VEVENT
DTSTART;TZID=America/Denver:20251001T190000
DTEND;TZID=America/Denver:20251001T220000
DTSTAMP:20260425T052529
CREATED:20250610T151946Z
LAST-MODIFIED:20250610T151946Z
UID:10005479-1759345200-1759356000@glenwoodlibrary.com
SUMMARY:LA LOM
DESCRIPTION:he Los Angeles League of Musicians\, LA LOM\, are an instrumental trio formed in Los Angeles in 2021. They blend the sounds of Cumbia Sonidera\, 60’s soul ballads and classic romantic boleros that emanate from radios\, backyard parties and dance clubs of Los Angeles with the twang of Peruvian Chicha and Bakersfield Country.
URL:https://glenwoodlibrary.com/event/la-lom/
LOCATION:Whiskey Creek Zocalo\, 11786 Hwy 180 East\, Silver City\, New Mexico\, 88061
CATEGORIES:Music / Dance
ATTACH;FMTTYPE=image/jpeg:https://glenwoodlibrary.com/wp-content/uploads/2025/06/wcz-lalom-100125.jpg
END:VEVENT
BEGIN:VEVENT
DTSTART;TZID=America/Denver:20250925T183000
DTEND;TZID=America/Denver:20250925T213000
DTSTAMP:20260425T052529
CREATED:20240820T153925Z
LAST-MODIFIED:20240820T153925Z
UID:10002490-1758825000-1758835800@glenwoodlibrary.com
SUMMARY:Songwriter’s Showcase
DESCRIPTION:Sign up @ 6:00pm\, must sign up in person\nCome showcase songs you’ve been working on.  Each participating writer will get the chance to play three original songs.
URL:https://glenwoodlibrary.com/event/songwriters-showcase-3/2025-09-25/
LOCATION:Whiskey Creek Zocalo\, 11786 Hwy 180 East\, Silver City\, New Mexico\, 88061
CATEGORIES:Music / Dance
ATTACH;FMTTYPE=image/jpeg:https://glenwoodlibrary.com/wp-content/uploads/2024/08/wcz-logo.jpg
END:VEVENT
BEGIN:VEVENT
DTSTART;TZID=America/Denver:20250828T183000
DTEND;TZID=America/Denver:20250828T213000
DTSTAMP:20260425T052529
CREATED:20240820T153925Z
LAST-MODIFIED:20240820T153925Z
UID:10002489-1756405800-1756416600@glenwoodlibrary.com
SUMMARY:Songwriter’s Showcase
DESCRIPTION:Sign up @ 6:00pm\, must sign up in person\nCome showcase songs you’ve been working on.  Each participating writer will get the chance to play three original songs.
URL:https://glenwoodlibrary.com/event/songwriters-showcase-3/2025-08-28/
LOCATION:Whiskey Creek Zocalo\, 11786 Hwy 180 East\, Silver City\, New Mexico\, 88061
CATEGORIES:Music / Dance
ATTACH;FMTTYPE=image/jpeg:https://glenwoodlibrary.com/wp-content/uploads/2024/08/wcz-logo.jpg
END:VEVENT
BEGIN:VEVENT
DTSTART;TZID=America/Denver:20250731T183000
DTEND;TZID=America/Denver:20250731T213000
DTSTAMP:20260425T052529
CREATED:20240820T153925Z
LAST-MODIFIED:20240820T153925Z
UID:10002488-1753986600-1753997400@glenwoodlibrary.com
SUMMARY:Songwriter’s Showcase
DESCRIPTION:Sign up @ 6:00pm\, must sign up in person\nCome showcase songs you’ve been working on.  Each participating writer will get the chance to play three original songs.
URL:https://glenwoodlibrary.com/event/songwriters-showcase-3/2025-07-31/
LOCATION:Whiskey Creek Zocalo\, 11786 Hwy 180 East\, Silver City\, New Mexico\, 88061
CATEGORIES:Music / Dance
ATTACH;FMTTYPE=image/jpeg:https://glenwoodlibrary.com/wp-content/uploads/2024/08/wcz-logo.jpg
END:VEVENT
BEGIN:VEVENT
DTSTART;TZID=America/Denver:20250626T183000
DTEND;TZID=America/Denver:20250626T213000
DTSTAMP:20260425T052529
CREATED:20240820T153925Z
LAST-MODIFIED:20240820T153925Z
UID:10002487-1750962600-1750973400@glenwoodlibrary.com
SUMMARY:Songwriter’s Showcase
DESCRIPTION:Sign up @ 6:00pm\, must sign up in person\nCome showcase songs you’ve been working on.  Each participating writer will get the chance to play three original songs.
URL:https://glenwoodlibrary.com/event/songwriters-showcase-3/2025-06-26/
LOCATION:Whiskey Creek Zocalo\, 11786 Hwy 180 East\, Silver City\, New Mexico\, 88061
CATEGORIES:Music / Dance
ATTACH;FMTTYPE=image/jpeg:https://glenwoodlibrary.com/wp-content/uploads/2024/08/wcz-logo.jpg
END:VEVENT
BEGIN:VEVENT
DTSTART;TZID=America/Denver:20250529T183000
DTEND;TZID=America/Denver:20250529T213000
DTSTAMP:20260425T052529
CREATED:20240820T153925Z
LAST-MODIFIED:20240820T153925Z
UID:10002486-1748543400-1748554200@glenwoodlibrary.com
SUMMARY:Songwriter’s Showcase
DESCRIPTION:Sign up @ 6:00pm\, must sign up in person\nCome showcase songs you’ve been working on.  Each participating writer will get the chance to play three original songs.
URL:https://glenwoodlibrary.com/event/songwriters-showcase-3/2025-05-29/
LOCATION:Whiskey Creek Zocalo\, 11786 Hwy 180 East\, Silver City\, New Mexico\, 88061
CATEGORIES:Music / Dance
ATTACH;FMTTYPE=image/jpeg:https://glenwoodlibrary.com/wp-content/uploads/2024/08/wcz-logo.jpg
END:VEVENT
BEGIN:VEVENT
DTSTART;TZID=America/Denver:20250424T183000
DTEND;TZID=America/Denver:20250424T213000
DTSTAMP:20260425T052529
CREATED:20240820T153925Z
LAST-MODIFIED:20240820T153925Z
UID:10002485-1745519400-1745530200@glenwoodlibrary.com
SUMMARY:Songwriter’s Showcase
DESCRIPTION:Sign up @ 6:00pm\, must sign up in person\nCome showcase songs you’ve been working on.  Each participating writer will get the chance to play three original songs.
URL:https://glenwoodlibrary.com/event/songwriters-showcase-3/2025-04-24/
LOCATION:Whiskey Creek Zocalo\, 11786 Hwy 180 East\, Silver City\, New Mexico\, 88061
CATEGORIES:Music / Dance
ATTACH;FMTTYPE=image/jpeg:https://glenwoodlibrary.com/wp-content/uploads/2024/08/wcz-logo.jpg
END:VEVENT
BEGIN:VEVENT
DTSTART;TZID=America/Denver:20250329T190000
DTEND;TZID=America/Denver:20250329T220000
DTSTAMP:20260425T052529
CREATED:20250207T203637Z
LAST-MODIFIED:20250207T203637Z
UID:10004416-1743274800-1743285600@glenwoodlibrary.com
SUMMARY:Lola Kirke Trailblazer Tour
DESCRIPTION:
URL:https://glenwoodlibrary.com/event/lola-kirke-trailblazer-tour/
LOCATION:Whiskey Creek Zocalo\, 11786 Hwy 180 East\, Silver City\, New Mexico\, 88061
CATEGORIES:Music / Dance
ATTACH;FMTTYPE=image/jpeg:https://glenwoodlibrary.com/wp-content/uploads/2025/02/Lola-Kirke-032925.jpeg
END:VEVENT
BEGIN:VEVENT
DTSTART;TZID=America/Denver:20250327T183000
DTEND;TZID=America/Denver:20250327T213000
DTSTAMP:20260425T052529
CREATED:20240820T153925Z
LAST-MODIFIED:20240820T153925Z
UID:10002484-1743100200-1743111000@glenwoodlibrary.com
SUMMARY:Songwriter’s Showcase
DESCRIPTION:Sign up @ 6:00pm\, must sign up in person\nCome showcase songs you’ve been working on.  Each participating writer will get the chance to play three original songs.
URL:https://glenwoodlibrary.com/event/songwriters-showcase-3/2025-03-27/
LOCATION:Whiskey Creek Zocalo\, 11786 Hwy 180 East\, Silver City\, New Mexico\, 88061
CATEGORIES:Music / Dance
ATTACH;FMTTYPE=image/jpeg:https://glenwoodlibrary.com/wp-content/uploads/2024/08/wcz-logo.jpg
END:VEVENT
BEGIN:VEVENT
DTSTART;TZID=America/Denver:20250228T190000
DTEND;TZID=America/Denver:20250228T220000
DTSTAMP:20260425T052529
CREATED:20250207T220936Z
LAST-MODIFIED:20250207T220936Z
UID:10004437-1740769200-1740780000@glenwoodlibrary.com
SUMMARY:Spank Arizona Dance Punk
DESCRIPTION:
URL:https://glenwoodlibrary.com/event/spank-arizona-dance-punk/
LOCATION:Whiskey Creek Zocalo\, 11786 Hwy 180 East\, Silver City\, New Mexico\, 88061
CATEGORIES:Music / Dance
ATTACH;FMTTYPE=image/jpeg:https://glenwoodlibrary.com/wp-content/uploads/2025/02/wcz-Spank-022825.jpg
END:VEVENT
BEGIN:VEVENT
DTSTART;TZID=America/Denver:20250227T200000
DTEND;TZID=America/Denver:20250227T230000
DTSTAMP:20260425T052529
CREATED:20250207T220646Z
LAST-MODIFIED:20250207T221421Z
UID:10004436-1740686400-1740697200@glenwoodlibrary.com
SUMMARY:Ceekay Jones
DESCRIPTION:
URL:https://glenwoodlibrary.com/event/ceekay-jones/
LOCATION:Whiskey Creek Zocalo\, 11786 Hwy 180 East\, Silver City\, New Mexico\, 88061
CATEGORIES:Music / Dance
ATTACH;FMTTYPE=image/jpeg:https://glenwoodlibrary.com/wp-content/uploads/2025/02/wcz-Ceekay-Jones-022725.jpg
END:VEVENT
BEGIN:VEVENT
DTSTART;TZID=America/Denver:20250227T183000
DTEND;TZID=America/Denver:20250227T213000
DTSTAMP:20260425T052529
CREATED:20240820T153925Z
LAST-MODIFIED:20240820T153925Z
UID:10002483-1740681000-1740691800@glenwoodlibrary.com
SUMMARY:Songwriter’s Showcase
DESCRIPTION:Sign up @ 6:00pm\, must sign up in person\nCome showcase songs you’ve been working on.  Each participating writer will get the chance to play three original songs.
URL:https://glenwoodlibrary.com/event/songwriters-showcase-3/2025-02-27/
LOCATION:Whiskey Creek Zocalo\, 11786 Hwy 180 East\, Silver City\, New Mexico\, 88061
CATEGORIES:Music / Dance
ATTACH;FMTTYPE=image/jpeg:https://glenwoodlibrary.com/wp-content/uploads/2024/08/wcz-logo.jpg
END:VEVENT
BEGIN:VEVENT
DTSTART;TZID=America/Denver:20250223T130000
DTEND;TZID=America/Denver:20250223T150000
DTSTAMP:20260425T052529
CREATED:20250207T220407Z
LAST-MODIFIED:20250207T221500Z
UID:10004435-1740315600-1740322800@glenwoodlibrary.com
SUMMARY:Jazz Brunch w/ John Mitchell & Friends
DESCRIPTION:
URL:https://glenwoodlibrary.com/event/jazz-brunch-w-john-mitchell-friends/
LOCATION:Whiskey Creek Zocalo\, 11786 Hwy 180 East\, Silver City\, New Mexico\, 88061
CATEGORIES:Author / Artist Event,Music / Dance
ATTACH;FMTTYPE=image/jpeg:https://glenwoodlibrary.com/wp-content/uploads/2025/02/wcz-John-Mitchell-022525.jpg
END:VEVENT
BEGIN:VEVENT
DTSTART;TZID=America/Denver:20250221T173000
DTEND;TZID=America/Denver:20250221T203000
DTSTAMP:20260425T052529
CREATED:20250207T220201Z
LAST-MODIFIED:20250207T221529Z
UID:10004434-1740159000-1740169800@glenwoodlibrary.com
SUMMARY:Poetic Outlaws Open Mic
DESCRIPTION:
URL:https://glenwoodlibrary.com/event/poetic-outlaws-open-mic/
LOCATION:Whiskey Creek Zocalo\, 11786 Hwy 180 East\, Silver City\, New Mexico\, 88061
CATEGORIES:Author / Artist Event
ATTACH;FMTTYPE=image/jpeg:https://glenwoodlibrary.com/wp-content/uploads/2025/02/wcz-poetic-oulaws-022125.jpg
END:VEVENT
BEGIN:VEVENT
DTSTART;TZID=America/Denver:20250215T190000
DTEND;TZID=America/Denver:20250215T220000
DTSTAMP:20260425T052529
CREATED:20250207T215910Z
LAST-MODIFIED:20250207T221600Z
UID:10004433-1739646000-1739656800@glenwoodlibrary.com
SUMMARY:Alma Russ
DESCRIPTION:
URL:https://glenwoodlibrary.com/event/alma-russ/
LOCATION:Whiskey Creek Zocalo\, 11786 Hwy 180 East\, Silver City\, New Mexico\, 88061
CATEGORIES:Music / Dance
ATTACH;FMTTYPE=image/jpeg:https://glenwoodlibrary.com/wp-content/uploads/2025/02/wcz-Alma-Russ-021525.jpg
END:VEVENT
BEGIN:VEVENT
DTSTART;TZID=America/Denver:20250212T190000
DTEND;TZID=America/Denver:20250212T220000
DTSTAMP:20260425T052529
CREATED:20250207T215622Z
LAST-MODIFIED:20250207T221635Z
UID:10004432-1739386800-1739397600@glenwoodlibrary.com
SUMMARY:Carsie Blanton
DESCRIPTION:
URL:https://glenwoodlibrary.com/event/carsie-blanton/
LOCATION:Whiskey Creek Zocalo\, 11786 Hwy 180 East\, Silver City\, New Mexico\, 88061
CATEGORIES:Music / Dance
ATTACH;FMTTYPE=image/jpeg:https://glenwoodlibrary.com/wp-content/uploads/2025/02/wcz-carsie-blanton-021225.jpg
END:VEVENT
BEGIN:VEVENT
DTSTART;TZID=America/Denver:20250208T190000
DTEND;TZID=America/Denver:20250208T220000
DTSTAMP:20260425T052529
CREATED:20250207T201947Z
LAST-MODIFIED:20250207T201947Z
UID:10004412-1739041200-1739052000@glenwoodlibrary.com
SUMMARY:Kayla Von Der Heide Americana
DESCRIPTION:
URL:https://glenwoodlibrary.com/event/kayla-von-der-heide-americana/
LOCATION:Whiskey Creek Zocalo\, 11786 Hwy 180 East\, Silver City\, New Mexico\, 88061
CATEGORIES:Music / Dance
ATTACH;FMTTYPE=image/jpeg:https://glenwoodlibrary.com/wp-content/uploads/2025/02/Von-Der-Heide-020825.jpg
END:VEVENT
BEGIN:VEVENT
DTSTART;TZID=America/Denver:20250130T183000
DTEND;TZID=America/Denver:20250130T213000
DTSTAMP:20260425T052529
CREATED:20240820T153925Z
LAST-MODIFIED:20240820T153925Z
UID:10002482-1738261800-1738272600@glenwoodlibrary.com
SUMMARY:Songwriter’s Showcase
DESCRIPTION:Sign up @ 6:00pm\, must sign up in person\nCome showcase songs you’ve been working on.  Each participating writer will get the chance to play three original songs.
URL:https://glenwoodlibrary.com/event/songwriters-showcase-3/2025-01-30/
LOCATION:Whiskey Creek Zocalo\, 11786 Hwy 180 East\, Silver City\, New Mexico\, 88061
CATEGORIES:Music / Dance
ATTACH;FMTTYPE=image/jpeg:https://glenwoodlibrary.com/wp-content/uploads/2024/08/wcz-logo.jpg
END:VEVENT
BEGIN:VEVENT
DTSTART;TZID=America/Denver:20241231T180000
DTEND;TZID=America/Denver:20250101T003000
DTSTAMP:20260425T052529
CREATED:20250207T204428Z
LAST-MODIFIED:20250207T204428Z
UID:10004419-1735668000-1735691400@glenwoodlibrary.com
SUMMARY:Near Year's Eve Dance Party
DESCRIPTION:
URL:https://glenwoodlibrary.com/event/near-years-eve-dance-party/
LOCATION:Whiskey Creek Zocalo\, 11786 Hwy 180 East\, Silver City\, New Mexico\, 88061
CATEGORIES:Celebration,Holiday Event,Music / Dance
ATTACH;FMTTYPE=image/jpeg:https://glenwoodlibrary.com/wp-content/uploads/2025/02/wcz-nye-party-123124.jpeg
END:VEVENT
BEGIN:VEVENT
DTSTART;TZID=America/Denver:20241226T183000
DTEND;TZID=America/Denver:20241226T213000
DTSTAMP:20260425T052529
CREATED:20240820T153925Z
LAST-MODIFIED:20240820T153925Z
UID:10002481-1735237800-1735248600@glenwoodlibrary.com
SUMMARY:Songwriter’s Showcase
DESCRIPTION:Sign up @ 6:00pm\, must sign up in person\nCome showcase songs you’ve been working on.  Each participating writer will get the chance to play three original songs.
URL:https://glenwoodlibrary.com/event/songwriters-showcase-3/2024-12-26/
LOCATION:Whiskey Creek Zocalo\, 11786 Hwy 180 East\, Silver City\, New Mexico\, 88061
CATEGORIES:Music / Dance
ATTACH;FMTTYPE=image/jpeg:https://glenwoodlibrary.com/wp-content/uploads/2024/08/wcz-logo.jpg
END:VEVENT
BEGIN:VEVENT
DTSTART;TZID=America/Denver:20241221T170000
DTEND;TZID=America/Denver:20241221T180000
DTSTAMP:20260425T052529
CREATED:20250207T214101Z
LAST-MODIFIED:20250207T214101Z
UID:10004430-1734800400-1734804000@glenwoodlibrary.com
SUMMARY:Luminarias / Farolitos Lighting
DESCRIPTION:
URL:https://glenwoodlibrary.com/event/luminarias-farolitos-lighting/
LOCATION:Whiskey Creek Zocalo\, 11786 Hwy 180 East\, Silver City\, New Mexico\, 88061
CATEGORIES:Holiday Event
ATTACH;FMTTYPE=image/jpeg:https://glenwoodlibrary.com/wp-content/uploads/2025/02/wcz-luminarias-122124.jpeg
END:VEVENT
BEGIN:VEVENT
DTSTART;TZID=America/Denver:20241031T183000
DTEND;TZID=America/Denver:20241031T213000
DTSTAMP:20260425T052529
CREATED:20240820T153925Z
LAST-MODIFIED:20240820T153925Z
UID:10002479-1730399400-1730410200@glenwoodlibrary.com
SUMMARY:Songwriter’s Showcase
DESCRIPTION:Sign up @ 6:00pm\, must sign up in person\nCome showcase songs you’ve been working on.  Each participating writer will get the chance to play three original songs.
URL:https://glenwoodlibrary.com/event/songwriters-showcase-3/2024-10-31/
LOCATION:Whiskey Creek Zocalo\, 11786 Hwy 180 East\, Silver City\, New Mexico\, 88061
CATEGORIES:Music / Dance
ATTACH;FMTTYPE=image/jpeg:https://glenwoodlibrary.com/wp-content/uploads/2024/08/wcz-logo.jpg
END:VEVENT
END:VCALENDAR